{"text_format":"1","workbook":"xlsx","n_sheets":2,"sheets":["Calendario","Datos"],"not_rendered":{"charts":0,"images":0,"macros":1,"external_links":0,"defined_names":18,"comments":0,"pivot_tables":0},"unopened":[],"bounds":{"document_bytes":16777216,"sheet_cells":100000,"rows_first":2000,"rows_last":500,"rows_between":2000,"halvings":0,"cell_chars":16384,"cell_head_chars":4096},"cells_cut":0,"cells_raw":0,"read":"whole","date_system":"1900"}

{"sheet":"Calendario","index":0,"n_rows":219,"n_cols":41,"rows_kept":219,"cut":false,"hidden":false,"merged":[[215,5,215,38],[77,5,77,38],[83,5,83,38],[89,5,89,38],[95,5,95,37],[101,5,101,37],[107,5,107,37],[113,5,113,38],[119,5,119,38],[125,5,125,38],[131,5,131,38],[137,5,137,38],[143,5,143,38],[149,5,149,37],[155,5,155,37],[161,5,161,37],[165,5,165,6],[183,5,183,6],[201,5,201,6],[203,5,203,38],[209,5,209,38],[167,5,167,38],[173,5,173,38],[179,5,179,38],[185,5,185,37],[191,5,191,37],[197,5,197,37],[75,5,75,6],[93,5,93,6],[111,5,111,6],[129,5,129,6],[147,5,147,6],[59,5,59,37],[65,5,65,37],[71,5,71,37],[39,5,39,6],[41,5,41,38],[47,5,47,38],[53,5,53,38],[57,5,57,6],[23,5,23,36],[29,5,29,36],[35,5,35,36],[5,5,5,38],[11,5,11,38],[17,5,17,38],[21,5,21,6],[0,40,0,43],[0,34,0,38],[0,30,0,33],[3,5,3,6],[0,5,0,18],[1,18,1,22]]}
[null,null," ",null,null,"ROL DE DIAS LIBRES POR JORNADA LABORAL",null,null,null,null,null,null,null,null,null,null,null,null,null,null,null,null,null,null,null,null,null,null,null,null,"AÑO",null,null,null,2020,null,null,null,null,null,{"$f":"TODAY()","v":"2020-05-06"}]
[null,null,null,null,null,"TRIMESTRE:","I"]
[]
["I",{"$f":"ROW()","v":4},{"$f":"ROW(A58)","v":58},null,null,{"$f":"UPPER(TEXT(K5,\"mmmm\"))","v":"ENERO"},null,null,{"$f":"IFERROR(LEFT(TEXT(I5,\"ddd\"), 2),\"\")","v":"mi"},"ju","vi","sá","do","lu","ma","mi","ju","vi","sá","do","lu","ma","mi","ju","vi","sá","do","lu","ma","mi","ju","vi","sá","do","lu","ma","mi","ju","vi"]
["x",null,null,null,null,"Nombre","N° de Emplado",null,{"$f":"DíasYSemanas+DATE(AñoCalendario,1,1)","v":"2020-01-01"},"2020-01-02","2020-01-03","2020-01-04","2020-01-05","2020-01-06","2020-01-07","2020-01-08","2020-01-09","2020-01-10","2020-01-11","2020-01-12","2020-01-13","2020-01-14","2020-01-15","2020-01-16","2020-01-17","2020-01-18","2020-01-19","2020-01-20","2020-01-21","2020-01-22","2020-01-23","2020-01-24","2020-01-25","2020-01-26","2020-01-27","2020-01-28","2020-01-29","2020-01-30","2020-01-31"]
["x",null,null,null,null,"ESCUADRA #1"]
[null,null,null,null,null,"ELLIOT GERARDO CAMPOS CRUZ",{"$f":"IFERROR(VLOOKUP(F7,Datos!$A$2:$B$40,2,FALSE),\"\")","v":1381}]
[null,null,null,null,null,"JORGE CAMPOS HERRA ",{"$f":"IFERROR(VLOOKUP(F8,Datos!$A$2:$B$40,2,FALSE),\"\")","v":736}]
[]
[null,null,null,null,null,null,{"$f":"IFERROR(VLOOKUP(F10,Datos!$A$2:$B$40,2,FALSE),\"\")","v":""}]
[null,null,null,null,null,null,{"$f":"IFERROR(VLOOKUP(F11,Datos!$A$2:$B$40,2,FALSE),\"\")","v":""}]
["x",null,null,null,null,"ESCUADRA #2"]
[null,null,null,null,null,null,{"$f":"IFERROR(VLOOKUP(F13,Datos!$A$2:$B$40,2,FALSE),\"\")","v":""}]
[]
[]
[]
[]
["x",null,null,null,null,"SUPLENTE (VACACIONES, INCAPACIDADES)"]
[]
[null,null,null,null,null,null,{"$f":"IFERROR(VLOOKUP(F20,Datos!$A$2:$B$40,2,FALSE),\"\")","v":""}]
[null,null,null,null,null,null,{"$f":"IFERROR(VLOOKUP(F21,Datos!$A$2:$B$40,2,FALSE),\"\")","v":""}]
["x",null,null,null,null,{"$f":"UPPER(TEXT(K23,\"mmmm\"))","v":"FEBRERO"},null,null,{"$f":"IFERROR(LEFT(TEXT(I23,\"ddd\"),2), \"\")","v":"sá"},"do","lu","ma","mi","ju","vi","sá","do","lu","ma","mi","ju","vi","sá","do","lu","ma","mi","ju","vi","sá","do","lu","ma","mi","ju","vi","sá"]
["x",null,null,null,null,"Nombre ","N° de Emplado",null,{"$f":"DíasYSemanas+DATE(AñoCalendario,2,1)","v":"2020-02-01"},"2020-02-02","2020-02-03","2020-02-04","2020-02-05","2020-02-06","2020-02-07","2020-02-08","2020-02-09","2020-02-10","2020-02-11","2020-02-12","2020-02-13","2020-02-14","2020-02-15","2020-02-16","2020-02-17","2020-02-18","2020-02-19","2020-02-20","2020-02-21","2020-02-22","2020-02-23","2020-02-24","2020-02-25","2020-02-26","2020-02-27","2020-02-28","2020-02-29"]
["x",null,null,null,null,"ESCUADRA #1"]
[null,null,null,null,null,null,{"$f":"IFERROR(VLOOKUP(F25,Datos!$A$2:$B$40,2,FALSE),\"\")","v":""}]
[null,null,null,null,null,null,{"$f":"IFERROR(VLOOKUP(F26,Datos!$A$2:$B$40,2,FALSE),\"\")","v":""}]
[]
[null,null,null,null,null,null,{"$f":"IFERROR(VLOOKUP(F28,Datos!$A$2:$B$40,2,FALSE),\"\")","v":""}]
[null,null,null,null,null,null,{"$f":"IFERROR(VLOOKUP(F29,Datos!$A$2:$B$40,2,FALSE),\"\")","v":""}]
["x",null,null,null,null,"ESCUADRA #2"]
[null,null,null,null,null,null,{"$f":"IFERROR(VLOOKUP(F31,Datos!$A$2:$B$40,2,FALSE),\"\")","v":""}]
[]
[]
[]
[]
["x",null,null,null,null,"SUPLENTE (VACACIONES, INCAPACIDADES)"]
[]
[null,null,null,null,null,null,{"$f":"IFERROR(VLOOKUP(F38,Datos!$A$2:$B$40,2,FALSE),\"\")","v":""}]
[null,null,null,null,null,null,{"$f":"IFERROR(VLOOKUP(F39,Datos!$A$2:$B$40,2,FALSE),\"\")","v":""}]
["x",null,null,null,null,{"$f":"UPPER(TEXT(K41,\"mmmm\"))","v":"MARZO"},null,null,{"$f":"IFERROR(LEFT(TEXT(I41,\"ddd\"),2), \"\")","v":"do"},"lu","ma","mi","ju","vi","sá","do","lu","ma","mi","ju","vi","sá","do","lu","ma","mi","ju","vi","sá","do","lu","ma","mi","ju","vi","sá","do","lu","ma"]
["x",null,null,null,null,"Nombre ","N° de Emplado",null,{"$f":"DíasYSemanas+DATE(AñoCalendario,3,1)","v":"2020-03-01"},"2020-03-02","2020-03-03","2020-03-04","2020-03-05","2020-03-06","2020-03-07","2020-03-08","2020-03-09","2020-03-10","2020-03-11","2020-03-12","2020-03-13","2020-03-14","2020-03-15","2020-03-16","2020-03-17","2020-03-18","2020-03-19","2020-03-20","2020-03-21","2020-03-22","2020-03-23","2020-03-24","2020-03-25","2020-03-26","2020-03-27","2020-03-28","2020-03-29","2020-03-30","2020-03-31"]
["x",null,null,null,null,"ESCUADRA #1"]
[null,null,null,null,null,null,{"$f":"IFERROR(VLOOKUP(F43,Datos!$A$2:$B$40,2,FALSE),\"\")","v":""}]
[null,null,null,null,null,null,{"$f":"IFERROR(VLOOKUP(F44,Datos!$A$2:$B$40,2,FALSE),\"\")","v":""}]
[]
[null,null,null,null,null,null,{"$f":"IFERROR(VLOOKUP(F46,Datos!$A$2:$B$40,2,FALSE),\"\")","v":""}]
[null,null,null,null,null,null,{"$f":"IFERROR(VLOOKUP(F47,Datos!$A$2:$B$40,2,FALSE),\"\")","v":""}]
["x",null,null,null,null,"ESCUADRA #2"]
[null,null,null,null,null,null,{"$f":"IFERROR(VLOOKUP(F49,Datos!$A$2:$B$40,2,FALSE),\"\")","v":""}]
[]
[]
[]
[]
["x",null,null,null,null,"SUPLENTE (VACACIONES, INCAPACIDADES)"]
[]
[null,null,null,null,null,null,{"$f":"IFERROR(VLOOKUP(F56,Datos!$A$2:$B$40,2,FALSE),\"\")","v":""}]
[null,null,null,null,null,null,{"$f":"IFERROR(VLOOKUP(F57,Datos!$A$2:$B$40,2,FALSE),\"\")","v":""}]
["II",{"$f":"ROW()","v":58},{"$f":"ROW(A112)","v":112},null,null,{"$f":"UPPER(TEXT(K59,\"mmmm\"))","v":"ABRIL"},null,null,{"$f":"IFERROR(LEFT(TEXT(I59,\"ddd\"),2), \"\")","v":"mi"},"ju","vi","sá","do","lu","ma","mi",{"$f":"IFERROR(LEFT(TEXT(Q59,\"ddd\"),2), \"\")","v":"ju"},"vi","sá","do","lu","ma","mi","ju","vi","sá","do","lu","ma","mi","ju","vi","sá","do","lu","ma","mi","ju"]
["x",null,null,null,null,"Nombre ","N° de Emplado",null,{"$f":"DíasYSemanas+DATE(AñoCalendario,4,1)","v":"2020-04-01"},"2020-04-02","2020-04-03","2020-04-04","2020-04-05","2020-04-06","2020-04-07","2020-04-08","2020-04-09","2020-04-10","2020-04-11","2020-04-12","2020-04-13","2020-04-14","2020-04-15","2020-04-16","2020-04-17","2020-04-18","2020-04-19","2020-04-20","2020-04-21","2020-04-22","2020-04-23","2020-04-24","2020-04-25","2020-04-26","2020-04-27","2020-04-28","2020-04-29","2020-04-30"]
["x",null,null,null,null,"ESCUADRA #1"]
[null,null,null,null,null,null,{"$f":"IFERROR(VLOOKUP(F61,Datos!$A$2:$B$40,2,FALSE),\"\")","v":""}]
[null,null,null,null,null,null,{"$f":"IFERROR(VLOOKUP(F62,Datos!$A$2:$B$40,2,FALSE),\"\")","v":""}]
[]
[null,null,null,null,null,null,{"$f":"IFERROR(VLOOKUP(F64,Datos!$A$2:$B$40,2,FALSE),\"\")","v":""}]
[null,null,null,null,null,null,{"$f":"IFERROR(VLOOKUP(F65,Datos!$A$2:$B$40,2,FALSE),\"\")","v":""}]
["x",null,null,null,null,"ESCUADRA #2"]
[null,null,null,null,null,null,{"$f":"IFERROR(VLOOKUP(F67,Datos!$A$2:$B$40,2,FALSE),\"\")","v":""}]
[]
[]
[]
[]
["x",null,null,null,null,"SUPLENTE (VACACIONES, INCAPACIDADES)"]
[]
[null,null,null,null,null,null,{"$f":"IFERROR(VLOOKUP(F74,Datos!$A$2:$B$40,2,FALSE),\"\")","v":""}]
[null,null,null,null,null,null,{"$f":"IFERROR(VLOOKUP(F75,Datos!$A$2:$B$40,2,FALSE),\"\")","v":""}]
["x",null,null,null,null,{"$f":"UPPER(TEXT(K77,\"mmmm\"))","v":"MAYO"},null,null,{"$f":"IFERROR(LEFT(TEXT(I77,\"ddd\"),2), \"\")","v":"vi"},"sá","do","lu","ma","mi","ju","vi","sá","do","lu","ma","mi","ju","vi","sá","do","lu","ma","mi","ju","vi","sá","do","lu","ma","mi","ju","vi","sá","do"]
["x",null,null,null,null,"Nombre ","N° de Emplado",null,{"$f":"DíasYSemanas+DATE(AñoCalendario,5,1)","v":"2020-05-01"},"2020-05-02","2020-05-03","2020-05-04","2020-05-05","2020-05-06","2020-05-07","2020-05-08","2020-05-09","2020-05-10","2020-05-11","2020-05-12","2020-05-13","2020-05-14","2020-05-15","2020-05-16","2020-05-17","2020-05-18","2020-05-19","2020-05-20","2020-05-21","2020-05-22","2020-05-23","2020-05-24","2020-05-25","2020-05-26","2020-05-27","2020-05-28","2020-05-29","2020-05-30","2020-05-31"]
["x",null,null,null,null,"ESCUADRA #1"]
[null,null,null,null,null,null,{"$f":"IFERROR(VLOOKUP(F79,Datos!$A$2:$B$40,2,FALSE),\"\")","v":""}]
[null,null,null,null,null,null,{"$f":"IFERROR(VLOOKUP(F80,Datos!$A$2:$B$40,2,FALSE),\"\")","v":""}]
[]
[null,null,null,null,null,null,{"$f":"IFERROR(VLOOKUP(F82,Datos!$A$2:$B$40,2,FALSE),\"\")","v":""}]
[null,null,null,null,null,null,{"$f":"IFERROR(VLOOKUP(F83,Datos!$A$2:$B$40,2,FALSE),\"\")","v":""}]
["x",null,null,null,null,"ESCUADRA #2"]
[null,null,null,null,null,null,{"$f":"IFERROR(VLOOKUP(F85,Datos!$A$2:$B$40,2,FALSE),\"\")","v":""}]
[]
[]
[]
[]
["x",null,null,null,null,"SUPLENTE (VACACIONES, INCAPACIDADES)"]
[]
[null,null,null,null,null,null,{"$f":"IFERROR(VLOOKUP(F92,Datos!$A$2:$B$40,2,FALSE),\"\")","v":""}]
[null,null,null,null,null,null,{"$f":"IFERROR(VLOOKUP(F93,Datos!$A$2:$B$40,2,FALSE),\"\")","v":""}]
["x",null,null,null,null,{"$f":"UPPER(TEXT(K95,\"mmmm\"))","v":"JUNIO"},null,null,{"$f":"IFERROR(LEFT(TEXT(I95,\"ddd\"),2), \"\")","v":"lu"},"ma","mi","ju","vi","sá","do","lu","ma","mi","ju","vi","sá","do","lu","ma","mi","ju","vi","sá","do","lu","ma","mi","ju","vi","sá","do","lu","ma"]
["x",null,null,null,null,"Nombre ","N° de Emplado",null,{"$f":"DíasYSemanas+DATE(AñoCalendario,6,1)","v":"2020-06-01"},"2020-06-02","2020-06-03","2020-06-04","2020-06-05","2020-06-06","2020-06-07","2020-06-08","2020-06-09","2020-06-10","2020-06-11","2020-06-12","2020-06-13","2020-06-14","2020-06-15","2020-06-16","2020-06-17","2020-06-18","2020-06-19","2020-06-20","2020-06-21","2020-06-22","2020-06-23","2020-06-24","2020-06-25","2020-06-26","2020-06-27","2020-06-28","2020-06-29","2020-06-30"]
["x",null,null,null,null,"ESCUADRA #1"]
[null,null,null,null,null,null,{"$f":"IFERROR(VLOOKUP(F97,Datos!$A$2:$B$40,2,FALSE),\"\")","v":""}]
[null,null,null,null,null,null,{"$f":"IFERROR(VLOOKUP(F98,Datos!$A$2:$B$40,2,FALSE),\"\")","v":""}]
[]
[null,null,null,null,null,null,{"$f":"IFERROR(VLOOKUP(F100,Datos!$A$2:$B$40,2,FALSE),\"\")","v":""}]
[null,null,null,null,null,null,{"$f":"IFERROR(VLOOKUP(F101,Datos!$A$2:$B$40,2,FALSE),\"\")","v":""}]
["x",null,null,null,null,"ESCUADRA #2"]
[null,null,null,null,null,null,{"$f":"IFERROR(VLOOKUP(F103,Datos!$A$2:$B$40,2,FALSE),\"\")","v":""}]
[]
[]
[]
[]
["x",null,null,null,null,"SUPLENTE (VACACIONES, INCAPACIDADES)"]
[]
[null,null,null,null,null,null,{"$f":"IFERROR(VLOOKUP(F110,Datos!$A$2:$B$40,2,FALSE),\"\")","v":""}]
[null,null,null,null,null,null,{"$f":"IFERROR(VLOOKUP(F111,Datos!$A$2:$B$40,2,FALSE),\"\")","v":""}]
["III",{"$f":"ROW()","v":112},{"$f":"ROW(A166)","v":166},null,null,{"$f":"UPPER(TEXT(K113,\"mmmm\"))","v":"JULIO"},null,null,{"$f":"IFERROR(LEFT(TEXT(I113,\"ddd\"),2), \"\")","v":"mi"},"ju","vi","sá","do","lu","ma","mi","ju","vi","sá","do","lu","ma","mi","ju","vi","sá","do","lu","ma","mi","ju","vi","sá","do","lu","ma","mi","ju","vi"]
["x",null,null,null,null,"Nombre ","N° de Emplado",null,{"$f":"DíasYSemanas+DATE(AñoCalendario,7,1)","v":"2020-07-01"},"2020-07-02","2020-07-03","2020-07-04","2020-07-05","2020-07-06","2020-07-07","2020-07-08","2020-07-09","2020-07-10","2020-07-11","2020-07-12","2020-07-13","2020-07-14","2020-07-15","2020-07-16","2020-07-17","2020-07-18","2020-07-19","2020-07-20","2020-07-21","2020-07-22","2020-07-23","2020-07-24","2020-07-25","2020-07-26","2020-07-27","2020-07-28","2020-07-29","2020-07-30","2020-07-31"]
["x",null,null,null,null,"ESCUADRA #1"]
[null,null,null,null,null,null,{"$f":"IFERROR(VLOOKUP(F115,Datos!$A$2:$B$40,2,FALSE),\"\")","v":""}]
[null,null,null,null,null,null,{"$f":"IFERROR(VLOOKUP(F116,Datos!$A$2:$B$40,2,FALSE),\"\")","v":""}]
[]
[null,null,null,null,null,null,{"$f":"IFERROR(VLOOKUP(F118,Datos!$A$2:$B$40,2,FALSE),\"\")","v":""}]
[null,null,null,null,null,null,{"$f":"IFERROR(VLOOKUP(F119,Datos!$A$2:$B$40,2,FALSE),\"\")","v":""}]
["x",null,null,null,null,"ESCUADRA #2"]
[null,null,null,null,null,null,{"$f":"IFERROR(VLOOKUP(F121,Datos!$A$2:$B$40,2,FALSE),\"\")","v":""}]
[]
[]
[]
[]
["x",null,null,null,null,"SUPLENTE (VACACIONES, INCAPACIDADES)"]
[]
[null,null,null,null,null,null,{"$f":"IFERROR(VLOOKUP(F128,Datos!$A$2:$B$40,2,FALSE),\"\")","v":""}]
[null,null,null,null,null,null,{"$f":"IFERROR(VLOOKUP(F129,Datos!$A$2:$B$40,2,FALSE),\"\")","v":""}]
["x",null,null,null,null,{"$f":"UPPER(TEXT(K131,\"mmmm\"))","v":"AGOSTO"},null,null,{"$f":"IFERROR(LEFT(TEXT(I131,\"ddd\"),2), \"\")","v":"sá"},"do","lu","ma","mi","ju","vi","sá","do","lu","ma","mi","ju","vi","sá","do","lu","ma","mi","ju","vi","sá","do","lu","ma","mi","ju","vi","sá","do","lu"]
["x",null,null,null,null,"Nombre ","N° de Emplado",null,{"$f":"DíasYSemanas+DATE(AñoCalendario,8,1)","v":"2020-08-01"},"2020-08-02","2020-08-03","2020-08-04","2020-08-05","2020-08-06","2020-08-07","2020-08-08","2020-08-09","2020-08-10","2020-08-11","2020-08-12","2020-08-13","2020-08-14","2020-08-15","2020-08-16","2020-08-17","2020-08-18","2020-08-19","2020-08-20","2020-08-21","2020-08-22","2020-08-23","2020-08-24","2020-08-25","2020-08-26","2020-08-27","2020-08-28","2020-08-29","2020-08-30","2020-08-31"]
["x",null,null,null,null,"ESCUADRA #1"]
[null,null,null,null,null,null,{"$f":"IFERROR(VLOOKUP(F133,Datos!$A$2:$B$40,2,FALSE),\"\")","v":""}]
[null,null,null,null,null,null,{"$f":"IFERROR(VLOOKUP(F134,Datos!$A$2:$B$40,2,FALSE),\"\")","v":""}]
[]
[null,null,null,null,null,null,{"$f":"IFERROR(VLOOKUP(F136,Datos!$A$2:$B$40,2,FALSE),\"\")","v":""}]
[null,null,null,null,null,null,{"$f":"IFERROR(VLOOKUP(F137,Datos!$A$2:$B$40,2,FALSE),\"\")","v":""}]
["x",null,null,null,null,"ESCUADRA #2"]
[null,null,null,null,null,null,{"$f":"IFERROR(VLOOKUP(F139,Datos!$A$2:$B$40,2,FALSE),\"\")","v":""}]
[]
[]
[]
[]
["x",null,null,null,null,"SUPLENTE (VACACIONES, INCAPACIDADES)"]
[]
[null,null,null,null,null,null,{"$f":"IFERROR(VLOOKUP(F146,Datos!$A$2:$B$40,2,FALSE),\"\")","v":""}]
[null,null,null,null,null,null,{"$f":"IFERROR(VLOOKUP(F147,Datos!$A$2:$B$40,2,FALSE),\"\")","v":""}]
["x",null,null,null,null,{"$f":"UPPER(TEXT(K149,\"mmmm\"))","v":"SEPTIEMBRE"},null,null,{"$f":"IFERROR(LEFT(TEXT(I149,\"ddd\"),2), \"\")","v":"ma"},"mi","ju","vi","sá","do","lu","ma","mi","ju","vi","sá","do","lu","ma","mi","ju","vi","sá","do","lu","ma","mi","ju","vi","sá","do","lu","ma","mi"]
["x",null,null,null,null,"Nombre ","N° de Emplado",null,{"$f":"DíasYSemanas+DATE(AñoCalendario,9,1)","v":"2020-09-01"},"2020-09-02","2020-09-03","2020-09-04","2020-09-05","2020-09-06","2020-09-07","2020-09-08","2020-09-09","2020-09-10","2020-09-11","2020-09-12","2020-09-13","2020-09-14","2020-09-15","2020-09-16","2020-09-17","2020-09-18","2020-09-19","2020-09-20","2020-09-21","2020-09-22","2020-09-23","2020-09-24","2020-09-25","2020-09-26","2020-09-27","2020-09-28","2020-09-29","2020-09-30"]
["x",null,null,null,null,"ESCUADRA #1"]
[null,null,null,null,null,null,{"$f":"IFERROR(VLOOKUP(F151,Datos!$A$2:$B$40,2,FALSE),\"\")","v":""}]
[null,null,null,null,null,null,{"$f":"IFERROR(VLOOKUP(F152,Datos!$A$2:$B$40,2,FALSE),\"\")","v":""}]
[]
[null,null,null,null,null,null,{"$f":"IFERROR(VLOOKUP(F154,Datos!$A$2:$B$40,2,FALSE),\"\")","v":""}]
[null,null,null,null,null,null,{"$f":"IFERROR(VLOOKUP(F155,Datos!$A$2:$B$40,2,FALSE),\"\")","v":""}]
["x",null,null,null,null,"ESCUADRA #2"]
[null,null,null,null,null,null,{"$f":"IFERROR(VLOOKUP(F157,Datos!$A$2:$B$40,2,FALSE),\"\")","v":""}]
[]
[]
[]
[]
["x",null,null,null,null,"SUPLENTE (VACACIONES, INCAPACIDADES)"]
[]
[null,null,null,null,null,null,{"$f":"IFERROR(VLOOKUP(F164,Datos!$A$2:$B$40,2,FALSE),\"\")","v":""}]
[null,null,null,null,null,null,{"$f":"IFERROR(VLOOKUP(F165,Datos!$A$2:$B$40,2,FALSE),\"\")","v":""}]
["IV",{"$f":"ROW()","v":166},{"$f":"ROW(A220)","v":220},null,null,{"$f":"UPPER(TEXT(K167,\"mmmm\"))","v":"OCTUBRE"},null,null,{"$f":"IFERROR(LEFT(TEXT(I167,\"ddd\"),2), \"\")","v":"ju"},"vi","sá","do","lu","ma","mi","ju","vi","sá","do","lu","ma","mi","ju","vi","sá","do","lu","ma","mi","ju","vi","sá","do","lu","ma","mi","ju","vi","sá"]
["x",null,null,null,null,"Nombre ","N° de Emplado",null,{"$f":"DíasYSemanas+DATE(AñoCalendario,10,1)","v":"2020-10-01"},"2020-10-02","2020-10-03","2020-10-04","2020-10-05","2020-10-06","2020-10-07","2020-10-08","2020-10-09","2020-10-10","2020-10-11","2020-10-12","2020-10-13","2020-10-14","2020-10-15","2020-10-16","2020-10-17","2020-10-18","2020-10-19","2020-10-20","2020-10-21","2020-10-22","2020-10-23","2020-10-24","2020-10-25","2020-10-26","2020-10-27","2020-10-28","2020-10-29","2020-10-30","2020-10-31"]
["x",null,null,null,null,"ESCUADRA #1"]
[null,null,null,null,null,null,{"$f":"IFERROR(VLOOKUP(F169,Datos!$A$2:$B$40,2,FALSE),\"\")","v":""}]
[null,null,null,null,null,null,{"$f":"IFERROR(VLOOKUP(F170,Datos!$A$2:$B$40,2,FALSE),\"\")","v":""}]
[]
[null,null,null,null,null,null,{"$f":"IFERROR(VLOOKUP(F172,Datos!$A$2:$B$40,2,FALSE),\"\")","v":""}]
[null,null,null,null,null,null,{"$f":"IFERROR(VLOOKUP(F173,Datos!$A$2:$B$40,2,FALSE),\"\")","v":""}]
["x",null,null,null,null,"ESCUADRA #2"]
[null,null,null,null,null,null,{"$f":"IFERROR(VLOOKUP(F175,Datos!$A$2:$B$40,2,FALSE),\"\")","v":""}]
[]
[]
[]
[]
["x",null,null,null,null,"SUPLENTE (VACACIONES, INCAPACIDADES)"]
[]
[null,null,null,null,null,null,{"$f":"IFERROR(VLOOKUP(F182,Datos!$A$2:$B$40,2,FALSE),\"\")","v":""}]
[null,null,null,null,null,null,{"$f":"IFERROR(VLOOKUP(F183,Datos!$A$2:$B$40,2,FALSE),\"\")","v":""}]
["x",null,null,null,null,{"$f":"UPPER(TEXT(K185,\"mmmm\"))","v":"NOVIEMBRE"},null,null,{"$f":"IFERROR(LEFT(TEXT(I185,\"ddd\"),2), \"\")","v":"do"},"lu","ma","mi","ju","vi","sá","do","lu","ma","mi","ju","vi","sá","do","lu","ma","mi","ju","vi","sá","do","lu","ma","mi","ju","vi","sá","do","lu"]
["x",null,null,null,null,"Nombre ","N° de Emplado",null,{"$f":"DíasYSemanas+DATE(AñoCalendario,11,1)","v":"2020-11-01"},"2020-11-02","2020-11-03","2020-11-04","2020-11-05","2020-11-06","2020-11-07","2020-11-08","2020-11-09","2020-11-10","2020-11-11","2020-11-12","2020-11-13","2020-11-14","2020-11-15","2020-11-16","2020-11-17","2020-11-18","2020-11-19","2020-11-20","2020-11-21","2020-11-22","2020-11-23","2020-11-24","2020-11-25","2020-11-26","2020-11-27","2020-11-28","2020-11-29","2020-11-30"]
["x",null,null,null,null,"ESCUADRA #1"]
[null,null,null,null,null,null,{"$f":"IFERROR(VLOOKUP(F187,Datos!$A$2:$B$40,2,FALSE),\"\")","v":""}]
[null,null,null,null,null,null,{"$f":"IFERROR(VLOOKUP(F188,Datos!$A$2:$B$40,2,FALSE),\"\")","v":""}]
[]
[null,null,null,null,null,null,{"$f":"IFERROR(VLOOKUP(F190,Datos!$A$2:$B$40,2,FALSE),\"\")","v":""}]
[null,null,null,null,null,null,{"$f":"IFERROR(VLOOKUP(F191,Datos!$A$2:$B$40,2,FALSE),\"\")","v":""}]
["x",null,null,null,null,"ESCUADRA #2"]
[null,null,null,null,null,null,{"$f":"IFERROR(VLOOKUP(F193,Datos!$A$2:$B$40,2,FALSE),\"\")","v":""}]
[]
[]
[]
[]
["x",null,null,null,null,"SUPLENTE (VACACIONES, INCAPACIDADES)"]
[]
[null,null,null,null,null,null,{"$f":"IFERROR(VLOOKUP(F200,Datos!$A$2:$B$40,2,FALSE),\"\")","v":""}]
[null,null,null,null,null,null,{"$f":"IFERROR(VLOOKUP(F201,Datos!$A$2:$B$40,2,FALSE),\"\")","v":""}]
["x",null,null,null,null,{"$f":"UPPER(TEXT(K203,\"mmmm\"))","v":"DICIEMBRE"},null,null,{"$f":"IFERROR(LEFT(TEXT(I203,\"ddd\"),2), \"\")","v":"ma"},"mi","ju","vi","sá","do","lu","ma","mi","ju","vi","sá","do","lu","ma","mi","ju","vi","sá","do","lu","ma","mi","ju","vi","sá","do","lu","ma","mi","ju"]
["x",null,null,null,null,"Nombre ","N° de Emplado",null,{"$f":"DíasYSemanas+DATE(AñoCalendario,12,1)","v":"2020-12-01"},"2020-12-02","2020-12-03","2020-12-04","2020-12-05","2020-12-06","2020-12-07","2020-12-08","2020-12-09","2020-12-10","2020-12-11","2020-12-12","2020-12-13","2020-12-14","2020-12-15","2020-12-16","2020-12-17","2020-12-18","2020-12-19","2020-12-20","2020-12-21","2020-12-22","2020-12-23","2020-12-24","2020-12-25","2020-12-26","2020-12-27","2020-12-28","2020-12-29","2020-12-30","2020-12-31"]
["x",null,null,null,null,"ESCUADRA #1"]
[null,null,null,null,null,null,{"$f":"IFERROR(VLOOKUP(F205,Datos!$A$2:$B$40,2,FALSE),\"\")","v":""}]
[null,null,null,null,null,null,{"$f":"IFERROR(VLOOKUP(F206,Datos!$A$2:$B$40,2,FALSE),\"\")","v":""}]
[]
[null,null,null,null,null,null,{"$f":"IFERROR(VLOOKUP(F208,Datos!$A$2:$B$40,2,FALSE),\"\")","v":""}]
[null,null,null,null,null,null,{"$f":"IFERROR(VLOOKUP(F209,Datos!$A$2:$B$40,2,FALSE),\"\")","v":""}]
["x",null,null,null,null,"ESCUADRA #2"]
[null,null,null,null,null,null,{"$f":"IFERROR(VLOOKUP(F211,Datos!$A$2:$B$40,2,FALSE),\"\")","v":""}]
[]
[]
[]
[]
["x",null,null,null,null,"SUPLENTE (VACACIONES, INCAPACIDADES)"]
[]
[null,null,null,null,null,null,{"$f":"IFERROR(VLOOKUP(F218,Datos!$A$2:$B$40,2,FALSE),\"\")","v":""}]
[null,null,null,null,null,null,{"$f":"IFERROR(VLOOKUP(F219,Datos!$A$2:$B$40,2,FALSE),\"\")","v":""}]

{"sheet":"Datos","index":1,"n_rows":14,"n_cols":12,"rows_kept":14,"cut":false,"hidden":false,"merged":[[0,3,0,4]]}
["Nombre ","N° de Emplado",null,"Fechas importantes"]
["ELLIOT GERARDO CAMPOS CRUZ",1381,null,"Fecha","Descripción",null,null,null,null,null,null,0]
["JORGE CAMPOS HERRA ",736,null,"2020-01-01","Año Nuevo"]
["LUIS EDUARDO CHACON BLANCO ",835,null,"2020-04-09","Jueves Santo"]
[null,null,null,"2020-04-10"," Viernes Santo"]
[null,null,null,"2020-04-11","Día de Juan Santamaría"]
[null,null,null,"2020-05-01"," Día del Trabajo"]
[null,null,null,"2020-07-25"," Anexión del Partido de Nicoya"]
[null,null,null,"2020-08-02","Día de la Virgen de los Ángeles"]
[null,null,null,"2020-08-15","Día de las Madres"]
[null,null,null,"2020-09-15","Día de la Independencia"]
[null,null,null,"2020-10-12","Día de las Culturas"]
[null,null,null,"2020-12-25","Día de Navidad"]
[null,null,null,"2021-01-01","Año Nuevo"]