{"text_format":"1","workbook":"xlsx","n_sheets":2,"sheets":["BINGO","DATOS"],"not_rendered":{"charts":0,"images":0,"macros":1,"external_links":0,"defined_names":1,"comments":0,"pivot_tables":0},"unopened":[],"bounds":{"document_bytes":16777216,"sheet_cells":100000,"rows_first":2000,"rows_last":500,"rows_between":2000,"halvings":0,"cell_chars":16384,"cell_head_chars":4096},"cells_cut":0,"cells_raw":0,"read":"whole","date_system":"1900"}

{"sheet":"BINGO","index":0,"n_rows":10,"n_cols":36,"rows_kept":10,"cut":false,"hidden":false,"merged":[[9,2,18,7],[9,8,18,17],[21,16,21,18]]}
[]
[null,1234]
[null,null,"B",1,2,3,4,5,6,7,8,9,10,11,12,13,14,15,null,{"$f":"IFERROR(VLOOKUP(D3,DATOS!$A$1:$A$500,1,0),\"\")","v":""},{"$f":"IFERROR(VLOOKUP(E3,DATOS!$A$1:$A$500,1,0),\"\")","v":""},{"$f":"IFERROR(VLOOKUP(F3,DATOS!$A$1:$A$500,1,0),\"\")","v":""},{"$f":"IFERROR(VLOOKUP(G3,DATOS!$A$1:$A$500,1,0),\"\")","v":""},{"$f":"IFERROR(VLOOKUP(H3,DATOS!$A$1:$A$500,1,0),\"\")","v":""},{"$f":"IFERROR(VLOOKUP(I3,DATOS!$A$1:$A$500,1,0),\"\")","v":""},{"$f":"IFERROR(VLOOKUP(J3,DATOS!$A$1:$A$500,1,0),\"\")","v":""},{"$f":"IFERROR(VLOOKUP(K3,DATOS!$A$1:$A$500,1,0),\"\")","v":""},{"$f":"IFERROR(VLOOKUP(L3,DATOS!$A$1:$A$500,1,0),\"\")","v":""},{"$f":"IFERROR(VLOOKUP(M3,DATOS!$A$1:$A$500,1,0),\"\")","v":""},{"$f":"IFERROR(VLOOKUP(N3,DATOS!$A$1:$A$500,1,0),\"\")","v":""},{"$f":"IFERROR(VLOOKUP(O3,DATOS!$A$1:$A$500,1,0),\"\")","v":""},{"$f":"IFERROR(VLOOKUP(P3,DATOS!$A$1:$A$500,1,0),\"\")","v":""},{"$f":"IFERROR(VLOOKUP(Q3,DATOS!$A$1:$A$500,1,0),\"\")","v":""},{"$f":"IFERROR(VLOOKUP(R3,DATOS!$A$1:$A$500,1,0),\"\")","v":""},{"$f":"IFERROR(VLOOKUP(S3,DATOS!$A$1:$A$500,1,0),\"\")","v":""},{"$f":"IFERROR(MATCH(LOOKUP(10000,DATOS!$A:$A),$D3:$R3,0),0)","v":0}]
[null,null,"I",16,17,18,19,20,21,22,23,24,25,26,27,28,29,30,null,{"$f":"IFERROR(VLOOKUP(D4,DATOS!$A$1:$A$500,1,0),\"\")","v":""},{"$f":"IFERROR(VLOOKUP(E4,DATOS!$A$1:$A$500,1,0),\"\")","v":""},{"$f":"IFERROR(VLOOKUP(F4,DATOS!$A$1:$A$500,1,0),\"\")","v":""},{"$f":"IFERROR(VLOOKUP(G4,DATOS!$A$1:$A$500,1,0),\"\")","v":""},{"$f":"IFERROR(VLOOKUP(H4,DATOS!$A$1:$A$500,1,0),\"\")","v":""},{"$f":"IFERROR(VLOOKUP(I4,DATOS!$A$1:$A$500,1,0),\"\")","v":""},{"$f":"IFERROR(VLOOKUP(J4,DATOS!$A$1:$A$500,1,0),\"\")","v":""},{"$f":"IFERROR(VLOOKUP(K4,DATOS!$A$1:$A$500,1,0),\"\")","v":""},{"$f":"IFERROR(VLOOKUP(L4,DATOS!$A$1:$A$500,1,0),\"\")","v":""},{"$f":"IFERROR(VLOOKUP(M4,DATOS!$A$1:$A$500,1,0),\"\")","v":""},{"$f":"IFERROR(VLOOKUP(N4,DATOS!$A$1:$A$500,1,0),\"\")","v":""},{"$f":"IFERROR(VLOOKUP(O4,DATOS!$A$1:$A$500,1,0),\"\")","v":""},{"$f":"IFERROR(VLOOKUP(P4,DATOS!$A$1:$A$500,1,0),\"\")","v":""},{"$f":"IFERROR(VLOOKUP(Q4,DATOS!$A$1:$A$500,1,0),\"\")","v":""},{"$f":"IFERROR(VLOOKUP(R4,DATOS!$A$1:$A$500,1,0),\"\")","v":""},{"$f":"IFERROR(VLOOKUP(S4,DATOS!$A$1:$A$500,1,0),\"\")","v":""},{"$f":"IFERROR(MATCH(LOOKUP(10000,DATOS!$A:$A),$D4:$R4,0),0)","v":0}]
[null,null,"N",31,32,33,34,35,36,37,38,39,40,41,42,43,44,45,null,{"$f":"IFERROR(VLOOKUP(D5,DATOS!$A$1:$A$500,1,0),\"\")","v":""},{"$f":"IFERROR(VLOOKUP(E5,DATOS!$A$1:$A$500,1,0),\"\")","v":""},{"$f":"IFERROR(VLOOKUP(F5,DATOS!$A$1:$A$500,1,0),\"\")","v":""},{"$f":"IFERROR(VLOOKUP(G5,DATOS!$A$1:$A$500,1,0),\"\")","v":""},{"$f":"IFERROR(VLOOKUP(H5,DATOS!$A$1:$A$500,1,0),\"\")","v":""},{"$f":"IFERROR(VLOOKUP(I5,DATOS!$A$1:$A$500,1,0),\"\")","v":""},{"$f":"IFERROR(VLOOKUP(J5,DATOS!$A$1:$A$500,1,0),\"\")","v":""},{"$f":"IFERROR(VLOOKUP(K5,DATOS!$A$1:$A$500,1,0),\"\")","v":""},{"$f":"IFERROR(VLOOKUP(L5,DATOS!$A$1:$A$500,1,0),\"\")","v":""},{"$f":"IFERROR(VLOOKUP(M5,DATOS!$A$1:$A$500,1,0),\"\")","v":""},{"$f":"IFERROR(VLOOKUP(N5,DATOS!$A$1:$A$500,1,0),\"\")","v":""},{"$f":"IFERROR(VLOOKUP(O5,DATOS!$A$1:$A$500,1,0),\"\")","v":""},{"$f":"IFERROR(VLOOKUP(P5,DATOS!$A$1:$A$500,1,0),\"\")","v":""},{"$f":"IFERROR(VLOOKUP(Q5,DATOS!$A$1:$A$500,1,0),\"\")","v":""},{"$f":"IFERROR(VLOOKUP(R5,DATOS!$A$1:$A$500,1,0),\"\")","v":""},{"$f":"IFERROR(VLOOKUP(S5,DATOS!$A$1:$A$500,1,0),\"\")","v":""},{"$f":"IFERROR(MATCH(LOOKUP(10000,DATOS!$A:$A),$D5:$R5,0),0)","v":0}]
[null,null,"G",46,47,48,49,50,51,52,53,54,55,56,57,58,59,60,null,{"$f":"IFERROR(VLOOKUP(D6,DATOS!$A$1:$A$500,1,0),\"\")","v":""},{"$f":"IFERROR(VLOOKUP(E6,DATOS!$A$1:$A$500,1,0),\"\")","v":""},{"$f":"IFERROR(VLOOKUP(F6,DATOS!$A$1:$A$500,1,0),\"\")","v":""},{"$f":"IFERROR(VLOOKUP(G6,DATOS!$A$1:$A$500,1,0),\"\")","v":""},{"$f":"IFERROR(VLOOKUP(H6,DATOS!$A$1:$A$500,1,0),\"\")","v":""},{"$f":"IFERROR(VLOOKUP(I6,DATOS!$A$1:$A$500,1,0),\"\")","v":""},{"$f":"IFERROR(VLOOKUP(J6,DATOS!$A$1:$A$500,1,0),\"\")","v":""},{"$f":"IFERROR(VLOOKUP(K6,DATOS!$A$1:$A$500,1,0),\"\")","v":""},{"$f":"IFERROR(VLOOKUP(L6,DATOS!$A$1:$A$500,1,0),\"\")","v":""},{"$f":"IFERROR(VLOOKUP(M6,DATOS!$A$1:$A$500,1,0),\"\")","v":""},{"$f":"IFERROR(VLOOKUP(N6,DATOS!$A$1:$A$500,1,0),\"\")","v":""},{"$f":"IFERROR(VLOOKUP(O6,DATOS!$A$1:$A$500,1,0),\"\")","v":""},{"$f":"IFERROR(VLOOKUP(P6,DATOS!$A$1:$A$500,1,0),\"\")","v":""},{"$f":"IFERROR(VLOOKUP(Q6,DATOS!$A$1:$A$500,1,0),\"\")","v":""},{"$f":"IFERROR(VLOOKUP(R6,DATOS!$A$1:$A$500,1,0),\"\")","v":""},{"$f":"IFERROR(VLOOKUP(S6,DATOS!$A$1:$A$500,1,0),\"\")","v":""},{"$f":"IFERROR(MATCH(LOOKUP(10000,DATOS!$A:$A),$D6:$R6,0),0)","v":0}]
[null,null,"O",61,62,63,64,65,66,67,68,69,70,71,72,73,74,75,null,{"$f":"IFERROR(VLOOKUP(D7,DATOS!$A$1:$A$500,1,0),\"\")","v":""},{"$f":"IFERROR(VLOOKUP(E7,DATOS!$A$1:$A$500,1,0),\"\")","v":""},{"$f":"IFERROR(VLOOKUP(F7,DATOS!$A$1:$A$500,1,0),\"\")","v":""},{"$f":"IFERROR(VLOOKUP(G7,DATOS!$A$1:$A$500,1,0),\"\")","v":""},{"$f":"IFERROR(VLOOKUP(H7,DATOS!$A$1:$A$500,1,0),\"\")","v":""},{"$f":"IFERROR(VLOOKUP(I7,DATOS!$A$1:$A$500,1,0),\"\")","v":""},{"$f":"IFERROR(VLOOKUP(J7,DATOS!$A$1:$A$500,1,0),\"\")","v":""},{"$f":"IFERROR(VLOOKUP(K7,DATOS!$A$1:$A$500,1,0),\"\")","v":""},{"$f":"IFERROR(VLOOKUP(L7,DATOS!$A$1:$A$500,1,0),\"\")","v":""},{"$f":"IFERROR(VLOOKUP(M7,DATOS!$A$1:$A$500,1,0),\"\")","v":""},{"$f":"IFERROR(VLOOKUP(N7,DATOS!$A$1:$A$500,1,0),\"\")","v":""},{"$f":"IFERROR(VLOOKUP(O7,DATOS!$A$1:$A$500,1,0),\"\")","v":""},{"$f":"IFERROR(VLOOKUP(P7,DATOS!$A$1:$A$500,1,0),\"\")","v":""},{"$f":"IFERROR(VLOOKUP(Q7,DATOS!$A$1:$A$500,1,0),\"\")","v":""},{"$f":"IFERROR(VLOOKUP(R7,DATOS!$A$1:$A$500,1,0),\"\")","v":""},{"$f":"IFERROR(VLOOKUP(S7,DATOS!$A$1:$A$500,1,0),\"\")","v":""},{"$f":"IFERROR(MATCH(LOOKUP(10000,DATOS!$A:$A),$D7:$R7,0),0)","v":0}]
[]
[]
[null,null,{"$f":"IF(MAX($AJ$3:$AJ$7)=0,\"\",INDEX($C$3:$AJ$7,MATCH(MAX($AJ$3:$AJ$7),$AJ$3:$AJ$7,0),1))","v":""}]

{"sheet":"DATOS","index":1,"n_rows":1,"n_cols":1,"rows_kept":1,"cut":false,"hidden":false,"merged":[]}
["Numero"]