{"text_format":"1","workbook":"xlsx","n_sheets":4,"sheets":["EXISTENCIAS","MOVIMIENTOS","R-SALIDAS","DATOS"],"not_rendered":{"charts":0,"images":1,"macros":1,"external_links":0,"defined_names":0,"comments":0,"pivot_tables":0},"unopened":[],"bounds":{"document_bytes":16777216,"sheet_cells":100000,"rows_first":2000,"rows_last":500,"rows_between":2000,"halvings":0,"cell_chars":16384,"cell_head_chars":4096},"cells_cut":0,"cells_raw":0,"read":"whole","date_system":"1900"}

{"sheet":"EXISTENCIAS","index":0,"n_rows":1179,"n_cols":7,"rows_kept":1179,"cut":false,"hidden":false,"merged":[]}
[]
[]
[]
[null,"CODIGO","DATOS X","DATOS X","DATOS X","DATOS X","STOCK"]
[null,1,null,null,null,null,2]
[null,2,null,null,null,null,28]
[null,3,null,null,null,null,0]
[null,4,null,null,null,null,0]
[null,5,null,null,null,null,24]
[null,6,null,null,null,null,50]
[null,7,null,null,null,null,0]
[null,8,null,null,null,null,47]
[null,9,null,null,null,null,42]
[null,10,null,null,null,null,34]
[null,11,null,null,null,null,50]
[null,12,null,null,null,null,0]
[null,13,null,null,null,null,72]
[null,14,null,null,null,null,47]
[null,15,null,null,null,null,162]
[null,16,null,null,null,null,99]
[null,17,null,null,null,null,1]
[null,18,null,null,null,null,118]
[null,19,null,null,null,null,86]
[null,20,null,null,null,null,114]
[null,21,null,null,null,null,114]
[null,22,null,null,null,null,137]
[null,23,null,null,null,null,115]
[null,24,null,null,null,null,118]
[null,25,null,null,null,null,101]
[null,26,null,null,null,null,133]
[null,27,null,null,null,null,124]
[null,28,null,null,null,null,158]
[null,29,null,null,null,null,146]
[null,30,null,null,null,null,109]
[null,31,null,null,null,null,62]
[null,32,null,null,null,null,62]
[null,33,null,null,null,null,92]
[null,34,null,null,null,null,34]
[null,35,null,null,null,null,58]
[null,36,null,null,null,null,31]
[null,37,null,null,null,null,29]
[null,38,null,null,null,null,37]
[null,39,null,null,null,null,110]
[null,40,null,null,null,null,23]
[null,41,null,null,null,null,1]
[null,42,null,null,null,null,52]
[null,43,null,null,null,null,42]
[null,44,null,null,null,null,60]
[null,45,null,null,null,null,42]
[null,46,null,null,null,null,49]
[null,47,null,null,null,null,30]
[null,48,null,null,null,null,21]
[null,49,null,null,null,null,51]
[null,50,null,null,null,null,39]
[null,51,null,null,null,null,30]
[null,52,null,null,null,null,28]
[null,53,null,null,null,null,30]
[null,54,null,null,null,null,32]
[null,55,null,null,null,null,69]
[null,56,null,null,null,null,65]
[null,57,null,null,null,null,118]
[null,58,null,null,null,null,7]
[null,59,null,null,null,null,25]
[null,60,null,null,null,null,63]
[null,61,null,null,null,null,6]
[null,62,null,null,null,null,17]
[null,63,null,null,null,null,7]
[null,64,null,null,null,null,30]
[null,65,null,null,null,null,11]
[null,66,null,null,null,null,13]
[null,67,null,null,null,null,16]
[null,68,null,null,null,null,15]
[null,69,null,null,null,null,6]
[null,70,null,null,null,null,31]
[null,71,null,null,null,null,0]
[null,72,null,null,null,null,0]
[null,73,null,null,null,null,51]
[null,74,null,null,null,null,0]
[null,75,null,null,null,null,0]
[null,76,null,null,null,null,0]
[null,77,null,null,null,null,0]
[null,78,null,null,null,null,0]
[null,79,null,null,null,null,0]
[null,80,null,null,null,null,0]
[null,81,null,null,null,null,0]
[null,82,null,null,null,null,23]
[null,83,null,null,null,null,10]
[null,84,null,null,null,null,0]
[null,85,null,null,null,null,6]
[null,86,null,null,null,null,0]
[null,87,null,null,null,null,0]
[null,88,null,null,null,null,14]
[null,89,null,null,null,null,16]
[null,90,null,null,null,null,10]
[null,91,null,null,null,null,24]
[null,92,null,null,null,null,0]
[null,93,null,null,null,null,8]
[null,94,null,null,null,null,0]
[null,95,null,null,null,null,26]
[null,96,null,null,null,null,17]
[null,97,null,null,null,null,0]
[null,98,null,null,null,null,26]
[null,99,null,null,null,null,11]
[null,100,null,null,null,null,23]
[null,101,null,null,null,null,47]
[null,102,null,null,null,null,53]
[null,103,null,null,null,null,46]
[null,104,null,null,null,null,34]
[null,105,null,null,null,null,20]
[null,106,null,null,null,null,49]
[null,107,null,null,null,null,19]
[null,108,null,null,null,null,29]
[null,109,null,null,null,null,6]
[null,110,null,null,null,null,0]
[null,111,null,null,null,null,80]
[null,112,null,null,null,null,78]
[null,113,null,null,null,null,71]
[null,114,null,null,null,null,0]
[null,115,null,null,null,null,17]
[null,116,null,null,null,null,25]
[null,117,null,null,null,null,68]
[null,118,null,null,null,null,24]
[null,119,null,null,null,null,10]
[null,120,null,null,null,null,99]
[null,121,null,null,null,null,59]
[null,122,null,null,null,null,74]
[null,123,null,null,null,null,28]
[null,124,null,null,null,null,19]
[null,125,null,null,null,null,0]
[null,126,null,null,null,null,31]
[null,127,null,null,null,null,33]
[null,128,null,null,null,null,30]
[null,129,null,null,null,null,64]
[null,130,null,null,null,null,43]
[null,131,null,null,null,null,71]
[null,132,null,null,null,null,54]
[null,133,null,null,null,null,54]
[null,134,null,null,null,null,75]
[null,135,null,null,null,null,21]
[null,136,null,null,null,null,40]
[null,137,null,null,null,null,8]
[null,138,null,null,null,null,17]
[null,139,null,null,null,null,74]
[null,140,null,null,null,null,66]
[null,141,null,null,null,null,22]
[null,142,null,null,null,null,20]
[null,143,null,null,null,null,30]
[null,144,null,null,null,null,0]
[null,145,null,null,null,null,11]
[null,146,null,null,null,null,17]
[null,147,null,null,null,null,33]
[null,148,null,null,null,null,44]
[null,149,null,null,null,null,83]
[null,150,null,null,null,null,2]
[null,151,null,null,null,null,0]
[null,152,null,null,null,null,18]
[null,153,null,null,null,null,10]
[null,154,null,null,null,null,28]
[null,155,null,null,null,null,62]
[null,156,null,null,null,null,50]
[null,157,null,null,null,null,11]
[null,158,null,null,null,null,26]
[null,159,null,null,null,null,15]
[null,160,null,null,null,null,157]
[null,161,null,null,null,null,6]
[null,162,null,null,null,null,38]
[null,163,null,null,null,null,0]
[null,164,null,null,null,null,28]
[null,165,null,null,null,null,14]
[null,166,null,null,null,null,3]
[null,167,null,null,null,null,10]
[null,168,null,null,null,null,4]
[null,169,null,null,null,null,7]
[null,170,null,null,null,null,29]
[null,171,null,null,null,null,85]
[null,172,null,null,null,null,0]
[null,173,null,null,null,null,20]
[null,174,null,null,null,null,35]
[null,175,null,null,null,null,0]
[null,176,null,null,null,null,20]
[null,177,null,null,null,null,25]
[null,178,null,null,null,null,0]
[null,179,null,null,null,null,0]
[null,180,null,null,null,null,7]
[null,181,null,null,null,null,8]
[null,182,null,null,null,null,0]
[null,183,null,null,null,null,6]
[null,184,null,null,null,null,7]
[null,185,null,null,null,null,9]
[null,186,null,null,null,null,0]
[null,187,null,null,null,null,0]
[null,188,null,null,null,null,4]
[null,189,null,null,null,null,4]
[null,190,null,null,null,null,48]
[null,191,null,null,null,null,0]
[null,192,null,null,null,null,16]
[null,193,null,null,null,null,3]
[null,194,null,null,null,null,20]
[null,195,null,null,null,null,2]
[null,196,null,null,null,null,4]
[null,197,null,null,null,null,20]
[null,198,null,null,null,null,10]
[null,199,null,null,null,null,4]
[null,200,null,null,null,null,40]
[null,201,null,null,null,null,0]
[null,202,null,null,null,null,6]
[null,203,null,null,null,null,0]
[null,204,null,null,null,null,7]
[null,205,null,null,null,null,23]
[null,206,null,null,null,null,0]
[null,207,null,null,null,null,5]
[null,208,null,null,null,null,0]
[null,209,null,null,null,null,5]
[null,210,null,null,null,null,11]
[null,211,null,null,null,null,9]
[null,212,null,null,null,null,0]
[null,213,null,null,null,null,5]
[null,214,null,null,null,null,7]
[null,215,null,null,null,null,8]
[null,216,null,null,null,null,0]
[null,217,null,null,null,null,0]
[null,218,null,null,null,null,12]
[null,219,null,null,null,null,0]
[null,220,null,null,null,null,9]
[null,221,null,null,null,null,0]
[null,222,null,null,null,null,0]
[null,223,null,null,null,null,0]
[null,224,null,null,null,null,23]
[null,225,null,null,null,null,0]
[null,226,null,null,null,null,0]
[null,227,null,null,null,null,0]
[null,228,null,null,null,null,0]
[null,229,null,null,null,null,0]
[null,230,null,null,null,null,2]
[null,231,null,null,null,null,15]
[null,232,null,null,null,null,0]
[null,233,null,null,null,null,11]
[null,234,null,null,null,null,0]
[null,235,null,null,null,null,0]
[null,236,null,null,null,null,3]
[null,237,null,null,null,null,1]
[null,238,null,null,null,null,16]
[null,239,null,null,null,null,19]
[null,240,null,null,null,null,0]
[null,241,null,null,null,null,0]
[null,242,null,null,null,null,10]
[null,243,null,null,null,null,0]
[null,244,null,null,null,null,14]
[null,245,null,null,null,null,0]
[null,246,null,null,null,null,8]
[null,247,null,null,null,null,44]
[null,248,null,null,null,null,16]
[null,249,null,null,null,null,12]
[null,250,null,null,null,null,0]
[null,251,null,null,null,null,11]
[null,252,null,null,null,null,0]
[null,253,null,null,null,null,42]
[null,254,null,null,null,null,0]
[null,255,null,null,null,null,20]
[null,256,null,null,null,null,6]
[null,257,null,null,null,null,1]
[null,258,null,null,null,null,25]
[null,259,null,null,null,null,20]
[null,260,null,null,null,null,16]
[null,261,null,null,null,null,0]
[null,262,null,null,null,null,2]
[null,263,null,null,null,null,0]
[null,264,null,null,null,null,0]
[null,265,null,null,null,null,2]
[null,266,null,null,null,null,0]
[null,267,null,null,null,null,10]
[null,268,null,null,null,null,102]
[null,269,null,null,null,null,6]
[null,270,null,null,null,null,13]
[null,271,null,null,null,null,0]
[null,272,null,null,null,null,38]
[null,273,null,null,null,null,0]
[null,274,null,null,null,null,0]
[null,275,null,null,null,null,8]
[null,276,null,null,null,null,0]
[null,277,null,null,null,null,12]
[null,278,null,null,null,null,34]
[null,279,null,null,null,null,7]
[null,280,null,null,null,null,0]
[null,281,null,null,null,null,0]
[null,282,null,null,null,null,0]
[null,283,null,null,null,null,0]
[null,284,null,null,null,null,0]
[null,285,null,null,null,null,0]
[null,286,null,null,null,null,0]
[null,287,null,null,null,null,0]
[null,288,null,null,null,null,0]
[null,289,null,null,null,null,0]
[null,290,null,null,null,null,0]
[null,291,null,null,null,null,0]
[null,292,null,null,null,null,0]
[null,293,null,null,null,null,7]
[null,294,null,null,null,null,69]
[null,295,null,null,null,null,0]
[null,296,null,null,null,null,13]
[null,297,null,null,null,null,0]
[null,298,null,null,null,null,0]
[null,299,null,null,null,null,12]
[null,300,null,null,null,null,0]
[null,301,null,null,null,null,0]
[null,302,null,null,null,null,32]
[null,303,null,null,null,null,0]
[null,304,null,null,null,null,0]
[null,305,null,null,null,null,43]
[null,306,null,null,null,null,2]
[null,307,null,null,null,null,0]
[null,308,null,null,null,null,12]
[null,309,null,null,null,null,2]
[null,310,null,null,null,null,0]
[null,311,null,null,null,null,0]
[null,312,null,null,null,null,6]
[null,313,null,null,null,null,50]
[null,314,null,null,null,null,8]
[null,315,null,null,null,null,13]
[null,316,null,null,null,null,33]
[null,317,null,null,null,null,0]
[null,318,null,null,null,null,0]
[null,319,null,null,null,null,0]
[null,320,null,null,null,null,0]
[null,321,null,null,null,null,33]
[null,322,null,null,null,null,0]
[null,323,null,null,null,null,67]
[null,324,null,null,null,null,57]
[null,325,null,null,null,null,34]
[null,326,null,null,null,null,27]
[null,327,null,null,null,null,22]
[null,328,null,null,null,null,0]
[null,329,null,null,null,null,9]
[null,330,null,null,null,null,41]
[null,331,null,null,null,null,50]
[null,332,null,null,null,null,0]
[null,333,null,null,null,null,15]
[null,334,null,null,null,null,40]
[null,335,null,null,null,null,30]
[null,336,null,null,null,null,11]
[null,337,null,null,null,null,3]
[null,338,null,null,null,null,14]
[null,339,null,null,null,null,30]
[null,340,null,null,null,null,23]
[null,341,null,null,null,null,78]
[null,342,null,null,null,null,42]
[null,343,null,null,null,null,107]
[null,344,null,null,null,null,18]
[null,345,null,null,null,null,86]
[null,346,null,null,null,null,58]
[null,347,null,null,null,null,117]
[null,348,null,null,null,null,7]
[null,349,null,null,null,null,96]
[null,350,null,null,null,null,7]
[null,351,null,null,null,null,89]
[null,352,null,null,null,null,18]
[null,353,null,null,null,null,49]
[null,354,null,null,null,null,16]
[null,355,null,null,null,null,66]
[null,356,null,null,null,null,0]
[null,357,null,null,null,null,131]
[null,358,null,null,null,null,42]
[null,359,null,null,null,null,122]
[null,360,null,null,null,null,124]
[null,361,null,null,null,null,85]
[null,362,null,null,null,null,66]
[null,363,null,null,null,null,62]
[null,364,null,null,null,null,0]
[null,365,null,null,null,null,1]
[null,366,null,null,null,null,57]
[null,367,null,null,null,null,0]
[null,368,null,null,null,null,26]
[null,369,null,null,null,null,70]
[null,370,null,null,null,null,82]
[null,371,null,null,null,null,5]
[null,372,null,null,null,null,24]
[null,373,null,null,null,null,17]
[null,374,null,null,null,null,16]
[null,375,null,null,null,null,5]
[null,376,null,null,null,null,2]
[null,377,null,null,null,null,7]
[null,378,null,null,null,null,20]
[null,379,null,null,null,null,4]
[null,380,null,null,null,null,0]
[null,381,null,null,null,null,0]
[null,382,null,null,null,null,50]
[null,383,null,null,null,null,8]
[null,384,null,null,null,null,79]
[null,385,null,null,null,null,74]
[null,386,null,null,null,null,39]
[null,387,null,null,null,null,31]
[null,388,null,null,null,null,92]
[null,389,null,null,null,null,45]
[null,390,null,null,null,null,6]
[null,391,null,null,null,null,48]
[null,392,null,null,null,null,220]
[null,393,null,null,null,null,184]
[null,394,null,null,null,null,51]
[null,395,null,null,null,null,361]
[null,396,null,null,null,null,348]
[null,397,null,null,null,null,137]
[null,398,null,null,null,null,275]
[null,399,null,null,null,null,174]
[null,400,null,null,null,null,452]
[null,401,null,null,null,null,285]
[null,402,null,null,null,null,128]
[null,403,null,null,null,null,243]
[null,404,null,null,null,null,444]
[null,405,null,null,null,null,328]
[null,406,null,null,null,null,216]
[null,407,null,null,null,null,76]
[null,408,null,null,null,null,36]
[null,409,null,null,null,null,59]
[null,410,null,null,null,null,49]
[null,411,null,null,null,null,79]
[null,412,null,null,null,null,120]
[null,413,null,null,null,null,130]
[null,414,null,null,null,null,69]
[null,415,null,null,null,null,31]
[null,416,null,null,null,null,31]
[null,417,null,null,null,null,18]
[null,418,null,null,null,null,63]
[null,419,null,null,null,null,38]
[null,420,null,null,null,null,9]
[null,421,null,null,null,null,52]
[null,422,null,null,null,null,0]
[null,423,null,null,null,null,23]
[null,424,null,null,null,null,32]
[null,425,null,null,null,null,36]
[null,426,null,null,null,null,14]
[null,427,null,null,null,null,32]
[null,428,null,null,null,null,34]
[null,429,null,null,null,null,30]
[null,430,null,null,null,null,21]
[null,431,null,null,null,null,40]
[null,432,null,null,null,null,36]
[null,433,null,null,null,null,51]
[null,434,null,null,null,null,40]
[null,435,null,null,null,null,38]
[null,436,null,null,null,null,10]
[null,437,null,null,null,null,3]
[null,438,null,null,null,null,4]
[null,439,null,null,null,null,0]
[null,440,null,null,null,null,0]
[null,441,null,null,null,null,0]
[null,442,null,null,null,null,0]
[null,443,null,null,null,null,0]
[null,444,null,null,null,null,32]
[null,445,null,null,null,null,30]
[null,446,null,null,null,null,7]
[null,447,null,null,null,null,4]
[null,448,null,null,null,null,19]
[null,449,null,null,null,null,31]
[null,450,null,null,null,null,16]
[null,451,null,null,null,null,25]
[null,452,null,null,null,null,28]
[null,453,null,null,null,null,101]
[null,454,null,null,null,null,120]
[null,455,null,null,null,null,28]
[null,456,null,null,null,null,90]
[null,457,null,null,null,null,178]
[null,458,null,null,null,null,124]
[null,459,null,null,null,null,86]
[null,460,null,null,null,null,77]
[null,461,null,null,null,null,55]
[null,462,null,null,null,null,45]
[null,463,null,null,null,null,42]
[null,464,null,null,null,null,25]
[null,465,null,null,null,null,71]
[null,466,null,null,null,null,184]
[null,467,null,null,null,null,264]
[null,468,null,null,null,null,92]
[null,469,null,null,null,null,212]
[null,470,null,null,null,null,153]
[null,471,null,null,null,null,111]
[null,472,null,null,null,null,145]
[null,473,null,null,null,null,48]
[null,474,null,null,null,null,29]
[null,475,null,null,null,null,61]
[null,476,null,null,null,null,106]
[null,477,null,null,null,null,78]
[null,478,null,null,null,null,18]
[null,479,null,null,null,null,78]
[null,480,null,null,null,null,80]
[null,481,null,null,null,null,33]
[null,482,null,null,null,null,77]
[null,483,null,null,null,null,103]
[null,484,null,null,null,null,19]
[null,485,null,null,null,null,35]
[null,486,null,null,null,null,46]
[null,487,null,null,null,null,94]
[null,488,null,null,null,null,47]
[null,489,null,null,null,null,18]
[null,490,null,null,null,null,29]
[null,491,null,null,null,null,1]
[null,492,null,null,null,null,20]
[null,493,null,null,null,null,18]
[null,494,null,null,null,null,47]
[null,495,null,null,null,null,2]
[null,496,null,null,null,null,30]
[null,497,null,null,null,null,26]
[null,498,null,null,null,null,25]
[null,499,null,null,null,null,14]
[null,500,null,null,null,null,9]
[null,501,null,null,null,null,0]
[null,502,null,null,null,null,0]
[null,503,null,null,null,null,0]
[null,504,null,null,null,null,0]
[null,505,null,null,null,null,7]
[null,506,null,null,null,null,0]
[null,507,null,null,null,null,0]
[null,508,null,null,null,null,0]
[null,509,null,null,null,null,0]
[null,510,null,null,null,null,0]
[null,511,null,null,null,null,0]
[null,512,null,null,null,null,0]
[null,513,null,null,null,null,0]
[null,514,null,null,null,null,8]
[null,515,null,null,null,null,5]
[null,516,null,null,null,null,0]
[null,517,null,null,null,null,7]
[null,518,null,null,null,null,0]
[null,519,null,null,null,null,21]
[null,520,null,null,null,null,1]
[null,521,null,null,null,null,5]
[null,522,null,null,null,null,25]
[null,523,null,null,null,null,5]
[null,524,null,null,null,null,10]
[null,525,null,null,null,null,15]
[null,526,null,null,null,null,5]
[null,527,null,null,null,null,19]
[null,528,null,null,null,null,20]
[null,529,null,null,null,null,9]
[null,530,null,null,null,null,25]
[null,531,null,null,null,null,34]
[null,532,null,null,null,null,6]
[null,533,null,null,null,null,14]
[null,534,null,null,null,null,0]
[null,535,null,null,null,null,142]
[null,536,null,null,null,null,108]
[null,537,null,null,null,null,0]
[null,538,null,null,null,null,0]
[null,539,null,null,null,null,0]
[null,540,null,null,null,null,5]
[null,541,null,null,null,null,0]
[null,542,null,null,null,null,0]
[null,543,null,null,null,null,11]
[null,544,null,null,null,null,1]
[null,545,null,null,null,null,10]
[null,546,null,null,null,null,14]
[null,547,null,null,null,null,10]
[null,548,null,null,null,null,0]
[null,549,null,null,null,null,0]
[null,550,null,null,null,null,18]
[null,551,null,null,null,null,2]
[null,552,null,null,null,null,24]
[null,553,null,null,null,null,5]
[null,554,null,null,null,null,5]
[null,555,null,null,null,null,0]
[null,556,null,null,null,null,0]
[null,557,null,null,null,null,0]
[null,558,null,null,null,null,0]
[null,559,null,null,null,null,0]
[null,560,null,null,null,null,0]
[null,561,null,null,null,null,0]
[null,562,null,null,null,null,10]
[null,563,null,null,null,null,5]
[null,564,null,null,null,null,2]
[null,565,null,null,null,null,15]
[null,566,null,null,null,null,1]
[null,567,null,null,null,null,0]
[null,568,null,null,null,null,7]
[null,569,null,null,null,null,21]
[null,570,null,null,null,null,0]
[null,571,null,null,null,null,3]
[null,572,null,null,null,null,0]
[null,573,null,null,null,null,35]
[null,574,null,null,null,null,0]
[null,575,null,null,null,null,0]
[null,576,null,null,null,null,6]
[null,577,null,null,null,null,0]
[null,578,null,null,null,null,0]
[null,579,null,null,null,null,27]
[null,580,null,null,null,null,18]
[null,581,null,null,null,null,0]
[null,582,null,null,null,null,0]
[null,583,null,null,null,null,0]
[null,584,null,null,null,null,24]
[null,585,null,null,null,null,0]
[null,586,null,null,null,null,0]
[null,587,null,null,null,null,0]
[null,588,null,null,null,null,0]
[null,589,null,null,null,null,0]
[null,590,null,null,null,null,0]
[null,591,null,null,null,null,0]
[null,592,null,null,null,null,45]
[null,593,null,null,null,null,0]
[null,594,null,null,null,null,2]
[null,595,null,null,null,null,31]
[null,596,null,null,null,null,0]
[null,597,null,null,null,null,0]
[null,598,null,null,null,null,0]
[null,599,null,null,null,null,7]
[null,600,null,null,null,null,8]
[null,601,null,null,null,null,0]
[null,602,null,null,null,null,0]
[null,603,null,null,null,null,0]
[null,604,null,null,null,null,11]
[null,605,null,null,null,null,0]
[null,606,null,null,null,null,0]
[null,607,null,null,null,null,0]
[null,608,null,null,null,null,0]
[null,609,null,null,null,null,0]
[null,610,null,null,null,null,3]
[null,611,null,null,null,null,0]
[null,612,null,null,null,null,0]
[null,613,null,null,null,null,0]
[null,614,null,null,null,null,2]
[null,615,null,null,null,null,0]
[null,616,null,null,null,null,0]
[null,617,null,null,null,null,0]
[null,618,null,null,null,null,0]
[null,619,null,null,null,null,0]
[null,620,null,null,null,null,7]
[null,621,null,null,null,null,0]
[null,622,null,null,null,null,1]
[null,623,null,null,null,null,0]
[null,624,null,null,null,null,0]
[null,625,null,null,null,null,4]
[null,626,null,null,null,null,0]
[null,627,null,null,null,null,0]
[null,628,null,null,null,null,0]
[null,629,null,null,null,null,0]
[null,630,null,null,null,null,9]
[null,631,null,null,null,null,0]
[null,632,null,null,null,null,23]
[null,633,null,null,null,null,0]
[null,634,null,null,null,null,0]
[null,635,null,null,null,null,21]
[null,636,null,null,null,null,0]
[null,637,null,null,null,null,11]
[null,638,null,null,null,null,3]
[null,639,null,null,null,null,0]
[null,640,null,null,null,null,0]
[null,641,null,null,null,null,0]
[null,642,null,null,null,null,0]
[null,643,null,null,null,null,1]
[null,644,null,null,null,null,35]
[null,645,null,null,null,null,0]
[null,646,null,null,null,null,2]
[null,647,null,null,null,null,21]
[null,648,null,null,null,null,15]
[null,649,null,null,null,null,8]
[null,650,null,null,null,null,0]
[null,651,null,null,null,null,0]
[null,652,null,null,null,null,0]
[null,653,null,null,null,null,0]
[null,654,null,null,null,null,0]
[null,655,null,null,null,null,0]
[null,656,null,null,null,null,5]
[null,657,null,null,null,null,14]
[null,658,null,null,null,null,8]
[null,659,null,null,null,null,16]
[null,660,null,null,null,null,12]
[null,661,null,null,null,null,4]
[null,662,null,null,null,null,15]
[null,663,null,null,null,null,5]
[null,664,null,null,null,null,8]
[null,665,null,null,null,null,13]
[null,666,null,null,null,null,1]
[null,667,null,null,null,null,16]
[null,668,null,null,null,null,0]
[null,669,null,null,null,null,2]
[null,670,null,null,null,null,0]
[null,671,null,null,null,null,4]
[null,672,null,null,null,null,0]
[null,673,null,null,null,null,4]
[null,674,null,null,null,null,0]
[null,675,null,null,null,null,0]
[null,676,null,null,null,null,0]
[null,677,null,null,null,null,0]
[null,678,null,null,null,null,0]
[null,679,null,null,null,null,4]
[null,680,null,null,null,null,0]
[null,681,null,null,null,null,0]
[null,682,null,null,null,null,0]
[null,683,null,null,null,null,0]
[null,684,null,null,null,null,0]
[null,685,null,null,null,null,0]
[null,686,null,null,null,null,1]
[null,687,null,null,null,null,0]
[null,688,null,null,null,null,0]
[null,689,null,null,null,null,0]
[null,690,null,null,null,null,3]
[null,691,null,null,null,null,0]
[null,692,null,null,null,null,0]
[null,693,null,null,null,null,0]
[null,694,null,null,null,null,0]
[null,695,null,null,null,null,0]
[null,696,null,null,null,null,0]
[null,697,null,null,null,null,0]
[null,698,null,null,null,null,0]
[null,699,null,null,null,null,2]
[null,700,null,null,null,null,7]
[null,701,null,null,null,null,0]
[null,702,null,null,null,null,0]
[null,703,null,null,null,null,18]
[null,704,null,null,null,null,9]
[null,705,null,null,null,null,15]
[null,706,null,null,null,null,13]
[null,707,null,null,null,null,0]
[null,708,null,null,null,null,20]
[null,709,null,null,null,null,0]
[null,710,null,null,null,null,5]
[null,711,null,null,null,null,33]
[null,712,null,null,null,null,0]
[null,713,null,null,null,null,25]
[null,714,null,null,null,null,0]
[null,715,null,null,null,null,2]
[null,716,null,null,null,null,0]
[null,717,null,null,null,null,0]
[null,718,null,null,null,null,0]
[null,719,null,null,null,null,0]
[null,720,null,null,null,null,0]
[null,721,null,null,null,null,0]
[null,722,null,null,null,null,0]
[null,723,null,null,null,null,0]
[null,724,null,null,null,null,0]
[null,725,null,null,null,null,0]
[null,726,null,null,null,null,18]
[null,727,null,null,null,null,0]
[null,728,null,null,null,null,0]
[null,729,null,null,null,null,24]
[null,730,null,null,null,null,2]
[null,731,null,null,null,null,16]
[null,732,null,null,null,null,0]
[null,733,null,null,null,null,0]
[null,734,null,null,null,null,0]
[null,735,null,null,null,null,0]
[null,736,null,null,null,null,0]
[null,737,null,null,null,null,0]
[null,738,null,null,null,null,0]
[null,739,null,null,null,null,6]
[null,740,null,null,null,null,0]
[null,741,null,null,null,null,0]
[null,742,null,null,null,null,0]
[null,743,null,null,null,null,0]
[null,744,null,null,null,null,0]
[null,745,null,null,null,null,13]
[null,746,null,null,null,null,0]
[null,747,null,null,null,null,0]
[null,748,null,null,null,null,0]
[null,749,null,null,null,null,0]
[null,750,null,null,null,null,11]
[null,751,null,null,null,null,0]
[null,752,null,null,null,null,1]
[null,753,null,null,null,null,0]
[null,754,null,null,null,null,0]
[null,755,null,null,null,null,3]
[null,756,null,null,null,null,24]
[null,757,null,null,null,null,3]
[null,758,null,null,null,null,9]
[null,759,null,null,null,null,2]
[null,760,null,null,null,null,0]
[null,761,null,null,null,null,4]
[null,762,null,null,null,null,7]
[null,763,null,null,null,null,0]
[null,764,null,null,null,null,0]
[null,765,null,null,null,null,15]
[null,766,null,null,null,null,4]
[null,767,null,null,null,null,0]
[null,768,null,null,null,null,0]
[null,769,null,null,null,null,16]
[null,770,null,null,null,null,15]
[null,771,null,null,null,null,14]
[null,772,null,null,null,null,0]
[null,773,null,null,null,null,5]
[null,774,null,null,null,null,0]
[null,775,null,null,null,null,0]
[null,776,null,null,null,null,13]
[null,777,null,null,null,null,11]
[null,778,null,null,null,null,9]
[null,779,null,null,null,null,0]
[null,780,null,null,null,null,0]
[null,781,null,null,null,null,8]
[null,782,null,null,null,null,0]
[null,783,null,null,null,null,4]
[null,784,null,null,null,null,0]
[null,785,null,null,null,null,0]
[null,786,null,null,null,null,3]
[null,787,null,null,null,null,2]
[null,788,null,null,null,null,26]
[null,789,null,null,null,null,6]
[null,790,null,null,null,null,41]
[null,791,null,null,null,null,11]
[null,792,null,null,null,null,5]
[null,793,null,null,null,null,0]
[null,794,null,null,null,null,0]
[null,795,null,null,null,null,0]
[null,796,null,null,null,null,3]
[null,797,null,null,null,null,6]
[null,798,null,null,null,null,19]
[null,799,null,null,null,null,15]
[null,800,null,null,null,null,0]
[null,801,null,null,null,null,0]
[null,802,null,null,null,null,7]
[null,803,null,null,null,null,0]
[null,804,null,null,null,null,0]
[null,805,null,null,null,null,0]
[null,806,null,null,null,null,0]
[null,807,null,null,null,null,0]
[null,808,null,null,null,null,0]
[null,809,null,null,null,null,0]
[null,810,null,null,null,null,0]
[null,811,null,null,null,null,0]
[null,812,null,null,null,null,0]
[null,813,null,null,null,null,0]
[null,814,null,null,null,null,0]
[null,815,null,null,null,null,6]
[null,816,null,null,null,null,0]
[null,817,null,null,null,null,0]
[null,818,null,null,null,null,0]
[null,819,null,null,null,null,12]
[null,820,null,null,null,null,4]
[null,821,null,null,null,null,10]
[null,822,null,null,null,null,0]
[null,823,null,null,null,null,0]
[null,824,null,null,null,null,0]
[null,825,null,null,null,null,10]
[null,826,null,null,null,null,0]
[null,827,null,null,null,null,0]
[null,828,null,null,null,null,8]
[null,829,null,null,null,null,5]
[null,830,null,null,null,null,0]
[null,831,null,null,null,null,0]
[null,832,null,null,null,null,16]
[null,833,null,null,null,null,0]
[null,834,null,null,null,null,0]
[null,835,null,null,null,null,4]
[null,836,null,null,null,null,0]
[null,837,null,null,null,null,0]
[null,838,null,null,null,null,0]
[null,839,null,null,null,null,0]
[null,840,null,null,null,null,0]
[null,841,null,null,null,null,5]
[null,842,null,null,null,null,0]
[null,843,null,null,null,null,13]
[null,844,null,null,null,null,0]
[null,845,null,null,null,null,14]
[null,846,null,null,null,null,0]
[null,847,null,null,null,null,0]
[null,848,null,null,null,null,8]
[null,849,null,null,null,null,3]
[null,850,null,null,null,null,14]
[null,851,null,null,null,null,0]
[null,852,null,null,null,null,0]
[null,853,null,null,null,null,0]
[null,854,null,null,null,null,0]
[null,855,null,null,null,null,0]
[null,856,null,null,null,null,0]
[null,857,null,null,null,null,0]
[null,858,null,null,null,null,0]
[null,859,null,null,null,null,0]
[null,860,null,null,null,null,0]
[null,861,null,null,null,null,0]
[null,862,null,null,null,null,7]
[null,863,null,null,null,null,0]
[null,864,null,null,null,null,0]
[null,865,null,null,null,null,0]
[null,866,null,null,null,null,0]
[null,867,null,null,null,null,40]
[null,868,null,null,null,null,0]
[null,869,null,null,null,null,0]
[null,870,null,null,null,null,0]
[null,871,null,null,null,null,0]
[null,872,null,null,null,null,24]
[null,873,null,null,null,null,14]
[null,874,null,null,null,null,2]
[null,875,null,null,null,null,7]
[null,876,null,null,null,null,7]
[null,877,null,null,null,null,10]
[null,878,null,null,null,null,0]
[null,879,null,null,null,null,0]
[null,880,null,null,null,null,9]
[null,881,null,null,null,null,0]
[null,882,null,null,null,null,0]
[null,883,null,null,null,null,42]
[null,884,null,null,null,null,0]
[null,885,null,null,null,null,0]
[null,886,null,null,null,null,1]
[null,887,null,null,null,null,0]
[null,888,null,null,null,null,0]
[null,889,null,null,null,null,0]
[null,890,null,null,null,null,51]
[null,891,null,null,null,null,26]
[null,892,null,null,null,null,6]
[null,893,null,null,null,null,0]
[null,894,null,null,null,null,7]
[null,895,null,null,null,null,0]
[null,896,null,null,null,null,33]
[null,897,null,null,null,null,0]
[null,898,null,null,null,null,0]
[null,899,null,null,null,null,0]
[null,900,null,null,null,null,17]
[null,901,null,null,null,null,0]
[null,902,null,null,null,null,0]
[null,903,null,null,null,null,0]
[null,904,null,null,null,null,0]
[null,905,null,null,null,null,0]
[null,906,null,null,null,null,6]
[null,907,null,null,null,null,10]
[null,908,null,null,null,null,0]
[null,909,null,null,null,null,18]
[null,910,null,null,null,null,0]
[null,911,null,null,null,null,0]
[null,912,null,null,null,null,0]
[null,913,null,null,null,null,0]
[null,914,null,null,null,null,17]
[null,915,null,null,null,null,0]
[null,916,null,null,null,null,0]
[null,917,null,null,null,null,0]
[null,918,null,null,null,null,0]
[null,919,null,null,null,null,8]
[null,920,null,null,null,null,0]
[null,921,null,null,null,null,2]
[null,922,null,null,null,null,0]
[null,923,null,null,null,null,8]
[null,924,null,null,null,null,0]
[null,925,null,null,null,null,9]
[null,926,null,null,null,null,7]
[null,927,null,null,null,null,0]
[null,928,null,null,null,null,0]
[null,929,null,null,null,null,0]
[null,930,null,null,null,null,4]
[null,931,null,null,null,null,0]
[null,932,null,null,null,null,0]
[null,933,null,null,null,null,0]
[null,934,null,null,null,null,0]
[null,935,null,null,null,null,0]
[null,936,null,null,null,null,2]
[null,937,null,null,null,null,10]
[null,938,null,null,null,null,16]
[null,939,null,null,null,null,21]
[null,940,null,null,null,null,0]
[null,941,null,null,null,null,0]
[null,942,null,null,null,null,5]
[null,943,null,null,null,null,0]
[null,944,null,null,null,null,4]
[null,945,null,null,null,null,6]
[null,946,null,null,null,null,0]
[null,947,null,null,null,null,9]
[null,948,null,null,null,null,0]
[null,949,null,null,null,null,0]
[null,950,null,null,null,null,18]
[null,951,null,null,null,null,0]
[null,952,null,null,null,null,0]
[null,953,null,null,null,null,0]
[null,954,null,null,null,null,0]
[null,955,null,null,null,null,0]
[null,956,null,null,null,null,0]
[null,957,null,null,null,null,0]
[null,958,null,null,null,null,0]
[null,959,null,null,null,null,0]
[null,960,null,null,null,null,0]
[null,961,null,null,null,null,3]
[null,962,null,null,null,null,2]
[null,963,null,null,null,null,0]
[null,964,null,null,null,null,1]
[null,965,null,null,null,null,4]
[null,966,null,null,null,null,0]
[null,967,null,null,null,null,5]
[null,968,null,null,null,null,9]
[null,969,null,null,null,null,4]
[null,970,null,null,null,null,0]
[null,971,null,null,null,null,4]
[null,972,null,null,null,null,17]
[null,973,null,null,null,null,15]
[null,974,null,null,null,null,17]
[null,975,null,null,null,null,6]
[null,976,null,null,null,null,4]
[null,977,null,null,null,null,0]
[null,978,null,null,null,null,20]
[null,979,null,null,null,null,22]
[null,980,null,null,null,null,14]
[null,981,null,null,null,null,0]
[null,982,null,null,null,null,5]
[null,983,null,null,null,null,0]
[null,984,null,null,null,null,0]
[null,985,null,null,null,null,0]
[null,986,null,null,null,null,0]
[null,987,null,null,null,null,9]
[null,988,null,null,null,null,9]
[null,989,null,null,null,null,11]
[null,990,null,null,null,null,0]
[null,991,null,null,null,null,0]
[null,992,null,null,null,null,1]
[null,993,null,null,null,null,0]
[null,994,null,null,null,null,5]
[null,995,null,null,null,null,0]
[null,996,null,null,null,null,4]
[null,997,null,null,null,null,5]
[null,998,null,null,null,null,0]
[null,999,null,null,null,null,14]
[null,1000,null,null,null,null,5]
[null,1001,null,null,null,null,0]
[null,1002,null,null,null,null,3]
[null,1003,null,null,null,null,4]
[null,1004,null,null,null,null,0]
[null,1005,null,null,null,null,3]
[null,1006,null,null,null,null,6]
[null,1007,null,null,null,null,15]
[null,1008,null,null,null,null,0]
[null,1009,null,null,null,null,0]
[null,1010,null,null,null,null,6]
[null,1011,null,null,null,null,1]
[null,1012,null,null,null,null,0]
[null,1013,null,null,null,null,0]
[null,1014,null,null,null,null,94]
[null,1015,null,null,null,null,89]
[null,1016,null,null,null,null,82]
[null,1017,null,null,null,null,207]
[null,1018,null,null,null,null,0]
[null,1019,null,null,null,null,44]
[null,1020,null,null,null,null,17]
[null,1021,null,null,null,null,29]
[null,1022,null,null,null,null,9]
[null,1023,null,null,null,null,0]
[null,1024,null,null,null,null,0]
[null,1025,null,null,null,null,55]
[null,1026,null,null,null,null,167]
[null,1027,null,null,null,null,0]
[null,1028,null,null,null,null,56]
[null,1029,null,null,null,null,0]
[null,1030,null,null,null,null,0]
[null,1031,null,null,null,null,34]
[null,1032,null,null,null,null,47]
[null,1033,null,null,null,null,23]
[null,1034,null,null,null,null,26]
[null,1035,null,null,null,null,29]
[null,1036,null,null,null,null,0]
[null,1037,null,null,null,null,0]
[null,1038,null,null,null,null,47]
[null,1039,null,null,null,null,5]
[null,1040,null,null,null,null,8]
[null,1041,null,null,null,null,0]
[null,1042,null,null,null,null,29]
[null,1043,null,null,null,null,60]
[null,1044,null,null,null,null,0]
[null,1045,null,null,null,null,33]
[null,1046,null,null,null,null,37]
[null,1047,null,null,null,null,32]
[null,1048,null,null,null,null,41]
[null,1049,null,null,null,null,2]
[null,1050,null,null,null,null,33]
[null,1051,null,null,null,null,31]
[null,1052,null,null,null,null,58]
[null,1053,null,null,null,null,10]
[null,1054,null,null,null,null,67]
[null,1055,null,null,null,null,65]
[null,1056,null,null,null,null,4]
[null,1057,null,null,null,null,0]
[null,1058,null,null,null,null,35]
[null,1059,null,null,null,null,17]
[null,1060,null,null,null,null,25]
[null,1061,null,null,null,null,22]
[null,1062,null,null,null,null,15]
[null,1063,null,null,null,null,126]
[null,1064,null,null,null,null,162]
[null,1065,null,null,null,null,125]
[null,1066,null,null,null,null,11]
[null,1067,null,null,null,null,1]
[null,1068,null,null,null,null,31]
[null,1069,null,null,null,null,38]
[null,1070,null,null,null,null,111]
[null,1071,null,null,null,null,35]
[null,1072,null,null,null,null,20]
[null,1073,null,null,null,null,4]
[null,1074,null,null,null,null,1]
[null,1075,null,null,null,null,24]
[null,1076,null,null,null,null,28]
[null,1077,null,null,null,null,0]
[null,1078,null,null,null,null,15]
[null,1079,null,null,null,null,6]
[null,1080,null,null,null,null,28]
[null,1081,null,null,null,null,118]
[null,1082,null,null,null,null,4]
[null,1083,null,null,null,null,19]
[null,1084,null,null,null,null,26]
[null,1085,null,null,null,null,9]
[null,1086,null,null,null,null,66]
[null,1087,null,null,null,null,20]
[null,1088,null,null,null,null,32]
[null,1089,null,null,null,null,0]
[null,1090,null,null,null,null,22]
[null,1091,null,null,null,null,8]
[null,1092,null,null,null,null,25]
[null,1093,null,null,null,null,27]
[null,1094,null,null,null,null,13]
[null,1095,null,null,null,null,14]
[null,1096,null,null,null,null,5]
[null,1097,null,null,null,null,5]
[null,1098,null,null,null,null,13]
[null,1099,null,null,null,null,9]
[null,1100,null,null,null,null,0]
[null,1101,null,null,null,null,9]
[null,1102,null,null,null,null,11]
[null,1103,null,null,null,null,77]
[null,1104,null,null,null,null,18]
[null,1105,null,null,null,null,19]
[null,1106,null,null,null,null,14]
[null,1107,null,null,null,null,0]
[null,1108,null,null,null,null,70]
[null,1109,null,null,null,null,10]
[null,1110,null,null,null,null,21]
[null,1111,null,null,null,null,5]
[null,1112,null,null,null,null,18]
[null,1113,null,null,null,null,30]
[null,1114,null,null,null,null,39]
[null,1115,null,null,null,null,0]
[null,1116,null,null,null,null,0]
[null,1117,null,null,null,null,8]
[null,1118,null,null,null,null,2]
[null,1119,null,null,null,null,60]
[null,1120,null,null,null,null,24]
[null,1121,null,null,null,null,19]
[null,1122,null,null,null,null,37]
[null,1123,null,null,null,null,27]
[null,1124,null,null,null,null,18]
[null,1125,null,null,null,null,6]
[null,1126,null,null,null,null,9]
[null,1127,null,null,null,null,3]
[null,1128,null,null,null,null,1]
[null,1129,null,null,null,null,2]
[null,1130,null,null,null,null,18]
[null,1131,null,null,null,null,56]
[null,1132,null,null,null,null,1]
[null,1133,null,null,null,null,1]
[null,1134,null,null,null,null,0]
[null,1135,null,null,null,null,0]
[null,1136,null,null,null,null,1]
[null,1137,null,null,null,null,25]
[null,1138,null,null,null,null,18]
[null,1139,null,null,null,null,13]
[null,1140,null,null,null,null,176]
[null,1141,null,null,null,null,24]
[null,1142,null,null,null,null,7]
[null,1143,null,null,null,null,18]
[null,1144,null,null,null,null,0]
[null,1145,null,null,null,null,5]
[null,1146,null,null,null,null,0]
[null,1147,null,null,null,null,27]
[null,1148,null,null,null,null,19]
[null,1149,null,null,null,null,2]
[null,1150,null,null,null,null,0]
[null,1151,null,null,null,null,15]
[null,1152,null,null,null,null,18]
[null,1153,null,null,null,null,14]
[null,1154,null,null,null,null,15]
[null,1155,null,null,null,null,33]
[null,1156,null,null,null,null,14]
[null,1157,null,null,null,null,9]
[null,1158,null,null,null,null,14]
[null,1159,null,null,null,null,33]
[null,1160,null,null,null,null,10]
[null,1161,null,null,null,null,5]
[null,1162,null,null,null,null,27]
[null,1163,null,null,null,null,18]
[null,1164,null,null,null,null,6]
[null,1165,null,null,null,null,3]
[null,1166,null,null,null,null,17]
[null,1167,null,null,null,null,26]
[null,1168,null,null,null,null,2]
[null,1169,null,null,null,null,13]
[null,1170,null,null,null,null,19]
[null,1171,null,null,null,null,8]
[null,1172,null,null,null,null,15]
[null,1173,null,null,null,null,6]
[null,1174,null,null,null,null,14]
[null,1175,null,null,null,null,0]

{"sheet":"MOVIMIENTOS","index":1,"n_rows":46,"n_cols":7,"rows_kept":46,"cut":false,"hidden":false,"merged":[]}
[null,"CODIGO","ARTICULO","FECHA","INGRESO ","SALIDA","STOCK"]
[null,"0049-A-65","DATOS X","2017-03-27","DATOS X",1,"DATOS X"]
[null,"0096-B-32","DATOS X","2017-03-27","DATOS X",2,"DATOS X"]
[null,"0103-B-39","DATOS X","2017-03-28","DATOS X",3,"DATOS X"]
[null,"0110-B-46","DATOS X","2017-03-29","DATOS X",4,"DATOS X"]
[null,"0111-B-47","DATOS X","2017-03-30","DATOS X",5,"DATOS X"]
[null,"0119-B-55","DATOS X","2017-03-31","DATOS X",6,"DATOS X"]
[null,"0119-B-56","DATOS X","2017-04-01","DATOS X",6,"DATOS X"]
[null,"0119-B-57","DATOS X","2017-04-02","DATOS X",6,"DATOS X"]
[null,"0119-B-58","DATOS X","2017-04-03","DATOS X",6,"DATOS X"]
[null,"0119-B-59","DATOS X","2017-04-04","DATOS X",6,"DATOS X"]
[null,"0119-B-60","DATOS X","2017-04-05","DATOS X",6,"DATOS X"]
[null,"0119-B-61","DATOS X","2017-04-06","DATOS X",6,"DATOS X"]
[null,"0119-B-62","DATOS X","2017-04-07","DATOS X",6,"DATOS X"]
[null,"0119-B-63","DATOS X","2017-04-08","DATOS X",6,"DATOS X"]
[null,"0119-B-64","DATOS X","2017-04-09","DATOS X",6,"DATOS X"]
[null,"0119-B-65","DATOS X","2017-04-10","DATOS X",6,"DATOS X"]
[null,"0119-B-66","DATOS X","2017-04-11","DATOS X",6,"DATOS X"]
[null,"0119-B-67","DATOS X","2017-04-12","DATOS X",6,"DATOS X"]
[null,"0119-B-68","DATOS X","2017-04-13","DATOS X",6,"DATOS X"]
[null,"0119-B-69","DATOS X","2017-04-14","DATOS X",6,"DATOS X"]
[null,"0119-B-70","DATOS X","2017-04-15","DATOS X",6,"DATOS X"]
[null,"0119-B-71","DATOS X","2017-04-16","DATOS X",6,"DATOS X"]
[null,"0119-B-72","DATOS X","2017-04-17","DATOS X",6,"DATOS X"]
[null,"0005-A-21","DATOS X","2017-04-18",null,20,"DATOS X"]
[null,"0006-A-22","DATOS X","2017-04-19",null,50,"DATOS X"]
[null,"0005-A-21","DATOS X","2017-04-20",null,1,"DATOS X"]
[null,"0001-A-16","DATOS X","2017-04-21",null,2,"DATOS X"]
[null,"0003-A-19","DATOS X","2017-04-22",null,1200,"DATOS X"]
[null,"0007-A-23","DATOS X","2017-04-23",null,500,"DATOS X"]
[null,"0014-A-30","DATOS X","2017-04-24",null,5000,"DATOS X"]
[null,"0913-7PK-1640","DATOS X","2017-04-25",null,646556,"DATOS X"]
[null,"0005-A-21","DATOS X","2017-04-26",null,2500,"DATOS X"]
[null,"0002-A-17","DATOS X","2017-04-27",null,4500,"DATOS X"]
[null,"0001-A-16","DATOS X","2017-04-28",null,5000,"DATOS X"]
[null,"0003-A-19","DATOS X","2017-04-29",null,1200,"DATOS X"]
[null,"0007-A-23","DATOS X","2017-04-30",null,646565,"DATOS X"]
[null,"0013-A-29","DATOS X","2017-05-01",null,5000,"DATOS X"]
[null,"0003-A-19","DATOS X","2017-05-02",null,1500,"DATOS X"]
[null,"0006-A-22","DATOS X","2017-05-03",null,45000,"DATOS X"]
[null,"0006-A-22","DATOS X","2017-05-04",null,500,"DATOS X"]
[null,"0330-RPF-2290","DATOS X","2017-05-05",null,5000,"DATOS X"]
[null,"0002-A-17","DATOS X","2017-05-06",null,12,"DATOS X"]
[null,"0004-A-20","DATOS X","2017-05-07",null,500,"DATOS X"]
[null,"0008-A-24","DATOS X","2017-05-08",null,600,"DATOS X"]
[null,"0002-A-17","DATOS X","2017-05-09",null,1.2,"DATOS X"]

{"sheet":"R-SALIDAS","index":2,"n_rows":52,"n_cols":12,"rows_kept":52,"cut":false,"hidden":false,"merged":[[3,11,14,14],[20,11,21,17]]}
[null,"CLIENTE","FECHA","CODIGO","ARTICULO","SALIDA","OPERACIÓN"]
[null,"CLIENTE 1","DATOS X","2017-03-27",null,1,"DATOS X"]
[null,"CLIENTE 2","DATOS X","2017-03-27",null,2,"DATOS X"]
[null,"CLIENTE 3","DATOS X","2017-03-28",null,3,"DATOS X",null,null,null,null,"DISCULPEN LA MOLESTIA, QUISERA EN MI AGREGAR (ASI COMO TENGO EN MI FORMULARIO UN LABEL TOTAL) UNA FORMA DE PODER VER EL STOCK DEL CODIGO . CUANDO SELECCIONO O SE VEA. BUENO SOLO POR AHORA QUISIERA QUE SE MUESTRE . COMO PRUEBA PARA PODER MAS ADELANTE AGREGARLE O MEJORARLO AUN MAS MI MODESTO INVENTARIO. GRACIAS POR AYUDA Y ESTE FORM . ES GRACIAS A ENIGMA25 TODOS LOS CREDITOS A EL"]
[null,"CLIENTE 4","DATOS X","2017-03-29",null,4,"DATOS X"]
[null,"CLIENTE 5","DATOS X","2017-03-30",null,5,"DATOS X"]
[null,"CLIENTE 6","DATOS X","2017-03-31",null,6,"DATOS X"]
[null,"CLIENTE 7","DATOS X","2017-04-01",null,6,"DATOS X"]
[null,"CLIENTE 8","DATOS X","2017-04-02",null,6,"DATOS X"]
[null,"CLIENTE 9","DATOS X","2017-04-03",null,6,"DATOS X"]
[null,"CLIENTE 10","DATOS X","2017-04-04",null,6,"DATOS X"]
[null,"CLIENTE 11","DATOS X","2017-04-05",null,6,"DATOS X"]
[null,"CLIENTE 12","DATOS X","2017-04-06",null,6,"DATOS X"]
[null,"CLIENTE 13","DATOS X","2017-04-07",null,6,"DATOS X"]
[null,"CLIENTE 14","DATOS X","2017-04-08",null,6,"DATOS X"]
[null,"CLIENTE 15","DATOS X","2017-04-09",null,6,"DATOS X",null,null,null,null,"EN LA HOJA DATOS SE ENCUENTRA EL STOCK "]
[null,"CLIENTE 16","DATOS X","2017-04-10",null,6,"DATOS X",null,null,null,null,"QUISIERA VER EL STOCK DEL PRODUCTO "]
[null,"CLIENTE 17","DATOS X","2017-04-11",null,6,"DATOS X"]
[null,"CLIENTE 18","DATOS X","2017-04-12",null,6,"DATOS X"]
[null,"CLIENTE 19","DATOS X","2017-04-13",null,6,"DATOS X"]
[null,"CLIENTE 20","DATOS X","2017-04-14",null,6,"DATOS X",null,null,null,null,"bueno si alguien le puede agregar este fondo a mi formulario estaria genial para que me ayude con la vision"]
[null,"CLIENTE 21","DATOS X","2017-04-15",null,6,"DATOS X"]
[null,"CLIENTE 22","DATOS X","2017-04-16",null,6,"DATOS X"]
[null,"CLIENTE 23","DATOS X","2017-04-17",null,6,"DATOS X"]
[null,"CLIENTE 24","DATOS X","2017-04-18",null,20,"DATOS X"]
[null,"CLIENTE 25","DATOS X","2017-04-19",null,50,"DATOS X"]
[null,"CLIENTE 26","DATOS X","2017-04-20",null,1,"DATOS X"]
[null,"CLIENTE 27","DATOS X","2017-04-21",null,2,"DATOS X"]
[null,"CLIENTE 28","DATOS X","2017-04-22",null,1200,"DATOS X"]
[null,"CLIENTE 29","DATOS X","2017-04-23",null,500,"DATOS X"]
[null,"CLIENTE 30","DATOS X","2017-04-24",null,5000,"DATOS X"]
[null,"CLIENTE 31","DATOS X","2017-04-25",null,646556,"DATOS X"]
[null,"CLIENTE 32","DATOS X","2017-04-26",null,2500,"DATOS X"]
[null,"CLIENTE 33","DATOS X","2017-04-27",null,4500,"DATOS X"]
[null,"CLIENTE 34","DATOS X","2017-04-28",null,5000,"DATOS X"]
[null,"CLIENTE 35","DATOS X","2017-04-29",null,1200,"DATOS X"]
[null,"CLIENTE 36","DATOS X","2017-04-30",null,646565,"DATOS X"]
[null,"CLIENTE 37","DATOS X","2017-05-01",null,5000,"DATOS X"]
[null,"CLIENTE 38","DATOS X","2017-05-02",null,1500,"DATOS X"]
[null,"CLIENTE 39","DATOS X","2017-05-03",null,45000,"DATOS X"]
[null,"CLIENTE 40","DATOS X","2017-05-04",null,500,"DATOS X"]
[null,"CLIENTE 41","DATOS X","2017-05-05",null,5000,"DATOS X"]
[null,"CLIENTE 42","DATOS X","2017-05-06",null,12,"DATOS X"]
[null,"CLIENTE 43","DATOS X","2017-05-07",null,500,"DATOS X"]
[null,"CLIENTE 44","DATOS X","2017-05-08",null,600,"DATOS X"]
[null,"CLIENTE 45","DATOS X","2017-05-09",null,1.2,"DATOS X"]
[null,"CLIENTE 46","DATOS X","2017-03-27",null,74993.611717171705,"DATOS X"]
[null,"CLIENTE 47","DATOS X","2017-03-27",null,76929.246815985898,"DATOS X"]
[null,"CLIENTE 48","DATOS X","2017-03-28",null,78864.881914800106,"DATOS X"]
[null,"CLIENTE 49","DATOS X","2017-03-29",null,80800.517013614401,"DATOS X"]
[null,"CLIENTE 50",null,"0079-A-100",null,5]
[null,null,"2017-10-05","1903-03-18",null,6]

{"sheet":"DATOS","index":3,"n_rows":1177,"n_cols":2,"rows_kept":1177,"cut":false,"hidden":false,"merged":[]}
["CODIGO","STOCK"]
[1,{"$f":"VLOOKUP(A2,EXISTENCIAS!B4:G1179,6,0)","v":2}]
[2,{"$f":"VLOOKUP(A3,EXISTENCIAS!B5:G1180,6,0)","v":28}]
[3,{"$f":"VLOOKUP(A4,EXISTENCIAS!B6:G1181,6,0)","v":0}]
[4,{"$f":"VLOOKUP(A5,EXISTENCIAS!B7:G1182,6,0)","v":0}]
[5,{"$f":"VLOOKUP(A6,EXISTENCIAS!B8:G1183,6,0)","v":24}]
[6,{"$f":"VLOOKUP(A7,EXISTENCIAS!B9:G1184,6,0)","v":50}]
[7,{"$f":"VLOOKUP(A8,EXISTENCIAS!B10:G1185,6,0)","v":0}]
[8,{"$f":"VLOOKUP(A9,EXISTENCIAS!B11:G1186,6,0)","v":47}]
[9,{"$f":"VLOOKUP(A10,EXISTENCIAS!B12:G1187,6,0)","v":42}]
[10,{"$f":"VLOOKUP(A11,EXISTENCIAS!B13:G1188,6,0)","v":34}]
[11,{"$f":"VLOOKUP(A12,EXISTENCIAS!B14:G1189,6,0)","v":50}]
[12,{"$f":"VLOOKUP(A13,EXISTENCIAS!B15:G1190,6,0)","v":0}]
[13,{"$f":"VLOOKUP(A14,EXISTENCIAS!B16:G1191,6,0)","v":72}]
[14,{"$f":"VLOOKUP(A15,EXISTENCIAS!B17:G1192,6,0)","v":47}]
[15,{"$f":"VLOOKUP(A16,EXISTENCIAS!B18:G1193,6,0)","v":162}]
[16,{"$f":"VLOOKUP(A17,EXISTENCIAS!B19:G1194,6,0)","v":99}]
[17,{"$f":"VLOOKUP(A18,EXISTENCIAS!B20:G1195,6,0)","v":1}]
[18,{"$f":"VLOOKUP(A19,EXISTENCIAS!B21:G1196,6,0)","v":118}]
[19,{"$f":"VLOOKUP(A20,EXISTENCIAS!B22:G1197,6,0)","v":86}]
[20,{"$f":"VLOOKUP(A21,EXISTENCIAS!B23:G1198,6,0)","v":114}]
[21,{"$f":"VLOOKUP(A22,EXISTENCIAS!B24:G1199,6,0)","v":114}]
[22,{"$f":"VLOOKUP(A23,EXISTENCIAS!B25:G1200,6,0)","v":137}]
[23,{"$f":"VLOOKUP(A24,EXISTENCIAS!B26:G1201,6,0)","v":115}]
[24,{"$f":"VLOOKUP(A25,EXISTENCIAS!B27:G1202,6,0)","v":118}]
[25,{"$f":"VLOOKUP(A26,EXISTENCIAS!B28:G1203,6,0)","v":101}]
[26,{"$f":"VLOOKUP(A27,EXISTENCIAS!B29:G1204,6,0)","v":133}]
[27,{"$f":"VLOOKUP(A28,EXISTENCIAS!B30:G1205,6,0)","v":124}]
[28,{"$f":"VLOOKUP(A29,EXISTENCIAS!B31:G1206,6,0)","v":158}]
[29,{"$f":"VLOOKUP(A30,EXISTENCIAS!B32:G1207,6,0)","v":146}]
[30,{"$f":"VLOOKUP(A31,EXISTENCIAS!B33:G1208,6,0)","v":109}]
[31,{"$f":"VLOOKUP(A32,EXISTENCIAS!B34:G1209,6,0)","v":62}]
[32,{"$f":"VLOOKUP(A33,EXISTENCIAS!B35:G1210,6,0)","v":62}]
[33,{"$f":"VLOOKUP(A34,EXISTENCIAS!B36:G1211,6,0)","v":92}]
[34,{"$f":"VLOOKUP(A35,EXISTENCIAS!B37:G1212,6,0)","v":34}]
[35,{"$f":"VLOOKUP(A36,EXISTENCIAS!B38:G1213,6,0)","v":58}]
[36,{"$f":"VLOOKUP(A37,EXISTENCIAS!B39:G1214,6,0)","v":31}]
[37,{"$f":"VLOOKUP(A38,EXISTENCIAS!B40:G1215,6,0)","v":29}]
[38,{"$f":"VLOOKUP(A39,EXISTENCIAS!B41:G1216,6,0)","v":37}]
[39,{"$f":"VLOOKUP(A40,EXISTENCIAS!B42:G1217,6,0)","v":110}]
[40,{"$f":"VLOOKUP(A41,EXISTENCIAS!B43:G1218,6,0)","v":23}]
[41,{"$f":"VLOOKUP(A42,EXISTENCIAS!B44:G1219,6,0)","v":1}]
[42,{"$f":"VLOOKUP(A43,EXISTENCIAS!B45:G1220,6,0)","v":52}]
[43,{"$f":"VLOOKUP(A44,EXISTENCIAS!B46:G1221,6,0)","v":42}]
[44,{"$f":"VLOOKUP(A45,EXISTENCIAS!B47:G1222,6,0)","v":60}]
[45,{"$f":"VLOOKUP(A46,EXISTENCIAS!B48:G1223,6,0)","v":42}]
[46,{"$f":"VLOOKUP(A47,EXISTENCIAS!B49:G1224,6,0)","v":49}]
[47,{"$f":"VLOOKUP(A48,EXISTENCIAS!B50:G1225,6,0)","v":30}]
[48,{"$f":"VLOOKUP(A49,EXISTENCIAS!B51:G1226,6,0)","v":21}]
[49,{"$f":"VLOOKUP(A50,EXISTENCIAS!B52:G1227,6,0)","v":51}]
[50,{"$f":"VLOOKUP(A51,EXISTENCIAS!B53:G1228,6,0)","v":39}]
[51,{"$f":"VLOOKUP(A52,EXISTENCIAS!B54:G1229,6,0)","v":30}]
[52,{"$f":"VLOOKUP(A53,EXISTENCIAS!B55:G1230,6,0)","v":28}]
[53,{"$f":"VLOOKUP(A54,EXISTENCIAS!B56:G1231,6,0)","v":30}]
[54,{"$f":"VLOOKUP(A55,EXISTENCIAS!B57:G1232,6,0)","v":32}]
[55,{"$f":"VLOOKUP(A56,EXISTENCIAS!B58:G1233,6,0)","v":69}]
[56,{"$f":"VLOOKUP(A57,EXISTENCIAS!B59:G1234,6,0)","v":65}]
[57,{"$f":"VLOOKUP(A58,EXISTENCIAS!B60:G1235,6,0)","v":118}]
[58,{"$f":"VLOOKUP(A59,EXISTENCIAS!B61:G1236,6,0)","v":7}]
[59,{"$f":"VLOOKUP(A60,EXISTENCIAS!B62:G1237,6,0)","v":25}]
[60,{"$f":"VLOOKUP(A61,EXISTENCIAS!B63:G1238,6,0)","v":63}]
[61,{"$f":"VLOOKUP(A62,EXISTENCIAS!B64:G1239,6,0)","v":6}]
[62,{"$f":"VLOOKUP(A63,EXISTENCIAS!B65:G1240,6,0)","v":17}]
[63,{"$f":"VLOOKUP(A64,EXISTENCIAS!B66:G1241,6,0)","v":7}]
[64,{"$f":"VLOOKUP(A65,EXISTENCIAS!B67:G1242,6,0)","v":30}]
[65,{"$f":"VLOOKUP(A66,EXISTENCIAS!B68:G1243,6,0)","v":11}]
[66,{"$f":"VLOOKUP(A67,EXISTENCIAS!B69:G1244,6,0)","v":13}]
[67,{"$f":"VLOOKUP(A68,EXISTENCIAS!B70:G1245,6,0)","v":16}]
[68,{"$f":"VLOOKUP(A69,EXISTENCIAS!B71:G1246,6,0)","v":15}]
[69,{"$f":"VLOOKUP(A70,EXISTENCIAS!B72:G1247,6,0)","v":6}]
[70,{"$f":"VLOOKUP(A71,EXISTENCIAS!B73:G1248,6,0)","v":31}]
[71,{"$f":"VLOOKUP(A72,EXISTENCIAS!B74:G1249,6,0)","v":0}]
[72,{"$f":"VLOOKUP(A73,EXISTENCIAS!B75:G1250,6,0)","v":0}]
[73,{"$f":"VLOOKUP(A74,EXISTENCIAS!B76:G1251,6,0)","v":51}]
[74,{"$f":"VLOOKUP(A75,EXISTENCIAS!B77:G1252,6,0)","v":0}]
[75,{"$f":"VLOOKUP(A76,EXISTENCIAS!B78:G1253,6,0)","v":0}]
[76,{"$f":"VLOOKUP(A77,EXISTENCIAS!B79:G1254,6,0)","v":0}]
[77,{"$f":"VLOOKUP(A78,EXISTENCIAS!B80:G1255,6,0)","v":0}]
[78,{"$f":"VLOOKUP(A79,EXISTENCIAS!B81:G1256,6,0)","v":0}]
[79,{"$f":"VLOOKUP(A80,EXISTENCIAS!B82:G1257,6,0)","v":0}]
[80,{"$f":"VLOOKUP(A81,EXISTENCIAS!B83:G1258,6,0)","v":0}]
[81,{"$f":"VLOOKUP(A82,EXISTENCIAS!B84:G1259,6,0)","v":0}]
[82,{"$f":"VLOOKUP(A83,EXISTENCIAS!B85:G1260,6,0)","v":23}]
[83,{"$f":"VLOOKUP(A84,EXISTENCIAS!B86:G1261,6,0)","v":10}]
[84,{"$f":"VLOOKUP(A85,EXISTENCIAS!B87:G1262,6,0)","v":0}]
[85,{"$f":"VLOOKUP(A86,EXISTENCIAS!B88:G1263,6,0)","v":6}]
[86,{"$f":"VLOOKUP(A87,EXISTENCIAS!B89:G1264,6,0)","v":0}]
[87,{"$f":"VLOOKUP(A88,EXISTENCIAS!B90:G1265,6,0)","v":0}]
[88,{"$f":"VLOOKUP(A89,EXISTENCIAS!B91:G1266,6,0)","v":14}]
[89,{"$f":"VLOOKUP(A90,EXISTENCIAS!B92:G1267,6,0)","v":16}]
[90,{"$f":"VLOOKUP(A91,EXISTENCIAS!B93:G1268,6,0)","v":10}]
[91,{"$f":"VLOOKUP(A92,EXISTENCIAS!B94:G1269,6,0)","v":24}]
[92,{"$f":"VLOOKUP(A93,EXISTENCIAS!B95:G1270,6,0)","v":0}]
[93,{"$f":"VLOOKUP(A94,EXISTENCIAS!B96:G1271,6,0)","v":8}]
[94,{"$f":"VLOOKUP(A95,EXISTENCIAS!B97:G1272,6,0)","v":0}]
[95,{"$f":"VLOOKUP(A96,EXISTENCIAS!B98:G1273,6,0)","v":26}]
[96,{"$f":"VLOOKUP(A97,EXISTENCIAS!B99:G1274,6,0)","v":17}]
[97,{"$f":"VLOOKUP(A98,EXISTENCIAS!B100:G1275,6,0)","v":0}]
[98,{"$f":"VLOOKUP(A99,EXISTENCIAS!B101:G1276,6,0)","v":26}]
[99,{"$f":"VLOOKUP(A100,EXISTENCIAS!B102:G1277,6,0)","v":11}]
[100,{"$f":"VLOOKUP(A101,EXISTENCIAS!B103:G1278,6,0)","v":23}]
[101,{"$f":"VLOOKUP(A102,EXISTENCIAS!B104:G1279,6,0)","v":47}]
[102,{"$f":"VLOOKUP(A103,EXISTENCIAS!B105:G1280,6,0)","v":53}]
[103,{"$f":"VLOOKUP(A104,EXISTENCIAS!B106:G1281,6,0)","v":46}]
[104,{"$f":"VLOOKUP(A105,EXISTENCIAS!B107:G1282,6,0)","v":34}]
[105,{"$f":"VLOOKUP(A106,EXISTENCIAS!B108:G1283,6,0)","v":20}]
[106,{"$f":"VLOOKUP(A107,EXISTENCIAS!B109:G1284,6,0)","v":49}]
[107,{"$f":"VLOOKUP(A108,EXISTENCIAS!B110:G1285,6,0)","v":19}]
[108,{"$f":"VLOOKUP(A109,EXISTENCIAS!B111:G1286,6,0)","v":29}]
[109,{"$f":"VLOOKUP(A110,EXISTENCIAS!B112:G1287,6,0)","v":6}]
[110,{"$f":"VLOOKUP(A111,EXISTENCIAS!B113:G1288,6,0)","v":0}]
[111,{"$f":"VLOOKUP(A112,EXISTENCIAS!B114:G1289,6,0)","v":80}]
[112,{"$f":"VLOOKUP(A113,EXISTENCIAS!B115:G1290,6,0)","v":78}]
[113,{"$f":"VLOOKUP(A114,EXISTENCIAS!B116:G1291,6,0)","v":71}]
[114,{"$f":"VLOOKUP(A115,EXISTENCIAS!B117:G1292,6,0)","v":0}]
[115,{"$f":"VLOOKUP(A116,EXISTENCIAS!B118:G1293,6,0)","v":17}]
[116,{"$f":"VLOOKUP(A117,EXISTENCIAS!B119:G1294,6,0)","v":25}]
[117,{"$f":"VLOOKUP(A118,EXISTENCIAS!B120:G1295,6,0)","v":68}]
[118,{"$f":"VLOOKUP(A119,EXISTENCIAS!B121:G1296,6,0)","v":24}]
[119,{"$f":"VLOOKUP(A120,EXISTENCIAS!B122:G1297,6,0)","v":10}]
[120,{"$f":"VLOOKUP(A121,EXISTENCIAS!B123:G1298,6,0)","v":99}]
[121,{"$f":"VLOOKUP(A122,EXISTENCIAS!B124:G1299,6,0)","v":59}]
[122,{"$f":"VLOOKUP(A123,EXISTENCIAS!B125:G1300,6,0)","v":74}]
[123,{"$f":"VLOOKUP(A124,EXISTENCIAS!B126:G1301,6,0)","v":28}]
[124,{"$f":"VLOOKUP(A125,EXISTENCIAS!B127:G1302,6,0)","v":19}]
[125,{"$f":"VLOOKUP(A126,EXISTENCIAS!B128:G1303,6,0)","v":0}]
[126,{"$f":"VLOOKUP(A127,EXISTENCIAS!B129:G1304,6,0)","v":31}]
[127,{"$f":"VLOOKUP(A128,EXISTENCIAS!B130:G1305,6,0)","v":33}]
[128,{"$f":"VLOOKUP(A129,EXISTENCIAS!B131:G1306,6,0)","v":30}]
[129,{"$f":"VLOOKUP(A130,EXISTENCIAS!B132:G1307,6,0)","v":64}]
[130,{"$f":"VLOOKUP(A131,EXISTENCIAS!B133:G1308,6,0)","v":43}]
[131,{"$f":"VLOOKUP(A132,EXISTENCIAS!B134:G1309,6,0)","v":71}]
[132,{"$f":"VLOOKUP(A133,EXISTENCIAS!B135:G1310,6,0)","v":54}]
[133,{"$f":"VLOOKUP(A134,EXISTENCIAS!B136:G1311,6,0)","v":54}]
[134,{"$f":"VLOOKUP(A135,EXISTENCIAS!B137:G1312,6,0)","v":75}]
[135,{"$f":"VLOOKUP(A136,EXISTENCIAS!B138:G1313,6,0)","v":21}]
[136,{"$f":"VLOOKUP(A137,EXISTENCIAS!B139:G1314,6,0)","v":40}]
[137,{"$f":"VLOOKUP(A138,EXISTENCIAS!B140:G1315,6,0)","v":8}]
[138,{"$f":"VLOOKUP(A139,EXISTENCIAS!B141:G1316,6,0)","v":17}]
[139,{"$f":"VLOOKUP(A140,EXISTENCIAS!B142:G1317,6,0)","v":74}]
[140,{"$f":"VLOOKUP(A141,EXISTENCIAS!B143:G1318,6,0)","v":66}]
[141,{"$f":"VLOOKUP(A142,EXISTENCIAS!B144:G1319,6,0)","v":22}]
[142,{"$f":"VLOOKUP(A143,EXISTENCIAS!B145:G1320,6,0)","v":20}]
[143,{"$f":"VLOOKUP(A144,EXISTENCIAS!B146:G1321,6,0)","v":30}]
[144,{"$f":"VLOOKUP(A145,EXISTENCIAS!B147:G1322,6,0)","v":0}]
[145,{"$f":"VLOOKUP(A146,EXISTENCIAS!B148:G1323,6,0)","v":11}]
[146,{"$f":"VLOOKUP(A147,EXISTENCIAS!B149:G1324,6,0)","v":17}]
[147,{"$f":"VLOOKUP(A148,EXISTENCIAS!B150:G1325,6,0)","v":33}]
[148,{"$f":"VLOOKUP(A149,EXISTENCIAS!B151:G1326,6,0)","v":44}]
[149,{"$f":"VLOOKUP(A150,EXISTENCIAS!B152:G1327,6,0)","v":83}]
[150,{"$f":"VLOOKUP(A151,EXISTENCIAS!B153:G1328,6,0)","v":2}]
[151,{"$f":"VLOOKUP(A152,EXISTENCIAS!B154:G1329,6,0)","v":0}]
[152,{"$f":"VLOOKUP(A153,EXISTENCIAS!B155:G1330,6,0)","v":18}]
[153,{"$f":"VLOOKUP(A154,EXISTENCIAS!B156:G1331,6,0)","v":10}]
[154,{"$f":"VLOOKUP(A155,EXISTENCIAS!B157:G1332,6,0)","v":28}]
[155,{"$f":"VLOOKUP(A156,EXISTENCIAS!B158:G1333,6,0)","v":62}]
[156,{"$f":"VLOOKUP(A157,EXISTENCIAS!B159:G1334,6,0)","v":50}]
[157,{"$f":"VLOOKUP(A158,EXISTENCIAS!B160:G1335,6,0)","v":11}]
[158,{"$f":"VLOOKUP(A159,EXISTENCIAS!B161:G1336,6,0)","v":26}]
[159,{"$f":"VLOOKUP(A160,EXISTENCIAS!B162:G1337,6,0)","v":15}]
[160,{"$f":"VLOOKUP(A161,EXISTENCIAS!B163:G1338,6,0)","v":157}]
[161,{"$f":"VLOOKUP(A162,EXISTENCIAS!B164:G1339,6,0)","v":6}]
[162,{"$f":"VLOOKUP(A163,EXISTENCIAS!B165:G1340,6,0)","v":38}]
[163,{"$f":"VLOOKUP(A164,EXISTENCIAS!B166:G1341,6,0)","v":0}]
[164,{"$f":"VLOOKUP(A165,EXISTENCIAS!B167:G1342,6,0)","v":28}]
[165,{"$f":"VLOOKUP(A166,EXISTENCIAS!B168:G1343,6,0)","v":14}]
[166,{"$f":"VLOOKUP(A167,EXISTENCIAS!B169:G1344,6,0)","v":3}]
[167,{"$f":"VLOOKUP(A168,EXISTENCIAS!B170:G1345,6,0)","v":10}]
[168,{"$f":"VLOOKUP(A169,EXISTENCIAS!B171:G1346,6,0)","v":4}]
[169,{"$f":"VLOOKUP(A170,EXISTENCIAS!B172:G1347,6,0)","v":7}]
[170,{"$f":"VLOOKUP(A171,EXISTENCIAS!B173:G1348,6,0)","v":29}]
[171,{"$f":"VLOOKUP(A172,EXISTENCIAS!B174:G1349,6,0)","v":85}]
[172,{"$f":"VLOOKUP(A173,EXISTENCIAS!B175:G1350,6,0)","v":0}]
[173,{"$f":"VLOOKUP(A174,EXISTENCIAS!B176:G1351,6,0)","v":20}]
[174,{"$f":"VLOOKUP(A175,EXISTENCIAS!B177:G1352,6,0)","v":35}]
[175,{"$f":"VLOOKUP(A176,EXISTENCIAS!B178:G1353,6,0)","v":0}]
[176,{"$f":"VLOOKUP(A177,EXISTENCIAS!B179:G1354,6,0)","v":20}]
[177,{"$f":"VLOOKUP(A178,EXISTENCIAS!B180:G1355,6,0)","v":25}]
[178,{"$f":"VLOOKUP(A179,EXISTENCIAS!B181:G1356,6,0)","v":0}]
[179,{"$f":"VLOOKUP(A180,EXISTENCIAS!B182:G1357,6,0)","v":0}]
[180,{"$f":"VLOOKUP(A181,EXISTENCIAS!B183:G1358,6,0)","v":7}]
[181,{"$f":"VLOOKUP(A182,EXISTENCIAS!B184:G1359,6,0)","v":8}]
[182,{"$f":"VLOOKUP(A183,EXISTENCIAS!B185:G1360,6,0)","v":0}]
[183,{"$f":"VLOOKUP(A184,EXISTENCIAS!B186:G1361,6,0)","v":6}]
[184,{"$f":"VLOOKUP(A185,EXISTENCIAS!B187:G1362,6,0)","v":7}]
[185,{"$f":"VLOOKUP(A186,EXISTENCIAS!B188:G1363,6,0)","v":9}]
[186,{"$f":"VLOOKUP(A187,EXISTENCIAS!B189:G1364,6,0)","v":0}]
[187,{"$f":"VLOOKUP(A188,EXISTENCIAS!B190:G1365,6,0)","v":0}]
[188,{"$f":"VLOOKUP(A189,EXISTENCIAS!B191:G1366,6,0)","v":4}]
[189,{"$f":"VLOOKUP(A190,EXISTENCIAS!B192:G1367,6,0)","v":4}]
[190,{"$f":"VLOOKUP(A191,EXISTENCIAS!B193:G1368,6,0)","v":48}]
[191,{"$f":"VLOOKUP(A192,EXISTENCIAS!B194:G1369,6,0)","v":0}]
[192,{"$f":"VLOOKUP(A193,EXISTENCIAS!B195:G1370,6,0)","v":16}]
[193,{"$f":"VLOOKUP(A194,EXISTENCIAS!B196:G1371,6,0)","v":3}]
[194,{"$f":"VLOOKUP(A195,EXISTENCIAS!B197:G1372,6,0)","v":20}]
[195,{"$f":"VLOOKUP(A196,EXISTENCIAS!B198:G1373,6,0)","v":2}]
[196,{"$f":"VLOOKUP(A197,EXISTENCIAS!B199:G1374,6,0)","v":4}]
[197,{"$f":"VLOOKUP(A198,EXISTENCIAS!B200:G1375,6,0)","v":20}]
[198,{"$f":"VLOOKUP(A199,EXISTENCIAS!B201:G1376,6,0)","v":10}]
[199,{"$f":"VLOOKUP(A200,EXISTENCIAS!B202:G1377,6,0)","v":4}]
[200,{"$f":"VLOOKUP(A201,EXISTENCIAS!B203:G1378,6,0)","v":40}]
[201,{"$f":"VLOOKUP(A202,EXISTENCIAS!B204:G1379,6,0)","v":0}]
[202,{"$f":"VLOOKUP(A203,EXISTENCIAS!B205:G1380,6,0)","v":6}]
[203,{"$f":"VLOOKUP(A204,EXISTENCIAS!B206:G1381,6,0)","v":0}]
[204,{"$f":"VLOOKUP(A205,EXISTENCIAS!B207:G1382,6,0)","v":7}]
[205,{"$f":"VLOOKUP(A206,EXISTENCIAS!B208:G1383,6,0)","v":23}]
[206,{"$f":"VLOOKUP(A207,EXISTENCIAS!B209:G1384,6,0)","v":0}]
[207,{"$f":"VLOOKUP(A208,EXISTENCIAS!B210:G1385,6,0)","v":5}]
[208,{"$f":"VLOOKUP(A209,EXISTENCIAS!B211:G1386,6,0)","v":0}]
[209,{"$f":"VLOOKUP(A210,EXISTENCIAS!B212:G1387,6,0)","v":5}]
[210,{"$f":"VLOOKUP(A211,EXISTENCIAS!B213:G1388,6,0)","v":11}]
[211,{"$f":"VLOOKUP(A212,EXISTENCIAS!B214:G1389,6,0)","v":9}]
[212,{"$f":"VLOOKUP(A213,EXISTENCIAS!B215:G1390,6,0)","v":0}]
[213,{"$f":"VLOOKUP(A214,EXISTENCIAS!B216:G1391,6,0)","v":5}]
[214,{"$f":"VLOOKUP(A215,EXISTENCIAS!B217:G1392,6,0)","v":7}]
[215,{"$f":"VLOOKUP(A216,EXISTENCIAS!B218:G1393,6,0)","v":8}]
[216,{"$f":"VLOOKUP(A217,EXISTENCIAS!B219:G1394,6,0)","v":0}]
[217,{"$f":"VLOOKUP(A218,EXISTENCIAS!B220:G1395,6,0)","v":0}]
[218,{"$f":"VLOOKUP(A219,EXISTENCIAS!B221:G1396,6,0)","v":12}]
[219,{"$f":"VLOOKUP(A220,EXISTENCIAS!B222:G1397,6,0)","v":0}]
[220,{"$f":"VLOOKUP(A221,EXISTENCIAS!B223:G1398,6,0)","v":9}]
[221,{"$f":"VLOOKUP(A222,EXISTENCIAS!B224:G1399,6,0)","v":0}]
[222,{"$f":"VLOOKUP(A223,EXISTENCIAS!B225:G1400,6,0)","v":0}]
[223,{"$f":"VLOOKUP(A224,EXISTENCIAS!B226:G1401,6,0)","v":0}]
[224,{"$f":"VLOOKUP(A225,EXISTENCIAS!B227:G1402,6,0)","v":23}]
[225,{"$f":"VLOOKUP(A226,EXISTENCIAS!B228:G1403,6,0)","v":0}]
[226,{"$f":"VLOOKUP(A227,EXISTENCIAS!B229:G1404,6,0)","v":0}]
[227,{"$f":"VLOOKUP(A228,EXISTENCIAS!B230:G1405,6,0)","v":0}]
[228,{"$f":"VLOOKUP(A229,EXISTENCIAS!B231:G1406,6,0)","v":0}]
[229,{"$f":"VLOOKUP(A230,EXISTENCIAS!B232:G1407,6,0)","v":0}]
[230,{"$f":"VLOOKUP(A231,EXISTENCIAS!B233:G1408,6,0)","v":2}]
[231,{"$f":"VLOOKUP(A232,EXISTENCIAS!B234:G1409,6,0)","v":15}]
[232,{"$f":"VLOOKUP(A233,EXISTENCIAS!B235:G1410,6,0)","v":0}]
[233,{"$f":"VLOOKUP(A234,EXISTENCIAS!B236:G1411,6,0)","v":11}]
[234,{"$f":"VLOOKUP(A235,EXISTENCIAS!B237:G1412,6,0)","v":0}]
[235,{"$f":"VLOOKUP(A236,EXISTENCIAS!B238:G1413,6,0)","v":0}]
[236,{"$f":"VLOOKUP(A237,EXISTENCIAS!B239:G1414,6,0)","v":3}]
[237,{"$f":"VLOOKUP(A238,EXISTENCIAS!B240:G1415,6,0)","v":1}]
[238,{"$f":"VLOOKUP(A239,EXISTENCIAS!B241:G1416,6,0)","v":16}]
[239,{"$f":"VLOOKUP(A240,EXISTENCIAS!B242:G1417,6,0)","v":19}]
[240,{"$f":"VLOOKUP(A241,EXISTENCIAS!B243:G1418,6,0)","v":0}]
[241,{"$f":"VLOOKUP(A242,EXISTENCIAS!B244:G1419,6,0)","v":0}]
[242,{"$f":"VLOOKUP(A243,EXISTENCIAS!B245:G1420,6,0)","v":10}]
[243,{"$f":"VLOOKUP(A244,EXISTENCIAS!B246:G1421,6,0)","v":0}]
[244,{"$f":"VLOOKUP(A245,EXISTENCIAS!B247:G1422,6,0)","v":14}]
[245,{"$f":"VLOOKUP(A246,EXISTENCIAS!B248:G1423,6,0)","v":0}]
[246,{"$f":"VLOOKUP(A247,EXISTENCIAS!B249:G1424,6,0)","v":8}]
[247,{"$f":"VLOOKUP(A248,EXISTENCIAS!B250:G1425,6,0)","v":44}]
[248,{"$f":"VLOOKUP(A249,EXISTENCIAS!B251:G1426,6,0)","v":16}]
[249,{"$f":"VLOOKUP(A250,EXISTENCIAS!B252:G1427,6,0)","v":12}]
[250,{"$f":"VLOOKUP(A251,EXISTENCIAS!B253:G1428,6,0)","v":0}]
[251,{"$f":"VLOOKUP(A252,EXISTENCIAS!B254:G1429,6,0)","v":11}]
[252,{"$f":"VLOOKUP(A253,EXISTENCIAS!B255:G1430,6,0)","v":0}]
[253,{"$f":"VLOOKUP(A254,EXISTENCIAS!B256:G1431,6,0)","v":42}]
[254,{"$f":"VLOOKUP(A255,EXISTENCIAS!B257:G1432,6,0)","v":0}]
[255,{"$f":"VLOOKUP(A256,EXISTENCIAS!B258:G1433,6,0)","v":20}]
[256,{"$f":"VLOOKUP(A257,EXISTENCIAS!B259:G1434,6,0)","v":6}]
[257,{"$f":"VLOOKUP(A258,EXISTENCIAS!B260:G1435,6,0)","v":1}]
[258,{"$f":"VLOOKUP(A259,EXISTENCIAS!B261:G1436,6,0)","v":25}]
[259,{"$f":"VLOOKUP(A260,EXISTENCIAS!B262:G1437,6,0)","v":20}]
[260,{"$f":"VLOOKUP(A261,EXISTENCIAS!B263:G1438,6,0)","v":16}]
[261,{"$f":"VLOOKUP(A262,EXISTENCIAS!B264:G1439,6,0)","v":0}]
[262,{"$f":"VLOOKUP(A263,EXISTENCIAS!B265:G1440,6,0)","v":2}]
[263,{"$f":"VLOOKUP(A264,EXISTENCIAS!B266:G1441,6,0)","v":0}]
[264,{"$f":"VLOOKUP(A265,EXISTENCIAS!B267:G1442,6,0)","v":0}]
[265,{"$f":"VLOOKUP(A266,EXISTENCIAS!B268:G1443,6,0)","v":2}]
[266,{"$f":"VLOOKUP(A267,EXISTENCIAS!B269:G1444,6,0)","v":0}]
[267,{"$f":"VLOOKUP(A268,EXISTENCIAS!B270:G1445,6,0)","v":10}]
[268,{"$f":"VLOOKUP(A269,EXISTENCIAS!B271:G1446,6,0)","v":102}]
[269,{"$f":"VLOOKUP(A270,EXISTENCIAS!B272:G1447,6,0)","v":6}]
[270,{"$f":"VLOOKUP(A271,EXISTENCIAS!B273:G1448,6,0)","v":13}]
[271,{"$f":"VLOOKUP(A272,EXISTENCIAS!B274:G1449,6,0)","v":0}]
[272,{"$f":"VLOOKUP(A273,EXISTENCIAS!B275:G1450,6,0)","v":38}]
[273,{"$f":"VLOOKUP(A274,EXISTENCIAS!B276:G1451,6,0)","v":0}]
[274,{"$f":"VLOOKUP(A275,EXISTENCIAS!B277:G1452,6,0)","v":0}]
[275,{"$f":"VLOOKUP(A276,EXISTENCIAS!B278:G1453,6,0)","v":8}]
[276,{"$f":"VLOOKUP(A277,EXISTENCIAS!B279:G1454,6,0)","v":0}]
[277,{"$f":"VLOOKUP(A278,EXISTENCIAS!B280:G1455,6,0)","v":12}]
[278,{"$f":"VLOOKUP(A279,EXISTENCIAS!B281:G1456,6,0)","v":34}]
[279,{"$f":"VLOOKUP(A280,EXISTENCIAS!B282:G1457,6,0)","v":7}]
[280,{"$f":"VLOOKUP(A281,EXISTENCIAS!B283:G1458,6,0)","v":0}]
[281,{"$f":"VLOOKUP(A282,EXISTENCIAS!B284:G1459,6,0)","v":0}]
[282,{"$f":"VLOOKUP(A283,EXISTENCIAS!B285:G1460,6,0)","v":0}]
[283,{"$f":"VLOOKUP(A284,EXISTENCIAS!B286:G1461,6,0)","v":0}]
[284,{"$f":"VLOOKUP(A285,EXISTENCIAS!B287:G1462,6,0)","v":0}]
[285,{"$f":"VLOOKUP(A286,EXISTENCIAS!B288:G1463,6,0)","v":0}]
[286,{"$f":"VLOOKUP(A287,EXISTENCIAS!B289:G1464,6,0)","v":0}]
[287,{"$f":"VLOOKUP(A288,EXISTENCIAS!B290:G1465,6,0)","v":0}]
[288,{"$f":"VLOOKUP(A289,EXISTENCIAS!B291:G1466,6,0)","v":0}]
[289,{"$f":"VLOOKUP(A290,EXISTENCIAS!B292:G1467,6,0)","v":0}]
[290,{"$f":"VLOOKUP(A291,EXISTENCIAS!B293:G1468,6,0)","v":0}]
[291,{"$f":"VLOOKUP(A292,EXISTENCIAS!B294:G1469,6,0)","v":0}]
[292,{"$f":"VLOOKUP(A293,EXISTENCIAS!B295:G1470,6,0)","v":0}]
[293,{"$f":"VLOOKUP(A294,EXISTENCIAS!B296:G1471,6,0)","v":7}]
[294,{"$f":"VLOOKUP(A295,EXISTENCIAS!B297:G1472,6,0)","v":69}]
[295,{"$f":"VLOOKUP(A296,EXISTENCIAS!B298:G1473,6,0)","v":0}]
[296,{"$f":"VLOOKUP(A297,EXISTENCIAS!B299:G1474,6,0)","v":13}]
[297,{"$f":"VLOOKUP(A298,EXISTENCIAS!B300:G1475,6,0)","v":0}]
[298,{"$f":"VLOOKUP(A299,EXISTENCIAS!B301:G1476,6,0)","v":0}]
[299,{"$f":"VLOOKUP(A300,EXISTENCIAS!B302:G1477,6,0)","v":12}]
[300,{"$f":"VLOOKUP(A301,EXISTENCIAS!B303:G1478,6,0)","v":0}]
[301,{"$f":"VLOOKUP(A302,EXISTENCIAS!B304:G1479,6,0)","v":0}]
[302,{"$f":"VLOOKUP(A303,EXISTENCIAS!B305:G1480,6,0)","v":32}]
[303,{"$f":"VLOOKUP(A304,EXISTENCIAS!B306:G1481,6,0)","v":0}]
[304,{"$f":"VLOOKUP(A305,EXISTENCIAS!B307:G1482,6,0)","v":0}]
[305,{"$f":"VLOOKUP(A306,EXISTENCIAS!B308:G1483,6,0)","v":43}]
[306,{"$f":"VLOOKUP(A307,EXISTENCIAS!B309:G1484,6,0)","v":2}]
[307,{"$f":"VLOOKUP(A308,EXISTENCIAS!B310:G1485,6,0)","v":0}]
[308,{"$f":"VLOOKUP(A309,EXISTENCIAS!B311:G1486,6,0)","v":12}]
[309,{"$f":"VLOOKUP(A310,EXISTENCIAS!B312:G1487,6,0)","v":2}]
[310,{"$f":"VLOOKUP(A311,EXISTENCIAS!B313:G1488,6,0)","v":0}]
[311,{"$f":"VLOOKUP(A312,EXISTENCIAS!B314:G1489,6,0)","v":0}]
[312,{"$f":"VLOOKUP(A313,EXISTENCIAS!B315:G1490,6,0)","v":6}]
[313,{"$f":"VLOOKUP(A314,EXISTENCIAS!B316:G1491,6,0)","v":50}]
[314,{"$f":"VLOOKUP(A315,EXISTENCIAS!B317:G1492,6,0)","v":8}]
[315,{"$f":"VLOOKUP(A316,EXISTENCIAS!B318:G1493,6,0)","v":13}]
[316,{"$f":"VLOOKUP(A317,EXISTENCIAS!B319:G1494,6,0)","v":33}]
[317,{"$f":"VLOOKUP(A318,EXISTENCIAS!B320:G1495,6,0)","v":0}]
[318,{"$f":"VLOOKUP(A319,EXISTENCIAS!B321:G1496,6,0)","v":0}]
[319,{"$f":"VLOOKUP(A320,EXISTENCIAS!B322:G1497,6,0)","v":0}]
[320,{"$f":"VLOOKUP(A321,EXISTENCIAS!B323:G1498,6,0)","v":0}]
[321,{"$f":"VLOOKUP(A322,EXISTENCIAS!B324:G1499,6,0)","v":33}]
[322,{"$f":"VLOOKUP(A323,EXISTENCIAS!B325:G1500,6,0)","v":0}]
[323,{"$f":"VLOOKUP(A324,EXISTENCIAS!B326:G1501,6,0)","v":67}]
[324,{"$f":"VLOOKUP(A325,EXISTENCIAS!B327:G1502,6,0)","v":57}]
[325,{"$f":"VLOOKUP(A326,EXISTENCIAS!B328:G1503,6,0)","v":34}]
[326,{"$f":"VLOOKUP(A327,EXISTENCIAS!B329:G1504,6,0)","v":27}]
[327,{"$f":"VLOOKUP(A328,EXISTENCIAS!B330:G1505,6,0)","v":22}]
[328,{"$f":"VLOOKUP(A329,EXISTENCIAS!B331:G1506,6,0)","v":0}]
[329,{"$f":"VLOOKUP(A330,EXISTENCIAS!B332:G1507,6,0)","v":9}]
[330,{"$f":"VLOOKUP(A331,EXISTENCIAS!B333:G1508,6,0)","v":41}]
[331,{"$f":"VLOOKUP(A332,EXISTENCIAS!B334:G1509,6,0)","v":50}]
[332,{"$f":"VLOOKUP(A333,EXISTENCIAS!B335:G1510,6,0)","v":0}]
[333,{"$f":"VLOOKUP(A334,EXISTENCIAS!B336:G1511,6,0)","v":15}]
[334,{"$f":"VLOOKUP(A335,EXISTENCIAS!B337:G1512,6,0)","v":40}]
[335,{"$f":"VLOOKUP(A336,EXISTENCIAS!B338:G1513,6,0)","v":30}]
[336,{"$f":"VLOOKUP(A337,EXISTENCIAS!B339:G1514,6,0)","v":11}]
[337,{"$f":"VLOOKUP(A338,EXISTENCIAS!B340:G1515,6,0)","v":3}]
[338,{"$f":"VLOOKUP(A339,EXISTENCIAS!B341:G1516,6,0)","v":14}]
[339,{"$f":"VLOOKUP(A340,EXISTENCIAS!B342:G1517,6,0)","v":30}]
[340,{"$f":"VLOOKUP(A341,EXISTENCIAS!B343:G1518,6,0)","v":23}]
[341,{"$f":"VLOOKUP(A342,EXISTENCIAS!B344:G1519,6,0)","v":78}]
[342,{"$f":"VLOOKUP(A343,EXISTENCIAS!B345:G1520,6,0)","v":42}]
[343,{"$f":"VLOOKUP(A344,EXISTENCIAS!B346:G1521,6,0)","v":107}]
[344,{"$f":"VLOOKUP(A345,EXISTENCIAS!B347:G1522,6,0)","v":18}]
[345,{"$f":"VLOOKUP(A346,EXISTENCIAS!B348:G1523,6,0)","v":86}]
[346,{"$f":"VLOOKUP(A347,EXISTENCIAS!B349:G1524,6,0)","v":58}]
[347,{"$f":"VLOOKUP(A348,EXISTENCIAS!B350:G1525,6,0)","v":117}]
[348,{"$f":"VLOOKUP(A349,EXISTENCIAS!B351:G1526,6,0)","v":7}]
[349,{"$f":"VLOOKUP(A350,EXISTENCIAS!B352:G1527,6,0)","v":96}]
[350,{"$f":"VLOOKUP(A351,EXISTENCIAS!B353:G1528,6,0)","v":7}]
[351,{"$f":"VLOOKUP(A352,EXISTENCIAS!B354:G1529,6,0)","v":89}]
[352,{"$f":"VLOOKUP(A353,EXISTENCIAS!B355:G1530,6,0)","v":18}]
[353,{"$f":"VLOOKUP(A354,EXISTENCIAS!B356:G1531,6,0)","v":49}]
[354,{"$f":"VLOOKUP(A355,EXISTENCIAS!B357:G1532,6,0)","v":16}]
[355,{"$f":"VLOOKUP(A356,EXISTENCIAS!B358:G1533,6,0)","v":66}]
[356,{"$f":"VLOOKUP(A357,EXISTENCIAS!B359:G1534,6,0)","v":0}]
[357,{"$f":"VLOOKUP(A358,EXISTENCIAS!B360:G1535,6,0)","v":131}]
[358,{"$f":"VLOOKUP(A359,EXISTENCIAS!B361:G1536,6,0)","v":42}]
[359,{"$f":"VLOOKUP(A360,EXISTENCIAS!B362:G1537,6,0)","v":122}]
[360,{"$f":"VLOOKUP(A361,EXISTENCIAS!B363:G1538,6,0)","v":124}]
[361,{"$f":"VLOOKUP(A362,EXISTENCIAS!B364:G1539,6,0)","v":85}]
[362,{"$f":"VLOOKUP(A363,EXISTENCIAS!B365:G1540,6,0)","v":66}]
[363,{"$f":"VLOOKUP(A364,EXISTENCIAS!B366:G1541,6,0)","v":62}]
[364,{"$f":"VLOOKUP(A365,EXISTENCIAS!B367:G1542,6,0)","v":0}]
[365,{"$f":"VLOOKUP(A366,EXISTENCIAS!B368:G1543,6,0)","v":1}]
[366,{"$f":"VLOOKUP(A367,EXISTENCIAS!B369:G1544,6,0)","v":57}]
[367,{"$f":"VLOOKUP(A368,EXISTENCIAS!B370:G1545,6,0)","v":0}]
[368,{"$f":"VLOOKUP(A369,EXISTENCIAS!B371:G1546,6,0)","v":26}]
[369,{"$f":"VLOOKUP(A370,EXISTENCIAS!B372:G1547,6,0)","v":70}]
[370,{"$f":"VLOOKUP(A371,EXISTENCIAS!B373:G1548,6,0)","v":82}]
[371,{"$f":"VLOOKUP(A372,EXISTENCIAS!B374:G1549,6,0)","v":5}]
[372,{"$f":"VLOOKUP(A373,EXISTENCIAS!B375:G1550,6,0)","v":24}]
[373,{"$f":"VLOOKUP(A374,EXISTENCIAS!B376:G1551,6,0)","v":17}]
[374,{"$f":"VLOOKUP(A375,EXISTENCIAS!B377:G1552,6,0)","v":16}]
[375,{"$f":"VLOOKUP(A376,EXISTENCIAS!B378:G1553,6,0)","v":5}]
[376,{"$f":"VLOOKUP(A377,EXISTENCIAS!B379:G1554,6,0)","v":2}]
[377,{"$f":"VLOOKUP(A378,EXISTENCIAS!B380:G1555,6,0)","v":7}]
[378,{"$f":"VLOOKUP(A379,EXISTENCIAS!B381:G1556,6,0)","v":20}]
[379,{"$f":"VLOOKUP(A380,EXISTENCIAS!B382:G1557,6,0)","v":4}]
[380,{"$f":"VLOOKUP(A381,EXISTENCIAS!B383:G1558,6,0)","v":0}]
[381,{"$f":"VLOOKUP(A382,EXISTENCIAS!B384:G1559,6,0)","v":0}]
[382,{"$f":"VLOOKUP(A383,EXISTENCIAS!B385:G1560,6,0)","v":50}]
[383,{"$f":"VLOOKUP(A384,EXISTENCIAS!B386:G1561,6,0)","v":8}]
[384,{"$f":"VLOOKUP(A385,EXISTENCIAS!B387:G1562,6,0)","v":79}]
[385,{"$f":"VLOOKUP(A386,EXISTENCIAS!B388:G1563,6,0)","v":74}]
[386,{"$f":"VLOOKUP(A387,EXISTENCIAS!B389:G1564,6,0)","v":39}]
[387,{"$f":"VLOOKUP(A388,EXISTENCIAS!B390:G1565,6,0)","v":31}]
[388,{"$f":"VLOOKUP(A389,EXISTENCIAS!B391:G1566,6,0)","v":92}]
[389,{"$f":"VLOOKUP(A390,EXISTENCIAS!B392:G1567,6,0)","v":45}]
[390,{"$f":"VLOOKUP(A391,EXISTENCIAS!B393:G1568,6,0)","v":6}]
[391,{"$f":"VLOOKUP(A392,EXISTENCIAS!B394:G1569,6,0)","v":48}]
[392,{"$f":"VLOOKUP(A393,EXISTENCIAS!B395:G1570,6,0)","v":220}]
[393,{"$f":"VLOOKUP(A394,EXISTENCIAS!B396:G1571,6,0)","v":184}]
[394,{"$f":"VLOOKUP(A395,EXISTENCIAS!B397:G1572,6,0)","v":51}]
[395,{"$f":"VLOOKUP(A396,EXISTENCIAS!B398:G1573,6,0)","v":361}]
[396,{"$f":"VLOOKUP(A397,EXISTENCIAS!B399:G1574,6,0)","v":348}]
[397,{"$f":"VLOOKUP(A398,EXISTENCIAS!B400:G1575,6,0)","v":137}]
[398,{"$f":"VLOOKUP(A399,EXISTENCIAS!B401:G1576,6,0)","v":275}]
[399,{"$f":"VLOOKUP(A400,EXISTENCIAS!B402:G1577,6,0)","v":174}]
[400,{"$f":"VLOOKUP(A401,EXISTENCIAS!B403:G1578,6,0)","v":452}]
[401,{"$f":"VLOOKUP(A402,EXISTENCIAS!B404:G1579,6,0)","v":285}]
[402,{"$f":"VLOOKUP(A403,EXISTENCIAS!B405:G1580,6,0)","v":128}]
[403,{"$f":"VLOOKUP(A404,EXISTENCIAS!B406:G1581,6,0)","v":243}]
[404,{"$f":"VLOOKUP(A405,EXISTENCIAS!B407:G1582,6,0)","v":444}]
[405,{"$f":"VLOOKUP(A406,EXISTENCIAS!B408:G1583,6,0)","v":328}]
[406,{"$f":"VLOOKUP(A407,EXISTENCIAS!B409:G1584,6,0)","v":216}]
[407,{"$f":"VLOOKUP(A408,EXISTENCIAS!B410:G1585,6,0)","v":76}]
[408,{"$f":"VLOOKUP(A409,EXISTENCIAS!B411:G1586,6,0)","v":36}]
[409,{"$f":"VLOOKUP(A410,EXISTENCIAS!B412:G1587,6,0)","v":59}]
[410,{"$f":"VLOOKUP(A411,EXISTENCIAS!B413:G1588,6,0)","v":49}]
[411,{"$f":"VLOOKUP(A412,EXISTENCIAS!B414:G1589,6,0)","v":79}]
[412,{"$f":"VLOOKUP(A413,EXISTENCIAS!B415:G1590,6,0)","v":120}]
[413,{"$f":"VLOOKUP(A414,EXISTENCIAS!B416:G1591,6,0)","v":130}]
[414,{"$f":"VLOOKUP(A415,EXISTENCIAS!B417:G1592,6,0)","v":69}]
[415,{"$f":"VLOOKUP(A416,EXISTENCIAS!B418:G1593,6,0)","v":31}]
[416,{"$f":"VLOOKUP(A417,EXISTENCIAS!B419:G1594,6,0)","v":31}]
[417,{"$f":"VLOOKUP(A418,EXISTENCIAS!B420:G1595,6,0)","v":18}]
[418,{"$f":"VLOOKUP(A419,EXISTENCIAS!B421:G1596,6,0)","v":63}]
[419,{"$f":"VLOOKUP(A420,EXISTENCIAS!B422:G1597,6,0)","v":38}]
[420,{"$f":"VLOOKUP(A421,EXISTENCIAS!B423:G1598,6,0)","v":9}]
[421,{"$f":"VLOOKUP(A422,EXISTENCIAS!B424:G1599,6,0)","v":52}]
[422,{"$f":"VLOOKUP(A423,EXISTENCIAS!B425:G1600,6,0)","v":0}]
[423,{"$f":"VLOOKUP(A424,EXISTENCIAS!B426:G1601,6,0)","v":23}]
[424,{"$f":"VLOOKUP(A425,EXISTENCIAS!B427:G1602,6,0)","v":32}]
[425,{"$f":"VLOOKUP(A426,EXISTENCIAS!B428:G1603,6,0)","v":36}]
[426,{"$f":"VLOOKUP(A427,EXISTENCIAS!B429:G1604,6,0)","v":14}]
[427,{"$f":"VLOOKUP(A428,EXISTENCIAS!B430:G1605,6,0)","v":32}]
[428,{"$f":"VLOOKUP(A429,EXISTENCIAS!B431:G1606,6,0)","v":34}]
[429,{"$f":"VLOOKUP(A430,EXISTENCIAS!B432:G1607,6,0)","v":30}]
[430,{"$f":"VLOOKUP(A431,EXISTENCIAS!B433:G1608,6,0)","v":21}]
[431,{"$f":"VLOOKUP(A432,EXISTENCIAS!B434:G1609,6,0)","v":40}]
[432,{"$f":"VLOOKUP(A433,EXISTENCIAS!B435:G1610,6,0)","v":36}]
[433,{"$f":"VLOOKUP(A434,EXISTENCIAS!B436:G1611,6,0)","v":51}]
[434,{"$f":"VLOOKUP(A435,EXISTENCIAS!B437:G1612,6,0)","v":40}]
[435,{"$f":"VLOOKUP(A436,EXISTENCIAS!B438:G1613,6,0)","v":38}]
[436,{"$f":"VLOOKUP(A437,EXISTENCIAS!B439:G1614,6,0)","v":10}]
[437,{"$f":"VLOOKUP(A438,EXISTENCIAS!B440:G1615,6,0)","v":3}]
[438,{"$f":"VLOOKUP(A439,EXISTENCIAS!B441:G1616,6,0)","v":4}]
[439,{"$f":"VLOOKUP(A440,EXISTENCIAS!B442:G1617,6,0)","v":0}]
[440,{"$f":"VLOOKUP(A441,EXISTENCIAS!B443:G1618,6,0)","v":0}]
[441,{"$f":"VLOOKUP(A442,EXISTENCIAS!B444:G1619,6,0)","v":0}]
[442,{"$f":"VLOOKUP(A443,EXISTENCIAS!B445:G1620,6,0)","v":0}]
[443,{"$f":"VLOOKUP(A444,EXISTENCIAS!B446:G1621,6,0)","v":0}]
[444,{"$f":"VLOOKUP(A445,EXISTENCIAS!B447:G1622,6,0)","v":32}]
[445,{"$f":"VLOOKUP(A446,EXISTENCIAS!B448:G1623,6,0)","v":30}]
[446,{"$f":"VLOOKUP(A447,EXISTENCIAS!B449:G1624,6,0)","v":7}]
[447,{"$f":"VLOOKUP(A448,EXISTENCIAS!B450:G1625,6,0)","v":4}]
[448,{"$f":"VLOOKUP(A449,EXISTENCIAS!B451:G1626,6,0)","v":19}]
[449,{"$f":"VLOOKUP(A450,EXISTENCIAS!B452:G1627,6,0)","v":31}]
[450,{"$f":"VLOOKUP(A451,EXISTENCIAS!B453:G1628,6,0)","v":16}]
[451,{"$f":"VLOOKUP(A452,EXISTENCIAS!B454:G1629,6,0)","v":25}]
[452,{"$f":"VLOOKUP(A453,EXISTENCIAS!B455:G1630,6,0)","v":28}]
[453,{"$f":"VLOOKUP(A454,EXISTENCIAS!B456:G1631,6,0)","v":101}]
[454,{"$f":"VLOOKUP(A455,EXISTENCIAS!B457:G1632,6,0)","v":120}]
[455,{"$f":"VLOOKUP(A456,EXISTENCIAS!B458:G1633,6,0)","v":28}]
[456,{"$f":"VLOOKUP(A457,EXISTENCIAS!B459:G1634,6,0)","v":90}]
[457,{"$f":"VLOOKUP(A458,EXISTENCIAS!B460:G1635,6,0)","v":178}]
[458,{"$f":"VLOOKUP(A459,EXISTENCIAS!B461:G1636,6,0)","v":124}]
[459,{"$f":"VLOOKUP(A460,EXISTENCIAS!B462:G1637,6,0)","v":86}]
[460,{"$f":"VLOOKUP(A461,EXISTENCIAS!B463:G1638,6,0)","v":77}]
[461,{"$f":"VLOOKUP(A462,EXISTENCIAS!B464:G1639,6,0)","v":55}]
[462,{"$f":"VLOOKUP(A463,EXISTENCIAS!B465:G1640,6,0)","v":45}]
[463,{"$f":"VLOOKUP(A464,EXISTENCIAS!B466:G1641,6,0)","v":42}]
[464,{"$f":"VLOOKUP(A465,EXISTENCIAS!B467:G1642,6,0)","v":25}]
[465,{"$f":"VLOOKUP(A466,EXISTENCIAS!B468:G1643,6,0)","v":71}]
[466,{"$f":"VLOOKUP(A467,EXISTENCIAS!B469:G1644,6,0)","v":184}]
[467,{"$f":"VLOOKUP(A468,EXISTENCIAS!B470:G1645,6,0)","v":264}]
[468,{"$f":"VLOOKUP(A469,EXISTENCIAS!B471:G1646,6,0)","v":92}]
[469,{"$f":"VLOOKUP(A470,EXISTENCIAS!B472:G1647,6,0)","v":212}]
[470,{"$f":"VLOOKUP(A471,EXISTENCIAS!B473:G1648,6,0)","v":153}]
[471,{"$f":"VLOOKUP(A472,EXISTENCIAS!B474:G1649,6,0)","v":111}]
[472,{"$f":"VLOOKUP(A473,EXISTENCIAS!B475:G1650,6,0)","v":145}]
[473,{"$f":"VLOOKUP(A474,EXISTENCIAS!B476:G1651,6,0)","v":48}]
[474,{"$f":"VLOOKUP(A475,EXISTENCIAS!B477:G1652,6,0)","v":29}]
[475,{"$f":"VLOOKUP(A476,EXISTENCIAS!B478:G1653,6,0)","v":61}]
[476,{"$f":"VLOOKUP(A477,EXISTENCIAS!B479:G1654,6,0)","v":106}]
[477,{"$f":"VLOOKUP(A478,EXISTENCIAS!B480:G1655,6,0)","v":78}]
[478,{"$f":"VLOOKUP(A479,EXISTENCIAS!B481:G1656,6,0)","v":18}]
[479,{"$f":"VLOOKUP(A480,EXISTENCIAS!B482:G1657,6,0)","v":78}]
[480,{"$f":"VLOOKUP(A481,EXISTENCIAS!B483:G1658,6,0)","v":80}]
[481,{"$f":"VLOOKUP(A482,EXISTENCIAS!B484:G1659,6,0)","v":33}]
[482,{"$f":"VLOOKUP(A483,EXISTENCIAS!B485:G1660,6,0)","v":77}]
[483,{"$f":"VLOOKUP(A484,EXISTENCIAS!B486:G1661,6,0)","v":103}]
[484,{"$f":"VLOOKUP(A485,EXISTENCIAS!B487:G1662,6,0)","v":19}]
[485,{"$f":"VLOOKUP(A486,EXISTENCIAS!B488:G1663,6,0)","v":35}]
[486,{"$f":"VLOOKUP(A487,EXISTENCIAS!B489:G1664,6,0)","v":46}]
[487,{"$f":"VLOOKUP(A488,EXISTENCIAS!B490:G1665,6,0)","v":94}]
[488,{"$f":"VLOOKUP(A489,EXISTENCIAS!B491:G1666,6,0)","v":47}]
[489,{"$f":"VLOOKUP(A490,EXISTENCIAS!B492:G1667,6,0)","v":18}]
[490,{"$f":"VLOOKUP(A491,EXISTENCIAS!B493:G1668,6,0)","v":29}]
[491,{"$f":"VLOOKUP(A492,EXISTENCIAS!B494:G1669,6,0)","v":1}]
[492,{"$f":"VLOOKUP(A493,EXISTENCIAS!B495:G1670,6,0)","v":20}]
[493,{"$f":"VLOOKUP(A494,EXISTENCIAS!B496:G1671,6,0)","v":18}]
[494,{"$f":"VLOOKUP(A495,EXISTENCIAS!B497:G1672,6,0)","v":47}]
[495,{"$f":"VLOOKUP(A496,EXISTENCIAS!B498:G1673,6,0)","v":2}]
[496,{"$f":"VLOOKUP(A497,EXISTENCIAS!B499:G1674,6,0)","v":30}]
[497,{"$f":"VLOOKUP(A498,EXISTENCIAS!B500:G1675,6,0)","v":26}]
[498,{"$f":"VLOOKUP(A499,EXISTENCIAS!B501:G1676,6,0)","v":25}]
[499,{"$f":"VLOOKUP(A500,EXISTENCIAS!B502:G1677,6,0)","v":14}]
[500,{"$f":"VLOOKUP(A501,EXISTENCIAS!B503:G1678,6,0)","v":9}]
[501,{"$f":"VLOOKUP(A502,EXISTENCIAS!B504:G1679,6,0)","v":0}]
[502,{"$f":"VLOOKUP(A503,EXISTENCIAS!B505:G1680,6,0)","v":0}]
[503,{"$f":"VLOOKUP(A504,EXISTENCIAS!B506:G1681,6,0)","v":0}]
[504,{"$f":"VLOOKUP(A505,EXISTENCIAS!B507:G1682,6,0)","v":0}]
[505,{"$f":"VLOOKUP(A506,EXISTENCIAS!B508:G1683,6,0)","v":7}]
[506,{"$f":"VLOOKUP(A507,EXISTENCIAS!B509:G1684,6,0)","v":0}]
[507,{"$f":"VLOOKUP(A508,EXISTENCIAS!B510:G1685,6,0)","v":0}]
[508,{"$f":"VLOOKUP(A509,EXISTENCIAS!B511:G1686,6,0)","v":0}]
[509,{"$f":"VLOOKUP(A510,EXISTENCIAS!B512:G1687,6,0)","v":0}]
[510,{"$f":"VLOOKUP(A511,EXISTENCIAS!B513:G1688,6,0)","v":0}]
[511,{"$f":"VLOOKUP(A512,EXISTENCIAS!B514:G1689,6,0)","v":0}]
[512,{"$f":"VLOOKUP(A513,EXISTENCIAS!B515:G1690,6,0)","v":0}]
[513,{"$f":"VLOOKUP(A514,EXISTENCIAS!B516:G1691,6,0)","v":0}]
[514,{"$f":"VLOOKUP(A515,EXISTENCIAS!B517:G1692,6,0)","v":8}]
[515,{"$f":"VLOOKUP(A516,EXISTENCIAS!B518:G1693,6,0)","v":5}]
[516,{"$f":"VLOOKUP(A517,EXISTENCIAS!B519:G1694,6,0)","v":0}]
[517,{"$f":"VLOOKUP(A518,EXISTENCIAS!B520:G1695,6,0)","v":7}]
[518,{"$f":"VLOOKUP(A519,EXISTENCIAS!B521:G1696,6,0)","v":0}]
[519,{"$f":"VLOOKUP(A520,EXISTENCIAS!B522:G1697,6,0)","v":21}]
[520,{"$f":"VLOOKUP(A521,EXISTENCIAS!B523:G1698,6,0)","v":1}]
[521,{"$f":"VLOOKUP(A522,EXISTENCIAS!B524:G1699,6,0)","v":5}]
[522,{"$f":"VLOOKUP(A523,EXISTENCIAS!B525:G1700,6,0)","v":25}]
[523,{"$f":"VLOOKUP(A524,EXISTENCIAS!B526:G1701,6,0)","v":5}]
[524,{"$f":"VLOOKUP(A525,EXISTENCIAS!B527:G1702,6,0)","v":10}]
[525,{"$f":"VLOOKUP(A526,EXISTENCIAS!B528:G1703,6,0)","v":15}]
[526,{"$f":"VLOOKUP(A527,EXISTENCIAS!B529:G1704,6,0)","v":5}]
[527,{"$f":"VLOOKUP(A528,EXISTENCIAS!B530:G1705,6,0)","v":19}]
[528,{"$f":"VLOOKUP(A529,EXISTENCIAS!B531:G1706,6,0)","v":20}]
[529,{"$f":"VLOOKUP(A530,EXISTENCIAS!B532:G1707,6,0)","v":9}]
[530,{"$f":"VLOOKUP(A531,EXISTENCIAS!B533:G1708,6,0)","v":25}]
[531,{"$f":"VLOOKUP(A532,EXISTENCIAS!B534:G1709,6,0)","v":34}]
[532,{"$f":"VLOOKUP(A533,EXISTENCIAS!B535:G1710,6,0)","v":6}]
[533,{"$f":"VLOOKUP(A534,EXISTENCIAS!B536:G1711,6,0)","v":14}]
[534,{"$f":"VLOOKUP(A535,EXISTENCIAS!B537:G1712,6,0)","v":0}]
[535,{"$f":"VLOOKUP(A536,EXISTENCIAS!B538:G1713,6,0)","v":142}]
[536,{"$f":"VLOOKUP(A537,EXISTENCIAS!B539:G1714,6,0)","v":108}]
[537,{"$f":"VLOOKUP(A538,EXISTENCIAS!B540:G1715,6,0)","v":0}]
[538,{"$f":"VLOOKUP(A539,EXISTENCIAS!B541:G1716,6,0)","v":0}]
[539,{"$f":"VLOOKUP(A540,EXISTENCIAS!B542:G1717,6,0)","v":0}]
[540,{"$f":"VLOOKUP(A541,EXISTENCIAS!B543:G1718,6,0)","v":5}]
[541,{"$f":"VLOOKUP(A542,EXISTENCIAS!B544:G1719,6,0)","v":0}]
[542,{"$f":"VLOOKUP(A543,EXISTENCIAS!B545:G1720,6,0)","v":0}]
[543,{"$f":"VLOOKUP(A544,EXISTENCIAS!B546:G1721,6,0)","v":11}]
[544,{"$f":"VLOOKUP(A545,EXISTENCIAS!B547:G1722,6,0)","v":1}]
[545,{"$f":"VLOOKUP(A546,EXISTENCIAS!B548:G1723,6,0)","v":10}]
[546,{"$f":"VLOOKUP(A547,EXISTENCIAS!B549:G1724,6,0)","v":14}]
[547,{"$f":"VLOOKUP(A548,EXISTENCIAS!B550:G1725,6,0)","v":10}]
[548,{"$f":"VLOOKUP(A549,EXISTENCIAS!B551:G1726,6,0)","v":0}]
[549,{"$f":"VLOOKUP(A550,EXISTENCIAS!B552:G1727,6,0)","v":0}]
[550,{"$f":"VLOOKUP(A551,EXISTENCIAS!B553:G1728,6,0)","v":18}]
[551,{"$f":"VLOOKUP(A552,EXISTENCIAS!B554:G1729,6,0)","v":2}]
[552,{"$f":"VLOOKUP(A553,EXISTENCIAS!B555:G1730,6,0)","v":24}]
[553,{"$f":"VLOOKUP(A554,EXISTENCIAS!B556:G1731,6,0)","v":5}]
[554,{"$f":"VLOOKUP(A555,EXISTENCIAS!B557:G1732,6,0)","v":5}]
[555,{"$f":"VLOOKUP(A556,EXISTENCIAS!B558:G1733,6,0)","v":0}]
[556,{"$f":"VLOOKUP(A557,EXISTENCIAS!B559:G1734,6,0)","v":0}]
[557,{"$f":"VLOOKUP(A558,EXISTENCIAS!B560:G1735,6,0)","v":0}]
[558,{"$f":"VLOOKUP(A559,EXISTENCIAS!B561:G1736,6,0)","v":0}]
[559,{"$f":"VLOOKUP(A560,EXISTENCIAS!B562:G1737,6,0)","v":0}]
[560,{"$f":"VLOOKUP(A561,EXISTENCIAS!B563:G1738,6,0)","v":0}]
[561,{"$f":"VLOOKUP(A562,EXISTENCIAS!B564:G1739,6,0)","v":0}]
[562,{"$f":"VLOOKUP(A563,EXISTENCIAS!B565:G1740,6,0)","v":10}]
[563,{"$f":"VLOOKUP(A564,EXISTENCIAS!B566:G1741,6,0)","v":5}]
[564,{"$f":"VLOOKUP(A565,EXISTENCIAS!B567:G1742,6,0)","v":2}]
[565,{"$f":"VLOOKUP(A566,EXISTENCIAS!B568:G1743,6,0)","v":15}]
[566,{"$f":"VLOOKUP(A567,EXISTENCIAS!B569:G1744,6,0)","v":1}]
[567,{"$f":"VLOOKUP(A568,EXISTENCIAS!B570:G1745,6,0)","v":0}]
[568,{"$f":"VLOOKUP(A569,EXISTENCIAS!B571:G1746,6,0)","v":7}]
[569,{"$f":"VLOOKUP(A570,EXISTENCIAS!B572:G1747,6,0)","v":21}]
[570,{"$f":"VLOOKUP(A571,EXISTENCIAS!B573:G1748,6,0)","v":0}]
[571,{"$f":"VLOOKUP(A572,EXISTENCIAS!B574:G1749,6,0)","v":3}]
[572,{"$f":"VLOOKUP(A573,EXISTENCIAS!B575:G1750,6,0)","v":0}]
[573,{"$f":"VLOOKUP(A574,EXISTENCIAS!B576:G1751,6,0)","v":35}]
[574,{"$f":"VLOOKUP(A575,EXISTENCIAS!B577:G1752,6,0)","v":0}]
[575,{"$f":"VLOOKUP(A576,EXISTENCIAS!B578:G1753,6,0)","v":0}]
[576,{"$f":"VLOOKUP(A577,EXISTENCIAS!B579:G1754,6,0)","v":6}]
[577,{"$f":"VLOOKUP(A578,EXISTENCIAS!B580:G1755,6,0)","v":0}]
[578,{"$f":"VLOOKUP(A579,EXISTENCIAS!B581:G1756,6,0)","v":0}]
[579,{"$f":"VLOOKUP(A580,EXISTENCIAS!B582:G1757,6,0)","v":27}]
[580,{"$f":"VLOOKUP(A581,EXISTENCIAS!B583:G1758,6,0)","v":18}]
[581,{"$f":"VLOOKUP(A582,EXISTENCIAS!B584:G1759,6,0)","v":0}]
[582,{"$f":"VLOOKUP(A583,EXISTENCIAS!B585:G1760,6,0)","v":0}]
[583,{"$f":"VLOOKUP(A584,EXISTENCIAS!B586:G1761,6,0)","v":0}]
[584,{"$f":"VLOOKUP(A585,EXISTENCIAS!B587:G1762,6,0)","v":24}]
[585,{"$f":"VLOOKUP(A586,EXISTENCIAS!B588:G1763,6,0)","v":0}]
[586,{"$f":"VLOOKUP(A587,EXISTENCIAS!B589:G1764,6,0)","v":0}]
[587,{"$f":"VLOOKUP(A588,EXISTENCIAS!B590:G1765,6,0)","v":0}]
[588,{"$f":"VLOOKUP(A589,EXISTENCIAS!B591:G1766,6,0)","v":0}]
[589,{"$f":"VLOOKUP(A590,EXISTENCIAS!B592:G1767,6,0)","v":0}]
[590,{"$f":"VLOOKUP(A591,EXISTENCIAS!B593:G1768,6,0)","v":0}]
[591,{"$f":"VLOOKUP(A592,EXISTENCIAS!B594:G1769,6,0)","v":0}]
[592,{"$f":"VLOOKUP(A593,EXISTENCIAS!B595:G1770,6,0)","v":45}]
[593,{"$f":"VLOOKUP(A594,EXISTENCIAS!B596:G1771,6,0)","v":0}]
[594,{"$f":"VLOOKUP(A595,EXISTENCIAS!B597:G1772,6,0)","v":2}]
[595,{"$f":"VLOOKUP(A596,EXISTENCIAS!B598:G1773,6,0)","v":31}]
[596,{"$f":"VLOOKUP(A597,EXISTENCIAS!B599:G1774,6,0)","v":0}]
[597,{"$f":"VLOOKUP(A598,EXISTENCIAS!B600:G1775,6,0)","v":0}]
[598,{"$f":"VLOOKUP(A599,EXISTENCIAS!B601:G1776,6,0)","v":0}]
[599,{"$f":"VLOOKUP(A600,EXISTENCIAS!B602:G1777,6,0)","v":7}]
[600,{"$f":"VLOOKUP(A601,EXISTENCIAS!B603:G1778,6,0)","v":8}]
[601,{"$f":"VLOOKUP(A602,EXISTENCIAS!B604:G1779,6,0)","v":0}]
[602,{"$f":"VLOOKUP(A603,EXISTENCIAS!B605:G1780,6,0)","v":0}]
[603,{"$f":"VLOOKUP(A604,EXISTENCIAS!B606:G1781,6,0)","v":0}]
[604,{"$f":"VLOOKUP(A605,EXISTENCIAS!B607:G1782,6,0)","v":11}]
[605,{"$f":"VLOOKUP(A606,EXISTENCIAS!B608:G1783,6,0)","v":0}]
[606,{"$f":"VLOOKUP(A607,EXISTENCIAS!B609:G1784,6,0)","v":0}]
[607,{"$f":"VLOOKUP(A608,EXISTENCIAS!B610:G1785,6,0)","v":0}]
[608,{"$f":"VLOOKUP(A609,EXISTENCIAS!B611:G1786,6,0)","v":0}]
[609,{"$f":"VLOOKUP(A610,EXISTENCIAS!B612:G1787,6,0)","v":0}]
[610,{"$f":"VLOOKUP(A611,EXISTENCIAS!B613:G1788,6,0)","v":3}]
[611,{"$f":"VLOOKUP(A612,EXISTENCIAS!B614:G1789,6,0)","v":0}]
[612,{"$f":"VLOOKUP(A613,EXISTENCIAS!B615:G1790,6,0)","v":0}]
[613,{"$f":"VLOOKUP(A614,EXISTENCIAS!B616:G1791,6,0)","v":0}]
[614,{"$f":"VLOOKUP(A615,EXISTENCIAS!B617:G1792,6,0)","v":2}]
[615,{"$f":"VLOOKUP(A616,EXISTENCIAS!B618:G1793,6,0)","v":0}]
[616,{"$f":"VLOOKUP(A617,EXISTENCIAS!B619:G1794,6,0)","v":0}]
[617,{"$f":"VLOOKUP(A618,EXISTENCIAS!B620:G1795,6,0)","v":0}]
[618,{"$f":"VLOOKUP(A619,EXISTENCIAS!B621:G1796,6,0)","v":0}]
[619,{"$f":"VLOOKUP(A620,EXISTENCIAS!B622:G1797,6,0)","v":0}]
[620,{"$f":"VLOOKUP(A621,EXISTENCIAS!B623:G1798,6,0)","v":7}]
[621,{"$f":"VLOOKUP(A622,EXISTENCIAS!B624:G1799,6,0)","v":0}]
[622,{"$f":"VLOOKUP(A623,EXISTENCIAS!B625:G1800,6,0)","v":1}]
[623,{"$f":"VLOOKUP(A624,EXISTENCIAS!B626:G1801,6,0)","v":0}]
[624,{"$f":"VLOOKUP(A625,EXISTENCIAS!B627:G1802,6,0)","v":0}]
[625,{"$f":"VLOOKUP(A626,EXISTENCIAS!B628:G1803,6,0)","v":4}]
[626,{"$f":"VLOOKUP(A627,EXISTENCIAS!B629:G1804,6,0)","v":0}]
[627,{"$f":"VLOOKUP(A628,EXISTENCIAS!B630:G1805,6,0)","v":0}]
[628,{"$f":"VLOOKUP(A629,EXISTENCIAS!B631:G1806,6,0)","v":0}]
[629,{"$f":"VLOOKUP(A630,EXISTENCIAS!B632:G1807,6,0)","v":0}]
[630,{"$f":"VLOOKUP(A631,EXISTENCIAS!B633:G1808,6,0)","v":9}]
[631,{"$f":"VLOOKUP(A632,EXISTENCIAS!B634:G1809,6,0)","v":0}]
[632,{"$f":"VLOOKUP(A633,EXISTENCIAS!B635:G1810,6,0)","v":23}]
[633,{"$f":"VLOOKUP(A634,EXISTENCIAS!B636:G1811,6,0)","v":0}]
[634,{"$f":"VLOOKUP(A635,EXISTENCIAS!B637:G1812,6,0)","v":0}]
[635,{"$f":"VLOOKUP(A636,EXISTENCIAS!B638:G1813,6,0)","v":21}]
[636,{"$f":"VLOOKUP(A637,EXISTENCIAS!B639:G1814,6,0)","v":0}]
[637,{"$f":"VLOOKUP(A638,EXISTENCIAS!B640:G1815,6,0)","v":11}]
[638,{"$f":"VLOOKUP(A639,EXISTENCIAS!B641:G1816,6,0)","v":3}]
[639,{"$f":"VLOOKUP(A640,EXISTENCIAS!B642:G1817,6,0)","v":0}]
[640,{"$f":"VLOOKUP(A641,EXISTENCIAS!B643:G1818,6,0)","v":0}]
[641,{"$f":"VLOOKUP(A642,EXISTENCIAS!B644:G1819,6,0)","v":0}]
[642,{"$f":"VLOOKUP(A643,EXISTENCIAS!B645:G1820,6,0)","v":0}]
[643,{"$f":"VLOOKUP(A644,EXISTENCIAS!B646:G1821,6,0)","v":1}]
[644,{"$f":"VLOOKUP(A645,EXISTENCIAS!B647:G1822,6,0)","v":35}]
[645,{"$f":"VLOOKUP(A646,EXISTENCIAS!B648:G1823,6,0)","v":0}]
[646,{"$f":"VLOOKUP(A647,EXISTENCIAS!B649:G1824,6,0)","v":2}]
[647,{"$f":"VLOOKUP(A648,EXISTENCIAS!B650:G1825,6,0)","v":21}]
[648,{"$f":"VLOOKUP(A649,EXISTENCIAS!B651:G1826,6,0)","v":15}]
[649,{"$f":"VLOOKUP(A650,EXISTENCIAS!B652:G1827,6,0)","v":8}]
[650,{"$f":"VLOOKUP(A651,EXISTENCIAS!B653:G1828,6,0)","v":0}]
[651,{"$f":"VLOOKUP(A652,EXISTENCIAS!B654:G1829,6,0)","v":0}]
[652,{"$f":"VLOOKUP(A653,EXISTENCIAS!B655:G1830,6,0)","v":0}]
[653,{"$f":"VLOOKUP(A654,EXISTENCIAS!B656:G1831,6,0)","v":0}]
[654,{"$f":"VLOOKUP(A655,EXISTENCIAS!B657:G1832,6,0)","v":0}]
[655,{"$f":"VLOOKUP(A656,EXISTENCIAS!B658:G1833,6,0)","v":0}]
[656,{"$f":"VLOOKUP(A657,EXISTENCIAS!B659:G1834,6,0)","v":5}]
[657,{"$f":"VLOOKUP(A658,EXISTENCIAS!B660:G1835,6,0)","v":14}]
[658,{"$f":"VLOOKUP(A659,EXISTENCIAS!B661:G1836,6,0)","v":8}]
[659,{"$f":"VLOOKUP(A660,EXISTENCIAS!B662:G1837,6,0)","v":16}]
[660,{"$f":"VLOOKUP(A661,EXISTENCIAS!B663:G1838,6,0)","v":12}]
[661,{"$f":"VLOOKUP(A662,EXISTENCIAS!B664:G1839,6,0)","v":4}]
[662,{"$f":"VLOOKUP(A663,EXISTENCIAS!B665:G1840,6,0)","v":15}]
[663,{"$f":"VLOOKUP(A664,EXISTENCIAS!B666:G1841,6,0)","v":5}]
[664,{"$f":"VLOOKUP(A665,EXISTENCIAS!B667:G1842,6,0)","v":8}]
[665,{"$f":"VLOOKUP(A666,EXISTENCIAS!B668:G1843,6,0)","v":13}]
[666,{"$f":"VLOOKUP(A667,EXISTENCIAS!B669:G1844,6,0)","v":1}]
[667,{"$f":"VLOOKUP(A668,EXISTENCIAS!B670:G1845,6,0)","v":16}]
[668,{"$f":"VLOOKUP(A669,EXISTENCIAS!B671:G1846,6,0)","v":0}]
[669,{"$f":"VLOOKUP(A670,EXISTENCIAS!B672:G1847,6,0)","v":2}]
[670,{"$f":"VLOOKUP(A671,EXISTENCIAS!B673:G1848,6,0)","v":0}]
[671,{"$f":"VLOOKUP(A672,EXISTENCIAS!B674:G1849,6,0)","v":4}]
[672,{"$f":"VLOOKUP(A673,EXISTENCIAS!B675:G1850,6,0)","v":0}]
[673,{"$f":"VLOOKUP(A674,EXISTENCIAS!B676:G1851,6,0)","v":4}]
[674,{"$f":"VLOOKUP(A675,EXISTENCIAS!B677:G1852,6,0)","v":0}]
[675,{"$f":"VLOOKUP(A676,EXISTENCIAS!B678:G1853,6,0)","v":0}]
[676,{"$f":"VLOOKUP(A677,EXISTENCIAS!B679:G1854,6,0)","v":0}]
[677,{"$f":"VLOOKUP(A678,EXISTENCIAS!B680:G1855,6,0)","v":0}]
[678,{"$f":"VLOOKUP(A679,EXISTENCIAS!B681:G1856,6,0)","v":0}]
[679,{"$f":"VLOOKUP(A680,EXISTENCIAS!B682:G1857,6,0)","v":4}]
[680,{"$f":"VLOOKUP(A681,EXISTENCIAS!B683:G1858,6,0)","v":0}]
[681,{"$f":"VLOOKUP(A682,EXISTENCIAS!B684:G1859,6,0)","v":0}]
[682,{"$f":"VLOOKUP(A683,EXISTENCIAS!B685:G1860,6,0)","v":0}]
[683,{"$f":"VLOOKUP(A684,EXISTENCIAS!B686:G1861,6,0)","v":0}]
[684,{"$f":"VLOOKUP(A685,EXISTENCIAS!B687:G1862,6,0)","v":0}]
[685,{"$f":"VLOOKUP(A686,EXISTENCIAS!B688:G1863,6,0)","v":0}]
[686,{"$f":"VLOOKUP(A687,EXISTENCIAS!B689:G1864,6,0)","v":1}]
[687,{"$f":"VLOOKUP(A688,EXISTENCIAS!B690:G1865,6,0)","v":0}]
[688,{"$f":"VLOOKUP(A689,EXISTENCIAS!B691:G1866,6,0)","v":0}]
[689,{"$f":"VLOOKUP(A690,EXISTENCIAS!B692:G1867,6,0)","v":0}]
[690,{"$f":"VLOOKUP(A691,EXISTENCIAS!B693:G1868,6,0)","v":3}]
[691,{"$f":"VLOOKUP(A692,EXISTENCIAS!B694:G1869,6,0)","v":0}]
[692,{"$f":"VLOOKUP(A693,EXISTENCIAS!B695:G1870,6,0)","v":0}]
[693,{"$f":"VLOOKUP(A694,EXISTENCIAS!B696:G1871,6,0)","v":0}]
[694,{"$f":"VLOOKUP(A695,EXISTENCIAS!B697:G1872,6,0)","v":0}]
[695,{"$f":"VLOOKUP(A696,EXISTENCIAS!B698:G1873,6,0)","v":0}]
[696,{"$f":"VLOOKUP(A697,EXISTENCIAS!B699:G1874,6,0)","v":0}]
[697,{"$f":"VLOOKUP(A698,EXISTENCIAS!B700:G1875,6,0)","v":0}]
[698,{"$f":"VLOOKUP(A699,EXISTENCIAS!B701:G1876,6,0)","v":0}]
[699,{"$f":"VLOOKUP(A700,EXISTENCIAS!B702:G1877,6,0)","v":2}]
[700,{"$f":"VLOOKUP(A701,EXISTENCIAS!B703:G1878,6,0)","v":7}]
[701,{"$f":"VLOOKUP(A702,EXISTENCIAS!B704:G1879,6,0)","v":0}]
[702,{"$f":"VLOOKUP(A703,EXISTENCIAS!B705:G1880,6,0)","v":0}]
[703,{"$f":"VLOOKUP(A704,EXISTENCIAS!B706:G1881,6,0)","v":18}]
[704,{"$f":"VLOOKUP(A705,EXISTENCIAS!B707:G1882,6,0)","v":9}]
[705,{"$f":"VLOOKUP(A706,EXISTENCIAS!B708:G1883,6,0)","v":15}]
[706,{"$f":"VLOOKUP(A707,EXISTENCIAS!B709:G1884,6,0)","v":13}]
[707,{"$f":"VLOOKUP(A708,EXISTENCIAS!B710:G1885,6,0)","v":0}]
[708,{"$f":"VLOOKUP(A709,EXISTENCIAS!B711:G1886,6,0)","v":20}]
[709,{"$f":"VLOOKUP(A710,EXISTENCIAS!B712:G1887,6,0)","v":0}]
[710,{"$f":"VLOOKUP(A711,EXISTENCIAS!B713:G1888,6,0)","v":5}]
[711,{"$f":"VLOOKUP(A712,EXISTENCIAS!B714:G1889,6,0)","v":33}]
[712,{"$f":"VLOOKUP(A713,EXISTENCIAS!B715:G1890,6,0)","v":0}]
[713,{"$f":"VLOOKUP(A714,EXISTENCIAS!B716:G1891,6,0)","v":25}]
[714,{"$f":"VLOOKUP(A715,EXISTENCIAS!B717:G1892,6,0)","v":0}]
[715,{"$f":"VLOOKUP(A716,EXISTENCIAS!B718:G1893,6,0)","v":2}]
[716,{"$f":"VLOOKUP(A717,EXISTENCIAS!B719:G1894,6,0)","v":0}]
[717,{"$f":"VLOOKUP(A718,EXISTENCIAS!B720:G1895,6,0)","v":0}]
[718,{"$f":"VLOOKUP(A719,EXISTENCIAS!B721:G1896,6,0)","v":0}]
[719,{"$f":"VLOOKUP(A720,EXISTENCIAS!B722:G1897,6,0)","v":0}]
[720,{"$f":"VLOOKUP(A721,EXISTENCIAS!B723:G1898,6,0)","v":0}]
[721,{"$f":"VLOOKUP(A722,EXISTENCIAS!B724:G1899,6,0)","v":0}]
[722,{"$f":"VLOOKUP(A723,EXISTENCIAS!B725:G1900,6,0)","v":0}]
[723,{"$f":"VLOOKUP(A724,EXISTENCIAS!B726:G1901,6,0)","v":0}]
[724,{"$f":"VLOOKUP(A725,EXISTENCIAS!B727:G1902,6,0)","v":0}]
[725,{"$f":"VLOOKUP(A726,EXISTENCIAS!B728:G1903,6,0)","v":0}]
[726,{"$f":"VLOOKUP(A727,EXISTENCIAS!B729:G1904,6,0)","v":18}]
[727,{"$f":"VLOOKUP(A728,EXISTENCIAS!B730:G1905,6,0)","v":0}]
[728,{"$f":"VLOOKUP(A729,EXISTENCIAS!B731:G1906,6,0)","v":0}]
[729,{"$f":"VLOOKUP(A730,EXISTENCIAS!B732:G1907,6,0)","v":24}]
[730,{"$f":"VLOOKUP(A731,EXISTENCIAS!B733:G1908,6,0)","v":2}]
[731,{"$f":"VLOOKUP(A732,EXISTENCIAS!B734:G1909,6,0)","v":16}]
[732,{"$f":"VLOOKUP(A733,EXISTENCIAS!B735:G1910,6,0)","v":0}]
[733,{"$f":"VLOOKUP(A734,EXISTENCIAS!B736:G1911,6,0)","v":0}]
[734,{"$f":"VLOOKUP(A735,EXISTENCIAS!B737:G1912,6,0)","v":0}]
[735,{"$f":"VLOOKUP(A736,EXISTENCIAS!B738:G1913,6,0)","v":0}]
[736,{"$f":"VLOOKUP(A737,EXISTENCIAS!B739:G1914,6,0)","v":0}]
[737,{"$f":"VLOOKUP(A738,EXISTENCIAS!B740:G1915,6,0)","v":0}]
[738,{"$f":"VLOOKUP(A739,EXISTENCIAS!B741:G1916,6,0)","v":0}]
[739,{"$f":"VLOOKUP(A740,EXISTENCIAS!B742:G1917,6,0)","v":6}]
[740,{"$f":"VLOOKUP(A741,EXISTENCIAS!B743:G1918,6,0)","v":0}]
[741,{"$f":"VLOOKUP(A742,EXISTENCIAS!B744:G1919,6,0)","v":0}]
[742,{"$f":"VLOOKUP(A743,EXISTENCIAS!B745:G1920,6,0)","v":0}]
[743,{"$f":"VLOOKUP(A744,EXISTENCIAS!B746:G1921,6,0)","v":0}]
[744,{"$f":"VLOOKUP(A745,EXISTENCIAS!B747:G1922,6,0)","v":0}]
[745,{"$f":"VLOOKUP(A746,EXISTENCIAS!B748:G1923,6,0)","v":13}]
[746,{"$f":"VLOOKUP(A747,EXISTENCIAS!B749:G1924,6,0)","v":0}]
[747,{"$f":"VLOOKUP(A748,EXISTENCIAS!B750:G1925,6,0)","v":0}]
[748,{"$f":"VLOOKUP(A749,EXISTENCIAS!B751:G1926,6,0)","v":0}]
[749,{"$f":"VLOOKUP(A750,EXISTENCIAS!B752:G1927,6,0)","v":0}]
[750,{"$f":"VLOOKUP(A751,EXISTENCIAS!B753:G1928,6,0)","v":11}]
[751,{"$f":"VLOOKUP(A752,EXISTENCIAS!B754:G1929,6,0)","v":0}]
[752,{"$f":"VLOOKUP(A753,EXISTENCIAS!B755:G1930,6,0)","v":1}]
[753,{"$f":"VLOOKUP(A754,EXISTENCIAS!B756:G1931,6,0)","v":0}]
[754,{"$f":"VLOOKUP(A755,EXISTENCIAS!B757:G1932,6,0)","v":0}]
[755,{"$f":"VLOOKUP(A756,EXISTENCIAS!B758:G1933,6,0)","v":3}]
[756,{"$f":"VLOOKUP(A757,EXISTENCIAS!B759:G1934,6,0)","v":24}]
[757,{"$f":"VLOOKUP(A758,EXISTENCIAS!B760:G1935,6,0)","v":3}]
[758,{"$f":"VLOOKUP(A759,EXISTENCIAS!B761:G1936,6,0)","v":9}]
[759,{"$f":"VLOOKUP(A760,EXISTENCIAS!B762:G1937,6,0)","v":2}]
[760,{"$f":"VLOOKUP(A761,EXISTENCIAS!B763:G1938,6,0)","v":0}]
[761,{"$f":"VLOOKUP(A762,EXISTENCIAS!B764:G1939,6,0)","v":4}]
[762,{"$f":"VLOOKUP(A763,EXISTENCIAS!B765:G1940,6,0)","v":7}]
[763,{"$f":"VLOOKUP(A764,EXISTENCIAS!B766:G1941,6,0)","v":0}]
[764,{"$f":"VLOOKUP(A765,EXISTENCIAS!B767:G1942,6,0)","v":0}]
[765,{"$f":"VLOOKUP(A766,EXISTENCIAS!B768:G1943,6,0)","v":15}]
[766,{"$f":"VLOOKUP(A767,EXISTENCIAS!B769:G1944,6,0)","v":4}]
[767,{"$f":"VLOOKUP(A768,EXISTENCIAS!B770:G1945,6,0)","v":0}]
[768,{"$f":"VLOOKUP(A769,EXISTENCIAS!B771:G1946,6,0)","v":0}]
[769,{"$f":"VLOOKUP(A770,EXISTENCIAS!B772:G1947,6,0)","v":16}]
[770,{"$f":"VLOOKUP(A771,EXISTENCIAS!B773:G1948,6,0)","v":15}]
[771,{"$f":"VLOOKUP(A772,EXISTENCIAS!B774:G1949,6,0)","v":14}]
[772,{"$f":"VLOOKUP(A773,EXISTENCIAS!B775:G1950,6,0)","v":0}]
[773,{"$f":"VLOOKUP(A774,EXISTENCIAS!B776:G1951,6,0)","v":5}]
[774,{"$f":"VLOOKUP(A775,EXISTENCIAS!B777:G1952,6,0)","v":0}]
[775,{"$f":"VLOOKUP(A776,EXISTENCIAS!B778:G1953,6,0)","v":0}]
[776,{"$f":"VLOOKUP(A777,EXISTENCIAS!B779:G1954,6,0)","v":13}]
[777,{"$f":"VLOOKUP(A778,EXISTENCIAS!B780:G1955,6,0)","v":11}]
[778,{"$f":"VLOOKUP(A779,EXISTENCIAS!B781:G1956,6,0)","v":9}]
[779,{"$f":"VLOOKUP(A780,EXISTENCIAS!B782:G1957,6,0)","v":0}]
[780,{"$f":"VLOOKUP(A781,EXISTENCIAS!B783:G1958,6,0)","v":0}]
[781,{"$f":"VLOOKUP(A782,EXISTENCIAS!B784:G1959,6,0)","v":8}]
[782,{"$f":"VLOOKUP(A783,EXISTENCIAS!B785:G1960,6,0)","v":0}]
[783,{"$f":"VLOOKUP(A784,EXISTENCIAS!B786:G1961,6,0)","v":4}]
[784,{"$f":"VLOOKUP(A785,EXISTENCIAS!B787:G1962,6,0)","v":0}]
[785,{"$f":"VLOOKUP(A786,EXISTENCIAS!B788:G1963,6,0)","v":0}]
[786,{"$f":"VLOOKUP(A787,EXISTENCIAS!B789:G1964,6,0)","v":3}]
[787,{"$f":"VLOOKUP(A788,EXISTENCIAS!B790:G1965,6,0)","v":2}]
[788,{"$f":"VLOOKUP(A789,EXISTENCIAS!B791:G1966,6,0)","v":26}]
[789,{"$f":"VLOOKUP(A790,EXISTENCIAS!B792:G1967,6,0)","v":6}]
[790,{"$f":"VLOOKUP(A791,EXISTENCIAS!B793:G1968,6,0)","v":41}]
[791,{"$f":"VLOOKUP(A792,EXISTENCIAS!B794:G1969,6,0)","v":11}]
[792,{"$f":"VLOOKUP(A793,EXISTENCIAS!B795:G1970,6,0)","v":5}]
[793,{"$f":"VLOOKUP(A794,EXISTENCIAS!B796:G1971,6,0)","v":0}]
[794,{"$f":"VLOOKUP(A795,EXISTENCIAS!B797:G1972,6,0)","v":0}]
[795,{"$f":"VLOOKUP(A796,EXISTENCIAS!B798:G1973,6,0)","v":0}]
[796,{"$f":"VLOOKUP(A797,EXISTENCIAS!B799:G1974,6,0)","v":3}]
[797,{"$f":"VLOOKUP(A798,EXISTENCIAS!B800:G1975,6,0)","v":6}]
[798,{"$f":"VLOOKUP(A799,EXISTENCIAS!B801:G1976,6,0)","v":19}]
[799,{"$f":"VLOOKUP(A800,EXISTENCIAS!B802:G1977,6,0)","v":15}]
[800,{"$f":"VLOOKUP(A801,EXISTENCIAS!B803:G1978,6,0)","v":0}]
[801,{"$f":"VLOOKUP(A802,EXISTENCIAS!B804:G1979,6,0)","v":0}]
[802,{"$f":"VLOOKUP(A803,EXISTENCIAS!B805:G1980,6,0)","v":7}]
[803,{"$f":"VLOOKUP(A804,EXISTENCIAS!B806:G1981,6,0)","v":0}]
[804,{"$f":"VLOOKUP(A805,EXISTENCIAS!B807:G1982,6,0)","v":0}]
[805,{"$f":"VLOOKUP(A806,EXISTENCIAS!B808:G1983,6,0)","v":0}]
[806,{"$f":"VLOOKUP(A807,EXISTENCIAS!B809:G1984,6,0)","v":0}]
[807,{"$f":"VLOOKUP(A808,EXISTENCIAS!B810:G1985,6,0)","v":0}]
[808,{"$f":"VLOOKUP(A809,EXISTENCIAS!B811:G1986,6,0)","v":0}]
[809,{"$f":"VLOOKUP(A810,EXISTENCIAS!B812:G1987,6,0)","v":0}]
[810,{"$f":"VLOOKUP(A811,EXISTENCIAS!B813:G1988,6,0)","v":0}]
[811,{"$f":"VLOOKUP(A812,EXISTENCIAS!B814:G1989,6,0)","v":0}]
[812,{"$f":"VLOOKUP(A813,EXISTENCIAS!B815:G1990,6,0)","v":0}]
[813,{"$f":"VLOOKUP(A814,EXISTENCIAS!B816:G1991,6,0)","v":0}]
[814,{"$f":"VLOOKUP(A815,EXISTENCIAS!B817:G1992,6,0)","v":0}]
[815,{"$f":"VLOOKUP(A816,EXISTENCIAS!B818:G1993,6,0)","v":6}]
[816,{"$f":"VLOOKUP(A817,EXISTENCIAS!B819:G1994,6,0)","v":0}]
[817,{"$f":"VLOOKUP(A818,EXISTENCIAS!B820:G1995,6,0)","v":0}]
[818,{"$f":"VLOOKUP(A819,EXISTENCIAS!B821:G1996,6,0)","v":0}]
[819,{"$f":"VLOOKUP(A820,EXISTENCIAS!B822:G1997,6,0)","v":12}]
[820,{"$f":"VLOOKUP(A821,EXISTENCIAS!B823:G1998,6,0)","v":4}]
[821,{"$f":"VLOOKUP(A822,EXISTENCIAS!B824:G1999,6,0)","v":10}]
[822,{"$f":"VLOOKUP(A823,EXISTENCIAS!B825:G2000,6,0)","v":0}]
[823,{"$f":"VLOOKUP(A824,EXISTENCIAS!B826:G2001,6,0)","v":0}]
[824,{"$f":"VLOOKUP(A825,EXISTENCIAS!B827:G2002,6,0)","v":0}]
[825,{"$f":"VLOOKUP(A826,EXISTENCIAS!B828:G2003,6,0)","v":10}]
[826,{"$f":"VLOOKUP(A827,EXISTENCIAS!B829:G2004,6,0)","v":0}]
[827,{"$f":"VLOOKUP(A828,EXISTENCIAS!B830:G2005,6,0)","v":0}]
[828,{"$f":"VLOOKUP(A829,EXISTENCIAS!B831:G2006,6,0)","v":8}]
[829,{"$f":"VLOOKUP(A830,EXISTENCIAS!B832:G2007,6,0)","v":5}]
[830,{"$f":"VLOOKUP(A831,EXISTENCIAS!B833:G2008,6,0)","v":0}]
[831,{"$f":"VLOOKUP(A832,EXISTENCIAS!B834:G2009,6,0)","v":0}]
[832,{"$f":"VLOOKUP(A833,EXISTENCIAS!B835:G2010,6,0)","v":16}]
[833,{"$f":"VLOOKUP(A834,EXISTENCIAS!B836:G2011,6,0)","v":0}]
[834,{"$f":"VLOOKUP(A835,EXISTENCIAS!B837:G2012,6,0)","v":0}]
[835,{"$f":"VLOOKUP(A836,EXISTENCIAS!B838:G2013,6,0)","v":4}]
[836,{"$f":"VLOOKUP(A837,EXISTENCIAS!B839:G2014,6,0)","v":0}]
[837,{"$f":"VLOOKUP(A838,EXISTENCIAS!B840:G2015,6,0)","v":0}]
[838,{"$f":"VLOOKUP(A839,EXISTENCIAS!B841:G2016,6,0)","v":0}]
[839,{"$f":"VLOOKUP(A840,EXISTENCIAS!B842:G2017,6,0)","v":0}]
[840,{"$f":"VLOOKUP(A841,EXISTENCIAS!B843:G2018,6,0)","v":0}]
[841,{"$f":"VLOOKUP(A842,EXISTENCIAS!B844:G2019,6,0)","v":5}]
[842,{"$f":"VLOOKUP(A843,EXISTENCIAS!B845:G2020,6,0)","v":0}]
[843,{"$f":"VLOOKUP(A844,EXISTENCIAS!B846:G2021,6,0)","v":13}]
[844,{"$f":"VLOOKUP(A845,EXISTENCIAS!B847:G2022,6,0)","v":0}]
[845,{"$f":"VLOOKUP(A846,EXISTENCIAS!B848:G2023,6,0)","v":14}]
[846,{"$f":"VLOOKUP(A847,EXISTENCIAS!B849:G2024,6,0)","v":0}]
[847,{"$f":"VLOOKUP(A848,EXISTENCIAS!B850:G2025,6,0)","v":0}]
[848,{"$f":"VLOOKUP(A849,EXISTENCIAS!B851:G2026,6,0)","v":8}]
[849,{"$f":"VLOOKUP(A850,EXISTENCIAS!B852:G2027,6,0)","v":3}]
[850,{"$f":"VLOOKUP(A851,EXISTENCIAS!B853:G2028,6,0)","v":14}]
[851,{"$f":"VLOOKUP(A852,EXISTENCIAS!B854:G2029,6,0)","v":0}]
[852,{"$f":"VLOOKUP(A853,EXISTENCIAS!B855:G2030,6,0)","v":0}]
[853,{"$f":"VLOOKUP(A854,EXISTENCIAS!B856:G2031,6,0)","v":0}]
[854,{"$f":"VLOOKUP(A855,EXISTENCIAS!B857:G2032,6,0)","v":0}]
[855,{"$f":"VLOOKUP(A856,EXISTENCIAS!B858:G2033,6,0)","v":0}]
[856,{"$f":"VLOOKUP(A857,EXISTENCIAS!B859:G2034,6,0)","v":0}]
[857,{"$f":"VLOOKUP(A858,EXISTENCIAS!B860:G2035,6,0)","v":0}]
[858,{"$f":"VLOOKUP(A859,EXISTENCIAS!B861:G2036,6,0)","v":0}]
[859,{"$f":"VLOOKUP(A860,EXISTENCIAS!B862:G2037,6,0)","v":0}]
[860,{"$f":"VLOOKUP(A861,EXISTENCIAS!B863:G2038,6,0)","v":0}]
[861,{"$f":"VLOOKUP(A862,EXISTENCIAS!B864:G2039,6,0)","v":0}]
[862,{"$f":"VLOOKUP(A863,EXISTENCIAS!B865:G2040,6,0)","v":7}]
[863,{"$f":"VLOOKUP(A864,EXISTENCIAS!B866:G2041,6,0)","v":0}]
[864,{"$f":"VLOOKUP(A865,EXISTENCIAS!B867:G2042,6,0)","v":0}]
[865,{"$f":"VLOOKUP(A866,EXISTENCIAS!B868:G2043,6,0)","v":0}]
[866,{"$f":"VLOOKUP(A867,EXISTENCIAS!B869:G2044,6,0)","v":0}]
[867,{"$f":"VLOOKUP(A868,EXISTENCIAS!B870:G2045,6,0)","v":40}]
[868,{"$f":"VLOOKUP(A869,EXISTENCIAS!B871:G2046,6,0)","v":0}]
[869,{"$f":"VLOOKUP(A870,EXISTENCIAS!B872:G2047,6,0)","v":0}]
[870,{"$f":"VLOOKUP(A871,EXISTENCIAS!B873:G2048,6,0)","v":0}]
[871,{"$f":"VLOOKUP(A872,EXISTENCIAS!B874:G2049,6,0)","v":0}]
[872,{"$f":"VLOOKUP(A873,EXISTENCIAS!B875:G2050,6,0)","v":24}]
[873,{"$f":"VLOOKUP(A874,EXISTENCIAS!B876:G2051,6,0)","v":14}]
[874,{"$f":"VLOOKUP(A875,EXISTENCIAS!B877:G2052,6,0)","v":2}]
[875,{"$f":"VLOOKUP(A876,EXISTENCIAS!B878:G2053,6,0)","v":7}]
[876,{"$f":"VLOOKUP(A877,EXISTENCIAS!B879:G2054,6,0)","v":7}]
[877,{"$f":"VLOOKUP(A878,EXISTENCIAS!B880:G2055,6,0)","v":10}]
[878,{"$f":"VLOOKUP(A879,EXISTENCIAS!B881:G2056,6,0)","v":0}]
[879,{"$f":"VLOOKUP(A880,EXISTENCIAS!B882:G2057,6,0)","v":0}]
[880,{"$f":"VLOOKUP(A881,EXISTENCIAS!B883:G2058,6,0)","v":9}]
[881,{"$f":"VLOOKUP(A882,EXISTENCIAS!B884:G2059,6,0)","v":0}]
[882,{"$f":"VLOOKUP(A883,EXISTENCIAS!B885:G2060,6,0)","v":0}]
[883,{"$f":"VLOOKUP(A884,EXISTENCIAS!B886:G2061,6,0)","v":42}]
[884,{"$f":"VLOOKUP(A885,EXISTENCIAS!B887:G2062,6,0)","v":0}]
[885,{"$f":"VLOOKUP(A886,EXISTENCIAS!B888:G2063,6,0)","v":0}]
[886,{"$f":"VLOOKUP(A887,EXISTENCIAS!B889:G2064,6,0)","v":1}]
[887,{"$f":"VLOOKUP(A888,EXISTENCIAS!B890:G2065,6,0)","v":0}]
[888,{"$f":"VLOOKUP(A889,EXISTENCIAS!B891:G2066,6,0)","v":0}]
[889,{"$f":"VLOOKUP(A890,EXISTENCIAS!B892:G2067,6,0)","v":0}]
[890,{"$f":"VLOOKUP(A891,EXISTENCIAS!B893:G2068,6,0)","v":51}]
[891,{"$f":"VLOOKUP(A892,EXISTENCIAS!B894:G2069,6,0)","v":26}]
[892,{"$f":"VLOOKUP(A893,EXISTENCIAS!B895:G2070,6,0)","v":6}]
[893,{"$f":"VLOOKUP(A894,EXISTENCIAS!B896:G2071,6,0)","v":0}]
[894,{"$f":"VLOOKUP(A895,EXISTENCIAS!B897:G2072,6,0)","v":7}]
[895,{"$f":"VLOOKUP(A896,EXISTENCIAS!B898:G2073,6,0)","v":0}]
[896,{"$f":"VLOOKUP(A897,EXISTENCIAS!B899:G2074,6,0)","v":33}]
[897,{"$f":"VLOOKUP(A898,EXISTENCIAS!B900:G2075,6,0)","v":0}]
[898,{"$f":"VLOOKUP(A899,EXISTENCIAS!B901:G2076,6,0)","v":0}]
[899,{"$f":"VLOOKUP(A900,EXISTENCIAS!B902:G2077,6,0)","v":0}]
[900,{"$f":"VLOOKUP(A901,EXISTENCIAS!B903:G2078,6,0)","v":17}]
[901,{"$f":"VLOOKUP(A902,EXISTENCIAS!B904:G2079,6,0)","v":0}]
[902,{"$f":"VLOOKUP(A903,EXISTENCIAS!B905:G2080,6,0)","v":0}]
[903,{"$f":"VLOOKUP(A904,EXISTENCIAS!B906:G2081,6,0)","v":0}]
[904,{"$f":"VLOOKUP(A905,EXISTENCIAS!B907:G2082,6,0)","v":0}]
[905,{"$f":"VLOOKUP(A906,EXISTENCIAS!B908:G2083,6,0)","v":0}]
[906,{"$f":"VLOOKUP(A907,EXISTENCIAS!B909:G2084,6,0)","v":6}]
[907,{"$f":"VLOOKUP(A908,EXISTENCIAS!B910:G2085,6,0)","v":10}]
[908,{"$f":"VLOOKUP(A909,EXISTENCIAS!B911:G2086,6,0)","v":0}]
[909,{"$f":"VLOOKUP(A910,EXISTENCIAS!B912:G2087,6,0)","v":18}]
[910,{"$f":"VLOOKUP(A911,EXISTENCIAS!B913:G2088,6,0)","v":0}]
[911,{"$f":"VLOOKUP(A912,EXISTENCIAS!B914:G2089,6,0)","v":0}]
[912,{"$f":"VLOOKUP(A913,EXISTENCIAS!B915:G2090,6,0)","v":0}]
[913,{"$f":"VLOOKUP(A914,EXISTENCIAS!B916:G2091,6,0)","v":0}]
[914,{"$f":"VLOOKUP(A915,EXISTENCIAS!B917:G2092,6,0)","v":17}]
[915,{"$f":"VLOOKUP(A916,EXISTENCIAS!B918:G2093,6,0)","v":0}]
[916,{"$f":"VLOOKUP(A917,EXISTENCIAS!B919:G2094,6,0)","v":0}]
[917,{"$f":"VLOOKUP(A918,EXISTENCIAS!B920:G2095,6,0)","v":0}]
[918,{"$f":"VLOOKUP(A919,EXISTENCIAS!B921:G2096,6,0)","v":0}]
[919,{"$f":"VLOOKUP(A920,EXISTENCIAS!B922:G2097,6,0)","v":8}]
[920,{"$f":"VLOOKUP(A921,EXISTENCIAS!B923:G2098,6,0)","v":0}]
[921,{"$f":"VLOOKUP(A922,EXISTENCIAS!B924:G2099,6,0)","v":2}]
[922,{"$f":"VLOOKUP(A923,EXISTENCIAS!B925:G2100,6,0)","v":0}]
[923,{"$f":"VLOOKUP(A924,EXISTENCIAS!B926:G2101,6,0)","v":8}]
[924,{"$f":"VLOOKUP(A925,EXISTENCIAS!B927:G2102,6,0)","v":0}]
[925,{"$f":"VLOOKUP(A926,EXISTENCIAS!B928:G2103,6,0)","v":9}]
[926,{"$f":"VLOOKUP(A927,EXISTENCIAS!B929:G2104,6,0)","v":7}]
[927,{"$f":"VLOOKUP(A928,EXISTENCIAS!B930:G2105,6,0)","v":0}]
[928,{"$f":"VLOOKUP(A929,EXISTENCIAS!B931:G2106,6,0)","v":0}]
[929,{"$f":"VLOOKUP(A930,EXISTENCIAS!B932:G2107,6,0)","v":0}]
[930,{"$f":"VLOOKUP(A931,EXISTENCIAS!B933:G2108,6,0)","v":4}]
[931,{"$f":"VLOOKUP(A932,EXISTENCIAS!B934:G2109,6,0)","v":0}]
[932,{"$f":"VLOOKUP(A933,EXISTENCIAS!B935:G2110,6,0)","v":0}]
[933,{"$f":"VLOOKUP(A934,EXISTENCIAS!B936:G2111,6,0)","v":0}]
[934,{"$f":"VLOOKUP(A935,EXISTENCIAS!B937:G2112,6,0)","v":0}]
[935,{"$f":"VLOOKUP(A936,EXISTENCIAS!B938:G2113,6,0)","v":0}]
[936,{"$f":"VLOOKUP(A937,EXISTENCIAS!B939:G2114,6,0)","v":2}]
[937,{"$f":"VLOOKUP(A938,EXISTENCIAS!B940:G2115,6,0)","v":10}]
[938,{"$f":"VLOOKUP(A939,EXISTENCIAS!B941:G2116,6,0)","v":16}]
[939,{"$f":"VLOOKUP(A940,EXISTENCIAS!B942:G2117,6,0)","v":21}]
[940,{"$f":"VLOOKUP(A941,EXISTENCIAS!B943:G2118,6,0)","v":0}]
[941,{"$f":"VLOOKUP(A942,EXISTENCIAS!B944:G2119,6,0)","v":0}]
[942,{"$f":"VLOOKUP(A943,EXISTENCIAS!B945:G2120,6,0)","v":5}]
[943,{"$f":"VLOOKUP(A944,EXISTENCIAS!B946:G2121,6,0)","v":0}]
[944,{"$f":"VLOOKUP(A945,EXISTENCIAS!B947:G2122,6,0)","v":4}]
[945,{"$f":"VLOOKUP(A946,EXISTENCIAS!B948:G2123,6,0)","v":6}]
[946,{"$f":"VLOOKUP(A947,EXISTENCIAS!B949:G2124,6,0)","v":0}]
[947,{"$f":"VLOOKUP(A948,EXISTENCIAS!B950:G2125,6,0)","v":9}]
[948,{"$f":"VLOOKUP(A949,EXISTENCIAS!B951:G2126,6,0)","v":0}]
[949,{"$f":"VLOOKUP(A950,EXISTENCIAS!B952:G2127,6,0)","v":0}]
[950,{"$f":"VLOOKUP(A951,EXISTENCIAS!B953:G2128,6,0)","v":18}]
[951,{"$f":"VLOOKUP(A952,EXISTENCIAS!B954:G2129,6,0)","v":0}]
[952,{"$f":"VLOOKUP(A953,EXISTENCIAS!B955:G2130,6,0)","v":0}]
[953,{"$f":"VLOOKUP(A954,EXISTENCIAS!B956:G2131,6,0)","v":0}]
[954,{"$f":"VLOOKUP(A955,EXISTENCIAS!B957:G2132,6,0)","v":0}]
[955,{"$f":"VLOOKUP(A956,EXISTENCIAS!B958:G2133,6,0)","v":0}]
[956,{"$f":"VLOOKUP(A957,EXISTENCIAS!B959:G2134,6,0)","v":0}]
[957,{"$f":"VLOOKUP(A958,EXISTENCIAS!B960:G2135,6,0)","v":0}]
[958,{"$f":"VLOOKUP(A959,EXISTENCIAS!B961:G2136,6,0)","v":0}]
[959,{"$f":"VLOOKUP(A960,EXISTENCIAS!B962:G2137,6,0)","v":0}]
[960,{"$f":"VLOOKUP(A961,EXISTENCIAS!B963:G2138,6,0)","v":0}]
[961,{"$f":"VLOOKUP(A962,EXISTENCIAS!B964:G2139,6,0)","v":3}]
[962,{"$f":"VLOOKUP(A963,EXISTENCIAS!B965:G2140,6,0)","v":2}]
[963,{"$f":"VLOOKUP(A964,EXISTENCIAS!B966:G2141,6,0)","v":0}]
[964,{"$f":"VLOOKUP(A965,EXISTENCIAS!B967:G2142,6,0)","v":1}]
[965,{"$f":"VLOOKUP(A966,EXISTENCIAS!B968:G2143,6,0)","v":4}]
[966,{"$f":"VLOOKUP(A967,EXISTENCIAS!B969:G2144,6,0)","v":0}]
[967,{"$f":"VLOOKUP(A968,EXISTENCIAS!B970:G2145,6,0)","v":5}]
[968,{"$f":"VLOOKUP(A969,EXISTENCIAS!B971:G2146,6,0)","v":9}]
[969,{"$f":"VLOOKUP(A970,EXISTENCIAS!B972:G2147,6,0)","v":4}]
[970,{"$f":"VLOOKUP(A971,EXISTENCIAS!B973:G2148,6,0)","v":0}]
[971,{"$f":"VLOOKUP(A972,EXISTENCIAS!B974:G2149,6,0)","v":4}]
[972,{"$f":"VLOOKUP(A973,EXISTENCIAS!B975:G2150,6,0)","v":17}]
[973,{"$f":"VLOOKUP(A974,EXISTENCIAS!B976:G2151,6,0)","v":15}]
[974,{"$f":"VLOOKUP(A975,EXISTENCIAS!B977:G2152,6,0)","v":17}]
[975,{"$f":"VLOOKUP(A976,EXISTENCIAS!B978:G2153,6,0)","v":6}]
[976,{"$f":"VLOOKUP(A977,EXISTENCIAS!B979:G2154,6,0)","v":4}]
[977,{"$f":"VLOOKUP(A978,EXISTENCIAS!B980:G2155,6,0)","v":0}]
[978,{"$f":"VLOOKUP(A979,EXISTENCIAS!B981:G2156,6,0)","v":20}]
[979,{"$f":"VLOOKUP(A980,EXISTENCIAS!B982:G2157,6,0)","v":22}]
[980,{"$f":"VLOOKUP(A981,EXISTENCIAS!B983:G2158,6,0)","v":14}]
[981,{"$f":"VLOOKUP(A982,EXISTENCIAS!B984:G2159,6,0)","v":0}]
[982,{"$f":"VLOOKUP(A983,EXISTENCIAS!B985:G2160,6,0)","v":5}]
[983,{"$f":"VLOOKUP(A984,EXISTENCIAS!B986:G2161,6,0)","v":0}]
[984,{"$f":"VLOOKUP(A985,EXISTENCIAS!B987:G2162,6,0)","v":0}]
[985,{"$f":"VLOOKUP(A986,EXISTENCIAS!B988:G2163,6,0)","v":0}]
[986,{"$f":"VLOOKUP(A987,EXISTENCIAS!B989:G2164,6,0)","v":0}]
[987,{"$f":"VLOOKUP(A988,EXISTENCIAS!B990:G2165,6,0)","v":9}]
[988,{"$f":"VLOOKUP(A989,EXISTENCIAS!B991:G2166,6,0)","v":9}]
[989,{"$f":"VLOOKUP(A990,EXISTENCIAS!B992:G2167,6,0)","v":11}]
[990,{"$f":"VLOOKUP(A991,EXISTENCIAS!B993:G2168,6,0)","v":0}]
[991,{"$f":"VLOOKUP(A992,EXISTENCIAS!B994:G2169,6,0)","v":0}]
[992,{"$f":"VLOOKUP(A993,EXISTENCIAS!B995:G2170,6,0)","v":1}]
[993,{"$f":"VLOOKUP(A994,EXISTENCIAS!B996:G2171,6,0)","v":0}]
[994,{"$f":"VLOOKUP(A995,EXISTENCIAS!B997:G2172,6,0)","v":5}]
[995,{"$f":"VLOOKUP(A996,EXISTENCIAS!B998:G2173,6,0)","v":0}]
[996,{"$f":"VLOOKUP(A997,EXISTENCIAS!B999:G2174,6,0)","v":4}]
[997,{"$f":"VLOOKUP(A998,EXISTENCIAS!B1000:G2175,6,0)","v":5}]
[998,{"$f":"VLOOKUP(A999,EXISTENCIAS!B1001:G2176,6,0)","v":0}]
[999,{"$f":"VLOOKUP(A1000,EXISTENCIAS!B1002:G2177,6,0)","v":14}]
[1000,{"$f":"VLOOKUP(A1001,EXISTENCIAS!B1003:G2178,6,0)","v":5}]
[1001,{"$f":"VLOOKUP(A1002,EXISTENCIAS!B1004:G2179,6,0)","v":0}]
[1002,{"$f":"VLOOKUP(A1003,EXISTENCIAS!B1005:G2180,6,0)","v":3}]
[1003,{"$f":"VLOOKUP(A1004,EXISTENCIAS!B1006:G2181,6,0)","v":4}]
[1004,{"$f":"VLOOKUP(A1005,EXISTENCIAS!B1007:G2182,6,0)","v":0}]
[1005,{"$f":"VLOOKUP(A1006,EXISTENCIAS!B1008:G2183,6,0)","v":3}]
[1006,{"$f":"VLOOKUP(A1007,EXISTENCIAS!B1009:G2184,6,0)","v":6}]
[1007,{"$f":"VLOOKUP(A1008,EXISTENCIAS!B1010:G2185,6,0)","v":15}]
[1008,{"$f":"VLOOKUP(A1009,EXISTENCIAS!B1011:G2186,6,0)","v":0}]
[1009,{"$f":"VLOOKUP(A1010,EXISTENCIAS!B1012:G2187,6,0)","v":0}]
[1010,{"$f":"VLOOKUP(A1011,EXISTENCIAS!B1013:G2188,6,0)","v":6}]
[1011,{"$f":"VLOOKUP(A1012,EXISTENCIAS!B1014:G2189,6,0)","v":1}]
[1012,{"$f":"VLOOKUP(A1013,EXISTENCIAS!B1015:G2190,6,0)","v":0}]
[1013,{"$f":"VLOOKUP(A1014,EXISTENCIAS!B1016:G2191,6,0)","v":0}]
[1014,{"$f":"VLOOKUP(A1015,EXISTENCIAS!B1017:G2192,6,0)","v":94}]
[1015,{"$f":"VLOOKUP(A1016,EXISTENCIAS!B1018:G2193,6,0)","v":89}]
[1016,{"$f":"VLOOKUP(A1017,EXISTENCIAS!B1019:G2194,6,0)","v":82}]
[1017,{"$f":"VLOOKUP(A1018,EXISTENCIAS!B1020:G2195,6,0)","v":207}]
[1018,{"$f":"VLOOKUP(A1019,EXISTENCIAS!B1021:G2196,6,0)","v":0}]
[1019,{"$f":"VLOOKUP(A1020,EXISTENCIAS!B1022:G2197,6,0)","v":44}]
[1020,{"$f":"VLOOKUP(A1021,EXISTENCIAS!B1023:G2198,6,0)","v":17}]
[1021,{"$f":"VLOOKUP(A1022,EXISTENCIAS!B1024:G2199,6,0)","v":29}]
[1022,{"$f":"VLOOKUP(A1023,EXISTENCIAS!B1025:G2200,6,0)","v":9}]
[1023,{"$f":"VLOOKUP(A1024,EXISTENCIAS!B1026:G2201,6,0)","v":0}]
[1024,{"$f":"VLOOKUP(A1025,EXISTENCIAS!B1027:G2202,6,0)","v":0}]
[1025,{"$f":"VLOOKUP(A1026,EXISTENCIAS!B1028:G2203,6,0)","v":55}]
[1026,{"$f":"VLOOKUP(A1027,EXISTENCIAS!B1029:G2204,6,0)","v":167}]
[1027,{"$f":"VLOOKUP(A1028,EXISTENCIAS!B1030:G2205,6,0)","v":0}]
[1028,{"$f":"VLOOKUP(A1029,EXISTENCIAS!B1031:G2206,6,0)","v":56}]
[1029,{"$f":"VLOOKUP(A1030,EXISTENCIAS!B1032:G2207,6,0)","v":0}]
[1030,{"$f":"VLOOKUP(A1031,EXISTENCIAS!B1033:G2208,6,0)","v":0}]
[1031,{"$f":"VLOOKUP(A1032,EXISTENCIAS!B1034:G2209,6,0)","v":34}]
[1032,{"$f":"VLOOKUP(A1033,EXISTENCIAS!B1035:G2210,6,0)","v":47}]
[1033,{"$f":"VLOOKUP(A1034,EXISTENCIAS!B1036:G2211,6,0)","v":23}]
[1034,{"$f":"VLOOKUP(A1035,EXISTENCIAS!B1037:G2212,6,0)","v":26}]
[1035,{"$f":"VLOOKUP(A1036,EXISTENCIAS!B1038:G2213,6,0)","v":29}]
[1036,{"$f":"VLOOKUP(A1037,EXISTENCIAS!B1039:G2214,6,0)","v":0}]
[1037,{"$f":"VLOOKUP(A1038,EXISTENCIAS!B1040:G2215,6,0)","v":0}]
[1038,{"$f":"VLOOKUP(A1039,EXISTENCIAS!B1041:G2216,6,0)","v":47}]
[1039,{"$f":"VLOOKUP(A1040,EXISTENCIAS!B1042:G2217,6,0)","v":5}]
[1040,{"$f":"VLOOKUP(A1041,EXISTENCIAS!B1043:G2218,6,0)","v":8}]
[1041,{"$f":"VLOOKUP(A1042,EXISTENCIAS!B1044:G2219,6,0)","v":0}]
[1042,{"$f":"VLOOKUP(A1043,EXISTENCIAS!B1045:G2220,6,0)","v":29}]
[1043,{"$f":"VLOOKUP(A1044,EXISTENCIAS!B1046:G2221,6,0)","v":60}]
[1044,{"$f":"VLOOKUP(A1045,EXISTENCIAS!B1047:G2222,6,0)","v":0}]
[1045,{"$f":"VLOOKUP(A1046,EXISTENCIAS!B1048:G2223,6,0)","v":33}]
[1046,{"$f":"VLOOKUP(A1047,EXISTENCIAS!B1049:G2224,6,0)","v":37}]
[1047,{"$f":"VLOOKUP(A1048,EXISTENCIAS!B1050:G2225,6,0)","v":32}]
[1048,{"$f":"VLOOKUP(A1049,EXISTENCIAS!B1051:G2226,6,0)","v":41}]
[1049,{"$f":"VLOOKUP(A1050,EXISTENCIAS!B1052:G2227,6,0)","v":2}]
[1050,{"$f":"VLOOKUP(A1051,EXISTENCIAS!B1053:G2228,6,0)","v":33}]
[1051,{"$f":"VLOOKUP(A1052,EXISTENCIAS!B1054:G2229,6,0)","v":31}]
[1052,{"$f":"VLOOKUP(A1053,EXISTENCIAS!B1055:G2230,6,0)","v":58}]
[1053,{"$f":"VLOOKUP(A1054,EXISTENCIAS!B1056:G2231,6,0)","v":10}]
[1054,{"$f":"VLOOKUP(A1055,EXISTENCIAS!B1057:G2232,6,0)","v":67}]
[1055,{"$f":"VLOOKUP(A1056,EXISTENCIAS!B1058:G2233,6,0)","v":65}]
[1056,{"$f":"VLOOKUP(A1057,EXISTENCIAS!B1059:G2234,6,0)","v":4}]
[1057,{"$f":"VLOOKUP(A1058,EXISTENCIAS!B1060:G2235,6,0)","v":0}]
[1058,{"$f":"VLOOKUP(A1059,EXISTENCIAS!B1061:G2236,6,0)","v":35}]
[1059,{"$f":"VLOOKUP(A1060,EXISTENCIAS!B1062:G2237,6,0)","v":17}]
[1060,{"$f":"VLOOKUP(A1061,EXISTENCIAS!B1063:G2238,6,0)","v":25}]
[1061,{"$f":"VLOOKUP(A1062,EXISTENCIAS!B1064:G2239,6,0)","v":22}]
[1062,{"$f":"VLOOKUP(A1063,EXISTENCIAS!B1065:G2240,6,0)","v":15}]
[1063,{"$f":"VLOOKUP(A1064,EXISTENCIAS!B1066:G2241,6,0)","v":126}]
[1064,{"$f":"VLOOKUP(A1065,EXISTENCIAS!B1067:G2242,6,0)","v":162}]
[1065,{"$f":"VLOOKUP(A1066,EXISTENCIAS!B1068:G2243,6,0)","v":125}]
[1066,{"$f":"VLOOKUP(A1067,EXISTENCIAS!B1069:G2244,6,0)","v":11}]
[1067,{"$f":"VLOOKUP(A1068,EXISTENCIAS!B1070:G2245,6,0)","v":1}]
[1068,{"$f":"VLOOKUP(A1069,EXISTENCIAS!B1071:G2246,6,0)","v":31}]
[1069,{"$f":"VLOOKUP(A1070,EXISTENCIAS!B1072:G2247,6,0)","v":38}]
[1070,{"$f":"VLOOKUP(A1071,EXISTENCIAS!B1073:G2248,6,0)","v":111}]
[1071,{"$f":"VLOOKUP(A1072,EXISTENCIAS!B1074:G2249,6,0)","v":35}]
[1072,{"$f":"VLOOKUP(A1073,EXISTENCIAS!B1075:G2250,6,0)","v":20}]
[1073,{"$f":"VLOOKUP(A1074,EXISTENCIAS!B1076:G2251,6,0)","v":4}]
[1074,{"$f":"VLOOKUP(A1075,EXISTENCIAS!B1077:G2252,6,0)","v":1}]
[1075,{"$f":"VLOOKUP(A1076,EXISTENCIAS!B1078:G2253,6,0)","v":24}]
[1076,{"$f":"VLOOKUP(A1077,EXISTENCIAS!B1079:G2254,6,0)","v":28}]
[1077,{"$f":"VLOOKUP(A1078,EXISTENCIAS!B1080:G2255,6,0)","v":0}]
[1078,{"$f":"VLOOKUP(A1079,EXISTENCIAS!B1081:G2256,6,0)","v":15}]
[1079,{"$f":"VLOOKUP(A1080,EXISTENCIAS!B1082:G2257,6,0)","v":6}]
[1080,{"$f":"VLOOKUP(A1081,EXISTENCIAS!B1083:G2258,6,0)","v":28}]
[1081,{"$f":"VLOOKUP(A1082,EXISTENCIAS!B1084:G2259,6,0)","v":118}]
[1082,{"$f":"VLOOKUP(A1083,EXISTENCIAS!B1085:G2260,6,0)","v":4}]
[1083,{"$f":"VLOOKUP(A1084,EXISTENCIAS!B1086:G2261,6,0)","v":19}]
[1084,{"$f":"VLOOKUP(A1085,EXISTENCIAS!B1087:G2262,6,0)","v":26}]
[1085,{"$f":"VLOOKUP(A1086,EXISTENCIAS!B1088:G2263,6,0)","v":9}]
[1086,{"$f":"VLOOKUP(A1087,EXISTENCIAS!B1089:G2264,6,0)","v":66}]
[1087,{"$f":"VLOOKUP(A1088,EXISTENCIAS!B1090:G2265,6,0)","v":20}]
[1088,{"$f":"VLOOKUP(A1089,EXISTENCIAS!B1091:G2266,6,0)","v":32}]
[1089,{"$f":"VLOOKUP(A1090,EXISTENCIAS!B1092:G2267,6,0)","v":0}]
[1090,{"$f":"VLOOKUP(A1091,EXISTENCIAS!B1093:G2268,6,0)","v":22}]
[1091,{"$f":"VLOOKUP(A1092,EXISTENCIAS!B1094:G2269,6,0)","v":8}]
[1092,{"$f":"VLOOKUP(A1093,EXISTENCIAS!B1095:G2270,6,0)","v":25}]
[1093,{"$f":"VLOOKUP(A1094,EXISTENCIAS!B1096:G2271,6,0)","v":27}]
[1094,{"$f":"VLOOKUP(A1095,EXISTENCIAS!B1097:G2272,6,0)","v":13}]
[1095,{"$f":"VLOOKUP(A1096,EXISTENCIAS!B1098:G2273,6,0)","v":14}]
[1096,{"$f":"VLOOKUP(A1097,EXISTENCIAS!B1099:G2274,6,0)","v":5}]
[1097,{"$f":"VLOOKUP(A1098,EXISTENCIAS!B1100:G2275,6,0)","v":5}]
[1098,{"$f":"VLOOKUP(A1099,EXISTENCIAS!B1101:G2276,6,0)","v":13}]
[1099,{"$f":"VLOOKUP(A1100,EXISTENCIAS!B1102:G2277,6,0)","v":9}]
[1100,{"$f":"VLOOKUP(A1101,EXISTENCIAS!B1103:G2278,6,0)","v":0}]
[1101,{"$f":"VLOOKUP(A1102,EXISTENCIAS!B1104:G2279,6,0)","v":9}]
[1102,{"$f":"VLOOKUP(A1103,EXISTENCIAS!B1105:G2280,6,0)","v":11}]
[1103,{"$f":"VLOOKUP(A1104,EXISTENCIAS!B1106:G2281,6,0)","v":77}]
[1104,{"$f":"VLOOKUP(A1105,EXISTENCIAS!B1107:G2282,6,0)","v":18}]
[1105,{"$f":"VLOOKUP(A1106,EXISTENCIAS!B1108:G2283,6,0)","v":19}]
[1106,{"$f":"VLOOKUP(A1107,EXISTENCIAS!B1109:G2284,6,0)","v":14}]
[1107,{"$f":"VLOOKUP(A1108,EXISTENCIAS!B1110:G2285,6,0)","v":0}]
[1108,{"$f":"VLOOKUP(A1109,EXISTENCIAS!B1111:G2286,6,0)","v":70}]
[1109,{"$f":"VLOOKUP(A1110,EXISTENCIAS!B1112:G2287,6,0)","v":10}]
[1110,{"$f":"VLOOKUP(A1111,EXISTENCIAS!B1113:G2288,6,0)","v":21}]
[1111,{"$f":"VLOOKUP(A1112,EXISTENCIAS!B1114:G2289,6,0)","v":5}]
[1112,{"$f":"VLOOKUP(A1113,EXISTENCIAS!B1115:G2290,6,0)","v":18}]
[1113,{"$f":"VLOOKUP(A1114,EXISTENCIAS!B1116:G2291,6,0)","v":30}]
[1114,{"$f":"VLOOKUP(A1115,EXISTENCIAS!B1117:G2292,6,0)","v":39}]
[1115,{"$f":"VLOOKUP(A1116,EXISTENCIAS!B1118:G2293,6,0)","v":0}]
[1116,{"$f":"VLOOKUP(A1117,EXISTENCIAS!B1119:G2294,6,0)","v":0}]
[1117,{"$f":"VLOOKUP(A1118,EXISTENCIAS!B1120:G2295,6,0)","v":8}]
[1118,{"$f":"VLOOKUP(A1119,EXISTENCIAS!B1121:G2296,6,0)","v":2}]
[1119,{"$f":"VLOOKUP(A1120,EXISTENCIAS!B1122:G2297,6,0)","v":60}]
[1120,{"$f":"VLOOKUP(A1121,EXISTENCIAS!B1123:G2298,6,0)","v":24}]
[1121,{"$f":"VLOOKUP(A1122,EXISTENCIAS!B1124:G2299,6,0)","v":19}]
[1122,{"$f":"VLOOKUP(A1123,EXISTENCIAS!B1125:G2300,6,0)","v":37}]
[1123,{"$f":"VLOOKUP(A1124,EXISTENCIAS!B1126:G2301,6,0)","v":27}]
[1124,{"$f":"VLOOKUP(A1125,EXISTENCIAS!B1127:G2302,6,0)","v":18}]
[1125,{"$f":"VLOOKUP(A1126,EXISTENCIAS!B1128:G2303,6,0)","v":6}]
[1126,{"$f":"VLOOKUP(A1127,EXISTENCIAS!B1129:G2304,6,0)","v":9}]
[1127,{"$f":"VLOOKUP(A1128,EXISTENCIAS!B1130:G2305,6,0)","v":3}]
[1128,{"$f":"VLOOKUP(A1129,EXISTENCIAS!B1131:G2306,6,0)","v":1}]
[1129,{"$f":"VLOOKUP(A1130,EXISTENCIAS!B1132:G2307,6,0)","v":2}]
[1130,{"$f":"VLOOKUP(A1131,EXISTENCIAS!B1133:G2308,6,0)","v":18}]
[1131,{"$f":"VLOOKUP(A1132,EXISTENCIAS!B1134:G2309,6,0)","v":56}]
[1132,{"$f":"VLOOKUP(A1133,EXISTENCIAS!B1135:G2310,6,0)","v":1}]
[1133,{"$f":"VLOOKUP(A1134,EXISTENCIAS!B1136:G2311,6,0)","v":1}]
[1134,{"$f":"VLOOKUP(A1135,EXISTENCIAS!B1137:G2312,6,0)","v":0}]
[1135,{"$f":"VLOOKUP(A1136,EXISTENCIAS!B1138:G2313,6,0)","v":0}]
[1136,{"$f":"VLOOKUP(A1137,EXISTENCIAS!B1139:G2314,6,0)","v":1}]
[1137,{"$f":"VLOOKUP(A1138,EXISTENCIAS!B1140:G2315,6,0)","v":25}]
[1138,{"$f":"VLOOKUP(A1139,EXISTENCIAS!B1141:G2316,6,0)","v":18}]
[1139,{"$f":"VLOOKUP(A1140,EXISTENCIAS!B1142:G2317,6,0)","v":13}]
[1140,{"$f":"VLOOKUP(A1141,EXISTENCIAS!B1143:G2318,6,0)","v":176}]
[1141,{"$f":"VLOOKUP(A1142,EXISTENCIAS!B1144:G2319,6,0)","v":24}]
[1142,{"$f":"VLOOKUP(A1143,EXISTENCIAS!B1145:G2320,6,0)","v":7}]
[1143,{"$f":"VLOOKUP(A1144,EXISTENCIAS!B1146:G2321,6,0)","v":18}]
[1144,{"$f":"VLOOKUP(A1145,EXISTENCIAS!B1147:G2322,6,0)","v":0}]
[1145,{"$f":"VLOOKUP(A1146,EXISTENCIAS!B1148:G2323,6,0)","v":5}]
[1146,{"$f":"VLOOKUP(A1147,EXISTENCIAS!B1149:G2324,6,0)","v":0}]
[1147,{"$f":"VLOOKUP(A1148,EXISTENCIAS!B1150:G2325,6,0)","v":27}]
[1148,{"$f":"VLOOKUP(A1149,EXISTENCIAS!B1151:G2326,6,0)","v":19}]
[1149,{"$f":"VLOOKUP(A1150,EXISTENCIAS!B1152:G2327,6,0)","v":2}]
[1150,{"$f":"VLOOKUP(A1151,EXISTENCIAS!B1153:G2328,6,0)","v":0}]
[1151,{"$f":"VLOOKUP(A1152,EXISTENCIAS!B1154:G2329,6,0)","v":15}]
[1152,{"$f":"VLOOKUP(A1153,EXISTENCIAS!B1155:G2330,6,0)","v":18}]
[1153,{"$f":"VLOOKUP(A1154,EXISTENCIAS!B1156:G2331,6,0)","v":14}]
[1154,{"$f":"VLOOKUP(A1155,EXISTENCIAS!B1157:G2332,6,0)","v":15}]
[1155,{"$f":"VLOOKUP(A1156,EXISTENCIAS!B1158:G2333,6,0)","v":33}]
[1156,{"$f":"VLOOKUP(A1157,EXISTENCIAS!B1159:G2334,6,0)","v":14}]
[1157,{"$f":"VLOOKUP(A1158,EXISTENCIAS!B1160:G2335,6,0)","v":9}]
[1158,{"$f":"VLOOKUP(A1159,EXISTENCIAS!B1161:G2336,6,0)","v":14}]
[1159,{"$f":"VLOOKUP(A1160,EXISTENCIAS!B1162:G2337,6,0)","v":33}]
[1160,{"$f":"VLOOKUP(A1161,EXISTENCIAS!B1163:G2338,6,0)","v":10}]
[1161,{"$f":"VLOOKUP(A1162,EXISTENCIAS!B1164:G2339,6,0)","v":5}]
[1162,{"$f":"VLOOKUP(A1163,EXISTENCIAS!B1165:G2340,6,0)","v":27}]
[1163,{"$f":"VLOOKUP(A1164,EXISTENCIAS!B1166:G2341,6,0)","v":18}]
[1164,{"$f":"VLOOKUP(A1165,EXISTENCIAS!B1167:G2342,6,0)","v":6}]
[1165,{"$f":"VLOOKUP(A1166,EXISTENCIAS!B1168:G2343,6,0)","v":3}]
[1166,{"$f":"VLOOKUP(A1167,EXISTENCIAS!B1169:G2344,6,0)","v":17}]
[1167,{"$f":"VLOOKUP(A1168,EXISTENCIAS!B1170:G2345,6,0)","v":26}]
[1168,{"$f":"VLOOKUP(A1169,EXISTENCIAS!B1171:G2346,6,0)","v":2}]
[1169,{"$f":"VLOOKUP(A1170,EXISTENCIAS!B1172:G2347,6,0)","v":13}]
[1170,{"$f":"VLOOKUP(A1171,EXISTENCIAS!B1173:G2348,6,0)","v":19}]
[1171,{"$f":"VLOOKUP(A1172,EXISTENCIAS!B1174:G2349,6,0)","v":8}]
[1172,{"$f":"VLOOKUP(A1173,EXISTENCIAS!B1175:G2350,6,0)","v":15}]
[1173,{"$f":"VLOOKUP(A1174,EXISTENCIAS!B1176:G2351,6,0)","v":6}]
[1174,{"$f":"VLOOKUP(A1175,EXISTENCIAS!B1177:G2352,6,0)","v":14}]
[1175,{"$f":"VLOOKUP(A1176,EXISTENCIAS!B1178:G2353,6,0)","v":0}]
["P123",4]